Workbook
Name _Hlk37260845: 'PC05_Ind01. Taxa d’abandonament'!$A$31
Name index: #REF!
Name indicadors: #REF!
Name Indivadors2: #REF!

Sheet Índex
A2: #VALUE! | C2: Quadre de comandaments
A5: Codi SGIQ | B5: Nom | C5: Propietat | D5: Responsable | E5: Objectiu | F5: Compliment | G5: Procés vinculat
A6: PE01_Ind01. | B6: Percentatge d’objectius assolits del pla estratègic de la Facultat de Biociències | C6: Degà/ana | D6: Gestió de qualitat | E6: ≥ 75% | G6: PE.01. Definició de la política i objectius de qualitat
A7: PE01_Ind02. | B7: Número de reunions amb els vicerectorats | C7: Degà/ana | D7: Secretari o Secretaria del Deganat | E7: ≥ 3 l’any | G7: PE.01. Definició de la política i objectius de qualitat
A8: PE01_Ind03. | B8: Número de reunions de la comissió de igualtat | C8: Degà/ana | D8: Secretari o Secretaria del Deganat | E8: ≥ 1 l’any | G8: PE.01. Definició de la política i objectius de qualitat
A9: PE01_Ind04. | B9: Número de reunions de la comissió de sostenibilitat | C9: Degà/ana | D9: Secretari o Secretaria del Deganat | E9: ≥ 1 l’any | G9: PE.01. Definició de la política i objectius de qualitat
A10: PE01_Ind05. | B10: Número d’actes i esdeveniments organitzats per la facultat | C10: Degà/ana | D10: Secretari o Secretaria del Deganat | E10: ≥1 l’any | G10: PE.01. Definició de la política i objectius de qualitat
A11: PE02_Ind01. | B11: Percentatge de propostes de millora implementades per curs acadèmic (no motivades per la CAE) | C11: Vicedeganat de Qualitat i Pla Estratègic | D11: Gestió de qualitat | E11: ≥80% | G11: PE02. Definició, desplegament i seguiment del Sistema de Garantia Intern
A12: PE02_Ind02. | B12: Percentatge de processos actualitzats | C12: Vicedeganat de Qualitat i Pla Estratègic | D12: Gestió de qualitat | E12: 1 | G12: PE02. Definició, desplegament i seguiment del Sistema de Garantia Intern
A13: PE02_Ind03. | B13: Percentatge de propostes de millora indicades per la CAE assolides | C13: Vicedeganat de Qualitat i Pla Estratègic | D13: Gestió de qualitat | E13: Objectiu global: 100% Objectiu anual: experimentar increment respecte l’anterior revisió SGIQ | G13: PE02. Definició, desplegament i seguiment del Sistema de Garantia Intern
A14: PE03_Ind01. | B14: Percentatge de propostes de titulacions implantades respecte a les aprovades pel Centre | C14: Vicedeganat de Qualitat i Pla Estratègic | D14: Gestió de qualitat | E14: 1 | G14: PE03. Creació i disseny de noves titulacions. Mapa de titulacions
A15: PE04_Ind01. | B15: Percentatge Hores d’Impartició Docent a l'Aula (HIDA) de professorat permanent en els graus | C15: Degà/ana | D15: Gestió de qualitat | E15: >65% | G15: PE04. Definició de la política del PDI
A16: PE04_Ind02. | B16: Valoració mitjana a l’afirmació “Estic satisfet/a amb el professorat” (Grau/Màster) | C16: Degà/ana | D16: Gestió de qualitat | E16: > Mitjana de la UAB | G16: PE04. Definició de la política del PDI
A17: PE04_Ind03. | B17: Nou indicador: Número de cursos a mida proposats per la facultat | C17: Degà/ana | D17: Secretari o Secretaria del Deganat | E17: Mínim 1/any | G17: PE04. Definició de la política del PDI
A18: PE05_Ind01. | B18: Percentatge de Taules de Mesures Correctores (TMC) retornades derivades de les avaluacions de riscos laborals respecte del total de rebudes | C18: Degà/ana | D18: Administració de Centre | E18: 1 | G18: PE05. Política i Gestió del PTGAS
A19: PE05_Ind02. | B19: Nombre d’informes d’avaluació retornats respecte del total rebuts | C19: Degà/ana | D19: Administració de Centre | E19: 1 | G19: PE05. Política i Gestió del PTGAS
A20: PE05_Ind03. | B20: Nombre d’informes de vigilància de la Salut retornats respecte dels rebuts | C20: Degà/ana | D20: Administració de Centre | E20: 1 | G20: PE05. Política i Gestió del PTGAS
A21: PE05_Ind04. | B21: Percentatge d’hores de formació realitzades respecte el curs anterior | C21: Degà/ana | D21: Unitat de Formació | E21: 1 | G21: PE05. Política i Gestió del PTGAS
A22: PC01_Ind01. | B22: Ràtio de Sol·licituds de nou accés respecte a la oferta de places als Graus | C22: Vicedeganat d'Estudis i Programació | D22: Responsable Gestió acadèmica | E22: Ràtio de sol·licituds vs places ≥10 | G22: PC01. Definició de perfils d'ingrés, graduació i accés als estudis
A23: PC01_Ind02. | B23: Notes de tall d’entrada de l’alumnat de nou accés als Graus | C23: Vicedeganat d'Estudis i Programació | D23: Responsable Gestió acadèmica | E23: >11 | G23: PC01. Definició de perfils d'ingrés, graduació i accés als estudis
A24: PC01_Ind03 | B24: Sol·licituds de nou accés respecte a la oferta de places (Màsters) | C24: Vicedeganat d'Estudis i Programació | D24: Responsable Gestió acadèmica | E24: Doble de sol·licituds o més respecte al número de places | G24: PC01. Definició de perfils d'ingrés, graduació i accés als estudis
A25: PC01_Ind04. | B25: Valoració mitjana a l’afirmació “La formació rebuda m’ha permès millorar les capacitats per a l’activitat professional” | C25: Vicedeganat d'Estudis i Programació | D25: Gestió de qualitat | E25: ≥Mitjana UAB | G25: PC01. Definició de perfils d'ingrés, graduació i accés als estudis
A26: PC01_Ind05. | B26: Valoració mitjana a les afirmacions “Tornaria a triar la mateixa titulació” i “Tornaria a triar la mateixa Universitat” | C26: Vicedeganat d'Estudis i Programació | D26: Gestió de qualitat | E26: ≥Mitjana UAB | G26: PC01. Definició de perfils d'ingrés, graduació i accés als estudis
A27: PC02_Ind01. | B27: Nombre d’assignatures que imparteixen docència en anglès | C27: Vicedeganat d'Estudis i Programació | D27: Gestió de programació docent | E27: Observar un increment | G27: PC02. Planificació i Programació docent de les assignatures.
A28: PC02_Ind02. | B28: Ràtio programada de les titulacions de grau vs. ràtio teòrica | C28: Vicedeganat d'Estudis i Programació | D28: Gestió de programació docent | E28: Ràtio de 13 | G28: PC02. Planificació i Programació docent de les assignatures.
A29: PC02_Ind03. | B29: Valoració mitjana a l’afirmació “Fins ara s’ha seguit la programació de l’assignatura que s’explica a la guia docent dels Graus”(Enquesta assignatura/mòdul) | C29: Vicedeganat d'Estudis i Programació | D29: Gestió de qualitat | E29: ≥ Mitjana UAB | G29: PC02. Planificació i Programació docent de les assignatures.
A30: PC02_Ind04. | B30: Valoració mitjana a l’afirmació “Fins ara s’ha seguit la programació de l’assignatura que s’explica a la guia docent dels Màsters” (Enquesta assignatura/mòdul) | C30: Vicedeganat d'Estudis i Programació | D30: Gestió de qualitat | E30: ≥ Mitjana UAB | G30: PC02. Planificació i Programació docent de les assignatures.
A31: PC02_Ind05. | B31: Valoració mitjana a la pregunta “Hi ha hagut una bona coordinació en els continguts de les assignatures per evitar solapaments” (Enquesta assignatura/mòdul) | C31: Vicedeganat d'Estudis i Programació | D31: Gestió de qualitat | E31: ≥ Mitjana UAB | G31: PC02. Planificació i Programació docent de les assignatures.
A32: PC03.1_Ind01. | B32: Percentatge d’alumnat graduat que ha realitzat les PAE | C32: Vicedeganat de Mobilitat, Pràctiques i Promoció | D32: Gestió de pràctiques | E32: >90% Valorar l’interès de l’alumnat per fer PAE | G32: PC03.1.Gestió de les Pràctiques Externes
A33: PC03.1_Ind02. | B33: Nombre d’alumnat de Grau matriculat desglossat per lloc de pràctiques (UAB, Extern i Extern estranger) | C33: Vicedeganat de Mobilitat, Pràctiques i Promoció | D33: Gestió de pràctiques | E33: >60% Valorar l’interès de l’alumnat per fer les pràctiques en centres externs | G33: PC03.1.Gestió de les Pràctiques Externes
... A57: PC07_Ind04. | B57: Valoració mitjana a l’enquesta de mòduls màster | C57: Vicedeganat de Qualitat i Pla Estratègic | D57: Gestió de qualitat | E57: ≥ mitjana de la UAB | G57: PC07. Seguiment, avaluació i millora de les titulacions
A58: PC08_Ind01. | B58: Percentatge de propostes de modificació presentades a AQU amb informe favorable definitiu | C58: Vicedeganat d'Estudis i Programació | D58: Gestió de qualitat | E58: 1 | G58: PC08. Modificació i extinció de titulacions
A59: PC08_Ind02. | B59: “Percentatge de modificacions aprovades per l’AQU i implementades que són degudes a l’adaptació del RD822/2021” | C59: Vicedeganat d'Estudis i Programació | D59: Gestió de qualitat | E59: 0.7 | G59: PC08. Modificació i extinció de titulacions
A60: PC08_Ind03. | B60: “Informes definitius de l’AQU amb valoració favorable i amb observacions susceptibles a generar propostes de millora de la titulació” | C60: Vicedeganat d'Estudis i Programació | D60: Gestió de qualitat | E60: 0.3 | G60: PC08. Modificació i extinció de titulacions
A61: PC09_Ind01. | B61: Nombre de titulacions amb estructura d’arxiu uniforme. | C61: Vicedegenat de Qualitat i Pla Estratègic | D61: Gestió de qualitat | E61: >95 % | G61: PC09. Gestió documental
A62: PC09_Ind02. | B62: Numero d’actes centralitzades de les comissions delegades | C62: Vicedegenat de Qualitat i Pla Estratègic | D62: Secretari o Secretaria del Deganat | E62: >95 % | G62: PC09. Gestió documental
A63: PC10_Ind01. | B63: Percentatge de propostes de millora indicades per la CAE assolides | C63: Vicedegenat de Qualitat i Pla Estratègic | D63: Gestió de qualitat | E63: Objectiu global: 100% Objectiu anual: experimentar increment respecte l’anterior revisió SGIQ | G63: PC10. Certificació de la implantació del SGIQ i Acreditació de Centre
A64: PS01_Ind01. | B64: Nombre de professorat de la Facultat que participa en cursos de formació per a personal docent de la UAB | C64: Degà/ana | D64: Secretari o Secretaria del Deganat | E64: Observar un increment | G64: PS01. Formació del PDI, innovació docent i avaluació de l’activitat docent
A65: PS01_Ind02. | B65: Nombre de projectes de millora / innovació docent concedits respecte els demanats | C65: Degà/ana | D65: Unitat de Formació Innovació Docent | E65: Èxit >75% | G65: PS01. Formació del PDI, innovació docent i avaluació de l’activitat docent
A66: PS01_Ind03. | B66: Percentatge de professorat avaluat favorablement en relació al total d’avaluats | C66: Degà/ana | D66: Unitat de Formació Innovació Docent | E66: 1 | G66: PS01. Formació del PDI, innovació docent i avaluació de l’activitat docent
A67: PS01_Ind04. | B67: Realització de la Jornada d'Innovació docent de la Facultat | C67: Degà/ana | D67: Secretari o secretària del Deganat | E67: Realització biennal | G67: PS01. Formació del PDI, innovació docent i avaluació de l’activitat docent
A68: PS02_Ind01. | B68: Nombre de queixes rebudes relacionades amb els serveis | C68: Vicedeganat d'Economia, d'Infraestructures i de Formació Permanent | D68: Administració de Centre | E68: < Que el curs anterior | G68: PS02. Gestió de Serveis
A69: PS02_Ind02. | B69: L’ús del Campus Virtual ha facilitat el meu aprenentatge (Enquestes sobre el grau de satisfacció de les persones egressades) | C69: Vicedeganat d'Economia, d'Infraestructures i de Formació Permanent | D69: Gestió de qualitat | E69: ≥ Mitjana graus UAB | G69: PS02. Gestió de Serveis
A70: PS02_Ind03. | B70: Els recursos facilitats pels serveis de biblioteca i de suport a la docència han respost a les meves necessitats (Enquestes sobre el grau de satisfacció de les persones egressades) | C70: Vicedeganat d'Economia, d'Infraestructures i de Formació Permanent | D70: Gestió de qualitat | E70: ≥ Mitjana graus UAB | G70: PS02. Gestió de Serveis
A71: PS03_Ind01. | B71: Nombre de queixes rebudes relacionades amb els recursos materials | C71: Vicedeganat d'Economia, d'Infraestructures i de Formació Permanent | D71: Administració de Centre | E71: < Curs anterior | G71: PS03. Gestió de Recursos econòmics i materials
A72: PS03_Ind02. | B72: Mitjana de la pregunta “Les instal·lacions (aules i espais docents) han estat adequades per afavorir el meu aprenentatge” (enquesta egressats i egressades) | C72: Vicedeganat d'Economia, d'Infraestructures i de Formació Permanent | D72: Gestió de qualitat | E72: ≥ Mitjana graus UAB | G72: PS03. Gestió de Recursos econòmics i materials
A73: PS03_Ind03. | B73: Mitjana de la pregunta "Els recursos facilitats pels serveis de biblioteca i de suport a la docència han respost a les meves necessitats” (enquesta egressats i egressades) | C73: Vicedeganat d'Economia, d'Infraestructures i de Formació Permanent | D73: Gestió de qualitat | E73: ≥ Mitjana graus UAB | G73: PS03. Gestió de Recursos econòmics i materials
A74: PS03_Ind04. | B74: Inversió realitzada en l’adquisició i la renovació d’equipament de laboratoris i altres espais docents especialitzats | C74: Vicedeganat d'Economia, d'Infraestructures i de Formació Permanent | D74: Administració de Centre | E74: ≥ 40.000 | G74: PS03. Gestió de Recursos econòmics i materials
A75: PS03_Ind05. | B75: Inversió destinada a millorar la prevenció de riscos als laboratoris docents | C75: Vicedeganat d'Economia, d'Infraestructures i de Formació Permanent | D75: Administració de Centre | E75: ≥ 7.000 | G75: PS03. Gestió de Recursos econòmics i materials
A76: PS04_Ind01. | B76: Valoració mitjana de la pregunta “Els serveis de suport a l’estudiant (informació, matriculació, tràmits acadèmics, beques, orientació, etc.) m’han ofert un bon assessorament i atenció” | C76: Vicedeganat d’Estudis i Programació | D76: Responsable Gestió acadèmica | E76: ≥ mitjana de la UAB | G76: PS04. Organització acadèmica
A77: PS05_Ind01. | B77: Temps mitjà de resposta (15 dies hàbils) | C77: Degà/ana | D77: Administració de Centre | E77: <15 dies | G77: PS05. Gestió de queixes, suggeriments i felicitacions
A78: PS05_Ind02. | B78: Taxa d’eficàcia: percentatge de suggeriments i queixes respostes dins del termini establert (15 dies hàbils) | C78: Degà/ana | D78: OQD | E78: 1 | G78: PS05. Gestió de queixes, suggeriments i felicitacions
A79: PS05_Ind03. | B79: Valoració mitjana a la pregunta “He rebut resposta adequada a les meves queixes i suggeriments” | C79: Degà/ana | D79: OQD | E79: ≥3 | G79: PS05. Gestió de queixes, suggeriments i felicitacions
A80: PS06_Ind01. | B80: Índex de participació en les enquestes d'assignatures | C80: Vicedegenat de Qualitat i Pla Estratègic | D80: Gestió de qualitat | E80: > Mitjana de la UAB | G80: PS06. Satisfacció dels grups d'interès
A81: PS06_Ind02. | B81: Índex de participació en les enquestes de persones recent titulades | C81: Vicedegenat de Qualitat i Pla Estratègic | D81: Gestió de qualitat | E81: > Mitjana de la UAB | G81: PS06. Satisfacció dels grups d'interès
A82: PS07_Ind01. | B82: Nombre d’activitats d'inserció laboral | C82: Vicedeganat d'Alumnat, Ocupabilitat i Comunicació | D82: Secretari o secretària del Deganat | E82: Mínim 7 per curs acadèmic | G82: PS07. Inserció laboral dels titulats
A83: PS07_Ind02. | B83: Nombre de titulats que integren el grup #Bio-alumni_UAB dins la xarxa LinkedIn | C83: Vicedeganat d'Alumnat, Ocupabilitat i Comunicació | D83: Secretari o secretària del Deganat | E83: Mínim 600 | G83: PS07. Inserció laboral dels titulats
A84: PS08_Ind01. | B84: La informació referent a la titulació al web és accessible i m’ha resultat útil (Enquestes UAB sobre el grau de satisfacció dels titulats) | C84: Degà/ana | D84: Gestió de qualitat | E84: ≥ a la mitjana de la UAB | G84: PS08. Informació pública i rendició de comptes
A85: PS08_Ind02. | B85: Accés públic als acords de les comissions i grups de treball | C85: Degà/ana | D85: Secretari o secretària del Deganat | E85: Mínim 1/any Comissió delegada | G85: PS08. Informació pública i rendició de comptes

Sheet Quadre de comandament
A1: PC08_Ind01. | B1: Percentatge de propostes de modificació presentades a AQU amb informe favorable definitiu | C1: Vicedeganat d'Estudis i Programació | D1: Gestió de qualitat | E1: 1 | G1: PC08. Modificació i extinció de titulacions
A2: PC03.1_Ind04. | B2: Valoració de l'alumnat per part dels tutors externs i tutores externes de pràctiques externes | C2: Vicedeganat de Mobilitat, Pràctiques i Promoció | D2: Gestió de pràctiques | E2: Valoració notable o superior | G2: PC03.1.Gestió de les Pràctiques Externes
A3: PS01_Ind04. | B3: Realització de la Jornada d'Innovació docent de la Facultat | C3: Degà/ana | D3: Secretari o secretària del Deganat | E3: Realització biennal | G3: PS01. Formació del PDI, innovació docent i avaluació de l’activitat docent
A4: PS01_Ind02. | B4: Nombre de projectes de millora / innovació docent concedits respecte els demanats | C4: Degà/ana | D4: Unitat de Formació Innovació Docent | E4: Èxit >75% | G4: PS01. Formació del PDI, innovació docent i avaluació de l’activitat docent
A5: PS01_Ind01. | B5: Nombre de professorat de la Facultat que participa en cursos de formació per a personal docent de la UAB | C5: Degà/ana | D5: Secretari o Secretaria del Deganat | E5: Observar un increment | G5: PS01. Formació del PDI, innovació docent i avaluació de l’activitat docent
A6: PE04_Ind03. | B6: Nou indicador: Número de cursos a mida proposats per la facultat | C6: Degà/ana | D6: Secretari o Secretaria del Deganat | E6: Mínim 1/any | G6: PE04. Definició de la política del PDI
A7: PE04_Ind01. | B7: Percentatge Hores d’Impartició Docent a l'Aula (HIDA) de professorat permanent en els graus | C7: Degà/ana | D7: Gestió de qualitat | E7: >65% | G7: PE04. Definició de la política del PDI
A8: PE04_Ind02. | B8: Valoració mitjana a l’afirmació “Estic satisfet/a amb el professorat” (Grau/Màster) | C8: Degà/ana | D8: Gestió de qualitat | E8: > Mitjana de la UAB | G8: PE04. Definició de la política del PDI
A9: PS06_Ind01. | B9: Índex de participació en les enquestes d'assignatures | C9: Vicedegenat de Qualitat i Pla Estratègic | D9: Gestió de qualitat | E9: > Mitjana de la UAB | G9: PS06. Satisfacció dels grups d'interès
A10: PE02_Ind01. | B10: Percentatge de propostes de millora implementades per curs acadèmic (no motivades per la CAE) | C10: Vicedeganat de Qualitat i Pla Estratègic | D10: Gestió de qualitat | E10: ≥80% | G10: PE02. Definició, desplegament i seguiment del Sistema de Garantia Intern
A11: Pc04_Ind05. | B11: Número d’activitats anuals per enfortir les relacions amb l’Ensenyament Secundari | C11: Vicedeganat d'Alumnat, Ocupabilitat i Comunicació | D11: Secretari o Secretaria del Deganat | E11: Almenys 1 de cada tipologia | G11: PC04. Orientació a l'estudiant
A12: PC03.1_Ind01. | B12: Percentatge d’alumnat graduat que ha realitzat les PAE | C12: Vicedeganat de Mobilitat, Pràctiques i Promoció | D12: Gestió de pràctiques | E12: >90% Valorar l’interès de l’alumnat per fer PAE | G12: PC03.1.Gestió de les Pràctiques Externes
A13: PC04_Ind03. | B13: Número d'accions d'acompanyament, a necessitats especifiques, realitzades | C13: Vicedeganat d'Alumnat, Ocupabilitat i Comunicació | D13: Secretari o Secretaria del Deganat | E13: Mínim 3 | G13: PC04. Orientació a l'estudiant
... A22: PS08_Ind02. | B22: Accés públic als acords de les comissions i grups de treball | C22: Degà/ana | D22: Secretari o secretària del Deganat | E22: Mínim 1/any Comissió delegada | G22: PS08. Informació pública i rendició de comptes
A23: PE02_Ind02. | B23: Percentatge de processos actualitzats | C23: Vicedeganat de Qualitat i Pla Estratègic | D23: Gestió de qualitat | E23: 1 | G23: PE02. Definició, desplegament i seguiment del Sistema de Garantia Intern
A24: PC02_Ind01. | B24: Nombre d’assignatures que imparteixen docència en anglès | C24: Vicedeganat d'Estudis i Programació | D24: Gestió de programació docent | E24: Observar un increment | G24: PC02. Planificació i Programació docent de les assignatures.
A25: PC06_Ind01. | B25: Nombre d’alumnat participant en un programa de mobilitat en un curs acadèmic (estudiants OUT i IN) | C25: Vicedeganat de Mobilitat, Pràctiques i Promoció | D25: Gestió d'intercanvis | E25: Mantenir o augmentar el nombre d’alumnat IN i OUT en el nostre programa de mobilitat | G25: PC06. Gestió de la mobilitat de l’alumnat, PTGAS i PDI
A26: PC06_Ind03. | B26: Valoració mitjana a l’afirmació “Les accions de mobilitat que he realitzat han estat rellevants per al meu aprenentatge” (persones recent titulades) | C26: Vicedeganat de Mobilitat, Pràctiques i Promoció | D26: Gestió de qualitat | E26: > a 3,75 i superior a la mitjana de la UAB | G26: PC06. Gestió de la mobilitat de l’alumnat, PTGAS i PDI

Sheet PE01_Ind01. Percentatge d’obj
B1: Torna a l'índex
B3: #VALUE! | E3: Fitxa de seguiment de l'indicador
B5: 1. Codi del l'indicador | D5: =Índex!A6 -> PE01_Ind01. | F5: 2. Nom de l'indicador | H5: =Índex!B6 -> Percentatge d’objectius assolits del pla estratègic de la Facultat de Biociències
B6: 3. Objectiu | D6: =Índex!E6 -> ≥ 75% | F6: 4. Freqüència de la medició | H6: Anual
B7: 5. Propietat | D7: =Índex!C6 -> Degà/ana | F7: 6. Responsabilitat | H7: =Índex!D6 -> Gestió de qualitat
B8: 7. Processos als que afecta | D8: =Índex!G6 -> PE.01. Definició de la política i objectius de qualitat | F8: 8. Font obtenció de dades
B12: Percentatge d’objectius assolits del pla estratègic de la Facultat de Biociències
B13: 2019/2020 | C13: 2020/2021 | D13: 2021/2022 | E13: 2022/2023 | F13: 2023/2024 | G13: 2024/2025 | I13: CURS | J13: Percentatge d'objectius assolits del pla estratègic
B14: 0.7741 | C14: 0.8333 | D14: 0.8333 | E14: 0.8519 | F14: 0.8333 | I14: 2019/2020 | J14: 77.41
I15: 2020/2021 | J15: 83.33
I16: 2021/2022 | J16: 83.33
I17: 2022/2023 | J17: 85.19
I18: 2023/2024 | J18: 83.33
I19: 2024/2025

Sheet PE01_Ind02. Número de reunion
B1: Torna a l'índex
B3: #VALUE! | E3: Fitxa de seguiment de l'indicador
B5: 1. Codi del l'indicador | D5: =Índex!A7 -> PE01_Ind02. | F5: 2. Nom de l'indicador | H5: =Índex!B7 -> Número de reunions amb els vicerectorats
B6: 3. Objectiu | D6: =Índex!E7 -> ≥ 3 l’any | F6: 4. Freqüència de la medició | H6: Anual
B7: 5. Propietat | D7: =Índex!C7 -> Degà/ana | F7: 6. Responsabilitat | H7: =Índex!D7 -> Secretari o Secretaria del Deganat
B8: 7. Processos als que afecta | D8: =Índex!G7 -> PE.01. Definició de la política i objectius de qualitat | F8: 8. Font obtenció de dades | H8: Dades obtingudes de l'arxiu del deganat amb data 22/10/2025
B10: Número de reunions amb els vicerectorats
B11: 2021 | C11: 2022 | D11: 2023 | E11: 2024 | F11: 2025
B12: 6 | C12: 15 | D12: 16 | E12: 10 | F12: 8

Sheet PE01_Ind03. Número de reunion
B1: Torna a l'índex
B3: #VALUE! | E3: Fitxa de seguiment de l'indicador
B5: 1. Codi del l'indicador | D5: =Índex!A8 -> PE01_Ind03. | F5: 2. Nom de l'indicador | H5: =Índex!B8 -> Número de reunions de la comissió de igualtat
B6: 3. Objectiu | D6: =Índex!E8 -> ≥ 1 l’any | F6: 4. Freqüència de la medició | H6: Anual
B7: 5. Propietat | D7: =Índex!C8 -> Degà/ana | F7: 6. Responsabilitat | H7: =Índex!D8 -> Secretari o Secretaria del Deganat
B8: 7. Processos als que afecta | D8: =Índex!G8 -> PE.01. Definició de la política i objectius de qualitat | F8: 8. Font obtenció de dades | H8: Dades obtingudes de l'arxiu del deganat amb data 22/10/2025
A12: Número de reunions de la comissió de igualtat
A13: 2022 | B13: 2023 | C13: 2024 | D13: 2025
A14: 1 | B14: 1 | C14: 1 | D14: 0

Sheet PE01_Ind04. Número de reunion
B1: Torna a l'índex
B3: #VALUE! | E3: Fitxa de seguiment de l'indicador
B5: 1. Codi del l'indicador | D5: =Índex!A9 -> PE01_Ind04. | F5: 2. Nom de l'indicador | H5: =Índex!B9 -> Número de reunions de la comissió de sostenibilitat
B6: 3. Objectiu | D6: =Índex!E9 -> ≥ 1 l’any | F6: 4. Freqüència de la medició | H6: Anual
B7: 5. Propietat | D7: =Índex!C9 -> Degà/ana | F7: 6. Responsabilitat | H7: =Índex!D9 -> Secretari o Secretaria del Deganat
B8: 7. Processos als que afecta | D8: =Índex!G9 -> PE.01. Definició de la política i objectius de qualitat | F8: 8. Font obtenció de dades | H8: Dades obtingudes de l'arxiu del deganat amb data 22/10/2025
A12: Número de reunions de la comissió de sostenibilitat
A13: 2023 | B13: 2024 | C13: 2025
A14: 1 | B14: 4 | C14: 1

Sheet PE01_Ind05. Número d'actes i 
B1: Torna a l'índex
B3: #VALUE! | E3: Fitxa de seguiment de l'indicador
B5: 1. Codi del l'indicador | D5: =Índex!A10 -> PE01_Ind05. | F5: 2. Nom de l'indicador | H5: =Índex!B10 -> Número d’actes i esdeveniments organitzats per la facultat
B6: 3. Objectiu | D6: =Índex!E10 -> ≥1 l’any | F6: 4. Freqüència de la medició | H6: Anual
B7: 5. Propietat | D7: =Índex!C10 -> Degà/ana | F7: 6. Responsabilitat | H7: =Índex!D10 -> Secretari o Secretaria del Deganat
B8: 7. Processos als que afecta | D8: =Índex!G10 -> PE.01. Definició de la política i objectius de qualitat | F8: 8. Font obtenció de dades | H8: Dades obtingudes de l'arxiu del deganat amb data 22/10/2025
A12: Número d'actes i esdeveniments organitzats per la facultat
A13: 2022/2023 | B13: 2023/2024 | C13: 2024/2025
A14: 2 (Sant Albert, Premis Nobel) | B14: 3 (Sant Albert, Inauguració del curs, Homenatge al DR. Josep Vendrell) | C14: 4 (Inauguració del curs, Sant Albert, Nit Europea de la recerca, PremisNobel)

Sheet PE02_Ind01. Percentatge de pr
B1: Torna a l'índex
B3: #VALUE! | E3: Fitxa de seguiment de l'indicador
B5: 1. Codi del l'indicador | D5: =Índex!A11 -> PE02_Ind01. | F5: 2. Nom de l'indicador | H5: =Índex!B11 -> Percentatge de propostes de millora implementades per curs acadèmic (no motivades per la CAE)
B6: 3. Objectiu | D6: =Índex!E11 -> ≥80% | F6: 4. Freqüència de la medició | H6: Anual
B7: 5. Propietat | D7: =Índex!C11 -> Vicedeganat de Qualitat i Pla Estratègic | F7: 6. Responsabilitat | H7: =Índex!D11 -> Gestió de qualitat
B8: 7. Processos als que afecta | D8: =Índex!G11 -> PE02. Definició, desplegament i seguiment del Sistema de Garantia Intern | F8: 8. Font obtenció de dades
A12: Percentatge de propostes de millora implementades per curs acadèmic no motivades per la CAE
A13: 2023/2024 | B13: 2024/2025
A14: 0.3671

Sheet PE02_Ind02. Percentatge de pr
B1: Torna a l'índex
B3: #VALUE! | E3: Fitxa de seguiment de l'indicador
B5: 1. Codi del l'indicador | D5: =Índex!A12 -> PE02_Ind02. | F5: 2. Nom de l'indicador | H5: =Índex!B12 -> Percentatge de processos actualitzats
B6: 3. Objectiu | D6: =Índex!E12 -> 1 | F6: 4. Freqüència de la medició | H6: Anual
B7: 5. Propietat | D7: =Índex!C12 -> Vicedeganat de Qualitat i Pla Estratègic | F7: 6. Responsabilitat | H7: =Índex!D12 -> Gestió de qualitat
B8: 7. Processos als que afecta | D8: =Índex!G12 -> PE02. Definició, desplegament i seguiment del Sistema de Garantia Intern | F8: 8. Font obtenció de dades
A12: Percentatge de processos actualitzats
A13: 2019/2020 | B13: 2020/2021 | C13: 2021/2022 | D13: 2022/2023 | E13: 2023/2024 | F13: 2024/2025
A14: 1 | B14: 1 | C14: 1 | D14: 1 | E14: 1

Sheet PE02_Ind03. Percentatge de pr
B1: Torna a l'índex
B3: #VALUE! | E3: Fitxa de seguiment de l'indicador
B5: 1. Codi del l'indicador | D5: =Índex!A13 -> PE02_Ind03. | F5: 2. Nom de l'indicador | H5: =Índex!B13 -> Percentatge de propostes de millora indicades per la CAE assolides
B6: 3. Objectiu | D6: =Índex!E13 -> Objectiu global: 100% Objectiu anual: experimentar increment respecte l’anterior revisió SGIQ | F6: 4. Freqüència de la medició | H6: Anual
B7: 5. Propietat | D7: =Índex!C13 -> Vicedeganat de Qualitat i Pla Estratègic | F7: 6. Responsabilitat | H7: =Índex!D13 -> Gestió de qualitat
B8: 7. Processos als que afecta | D8: =Índex!G13 -> PE02. Definició, desplegament i seguiment del Sistema de Garantia Intern | F8: 8. Font obtenció de dades
A12: Percentatge de propostes de millora indicades per la CAE assolides
A13: Nº Propostes de la CAE | B13: 2022/2023 | C13: 2023/2024 | D13: 2024/2025
B14: 17 | C14: 17
A15: Nº Propostes Finalitzades fins la data | B15: 12 | C15: 13
A16: % Propostes de millora de la CAE assolides | B16: =B15/B14 -> 0.70588235 | C16: =C15/C14 -> 0.76470588 | D16: =D15/D14 -> #DIV/0!

Sheet PE03_Ind01. Percentatge de pr
B1: Tornar a l'índex
B3: #VALUE! | E3: Fitxa de seguiment de l'indicador
B5: 1. Codi del l'indicador | D5: =Índex!A14 -> PE03_Ind01. | F5: 2. Nom de l'indicador | H5: =Índex!B14 -> Percentatge de propostes de titulacions implantades respecte a les aprovades pel Centre
B6: 3. Objectiu | D6: =Índex!E14 -> 1 | F6: 4. Freqüència de la medició | H6: Anual
B7: 5. Propietat | D7: =Índex!C14 -> Vicedeganat de Qualitat i Pla Estratègic | F7: 6. Responsabilitat | H7: =Índex!D14 -> Gestió de qualitat
B8: 7. Processos als que afecta | D8: =Índex!G14 -> PE03. Creació i disseny de noves titulacions. Mapa de titulacions | F8: 8. Font obtenció de dades | H8: Dades extretes de l'arxiu de la Gestió de Qualitat amb data 30/10/2025
A12: Percentatge de propostes de titulacions implantades respecte a les aprovades pel Centre
A13: 2019/2020 | B13: 2020/2021 | C13: 2021/2022 | D13: 2022/2023 | E13: 2023/2024 | F13: 2024/2025
A14: 1 | B14: 1 | C14: 1 | D14: - | E14: - | F14: 1

Sheet PE04_Ind01. Percentatge Hores
B1: Torna a l'índex
B3: #VALUE! | E3: Fitxa de seguiment de l'indicador
B5: 1. Codi del l'indicador | D5: =Índex!A15 -> PE04_Ind01. | F5: 2. Nom de l'indicador | H5: =Índex!B15 -> Percentatge Hores d’Impartició Docent a l'Aula (HIDA) de professorat permanent en els graus
B6: 3. Objectiu | D6: =Índex!E15 -> >65% | F6: 4. Freqüència de la medició | H6: Anual
B7: 5. Propietat | D7: =Índex!C15 -> Degà/ana | F7: 6. Responsabilitat | H7: =Índex!D15 -> Gestió de qualitat
B8: 7. Processos als que afecta | D8: =Índex!G15 -> PE04. Definició de la política del PDI | F8: 8. Font obtenció de dades | H8: Dades extretes de la base de dades DATADASH amb data 02/10/2025: https://datax.uab.es/Publisher2/
A12: Percentatge Hores d’Impartició Docent a l'Aula (HIDA) de professorat permanent en els graus
A13: Curs/Grau | B13: Biologia | D13: Biologia Ambiental | F13: Bioquímica | H13: Biotecnologia | J13: Ciències Biomédiques | L13: Genètica | N13: Microbiologia
B14: Per. | C14: Alt. | D14: Per. | E14: Alt. | F14: Per. | G14: Alt. | H14: Per. | I14: Alt. | J14: Per. | K14: Alt. | L14: Per. | M14: Alt. | N14: Per. | O14: Alt.
A15: 2009/2010 | B15: 0.75 | C15: 0.26 | D15: 0.64 | E15: 0.36 | F15: 0.77 | G15: 0.24 | H15: 0.73 | I15: 0.27 | J15: 0.61 | K15: 0.39 | L15: 0.62 | M15: 0.38 | N15: 0.7 | O15: 0.3
A16: 2010/2011 | B16: 0.69 | C16: 0.31 | D16: 0.77 | E16: 0.24 | F16: 0.72 | G16: 0.28 | H16: 0.62 | I16: 0.38 | J16: 0.67 | K16: 0.33 | L16: 0.63 | M16: 0.37 | N16: 0.75 | O16: 0.24
A17: 2011/2012 | B17: 0.64 | C17: 0.36 | D17: 0.74 | E17: 0.26 | F17: 0.77 | G17: 0.23 | H17: 0.63 | I17: 0.37 | J17: 0.57 | K17: 0.43 | L17: 0.62 | M17: 0.39 | N17: 0.73 | O17: 0.28
A18: 2012/2013 | B18: 0.7 | C18: 0.31 | D18: 0.74 | E18: 0.27 | F18: 0.74 | G18: 0.26 | H18: 0.67 | I18: 0.33 | J18: 0.66 | K18: 0.34 | L18: 0.66 | M18: 0.33 | N18: 0.72 | O18: 0.28
A19: 2013/2014 | B19: 0.69 | C19: 0.3 | D19: 0.66 | E19: 0.33 | F19: 0.76 | G19: 0.24 | H19: 0.71 | I19: 0.28 | J19: 0.6 | K19: 0.4 | L19: 0.71 | M19: 0.29 | N19: 0.69 | O19: 0.3
A20: 2014/2015 | B20: 0.66 | C20: 0.34 | D20: 0.62 | E20: 0.38 | F20: 0.73 | G20: 0.27 | H20: 0.61 | I20: 0.38 | J20: 0.59 | K20: 0.41 | L20: 0.62 | M20: 0.36 | N20: 0.67 | O20: 0.33
A21: 2015/2016 | B21: 0.62 | C21: 0.38 | D21: 0.59 | E21: 0.41 | F21: 0.73 | G21: 0.26 | H21: 0.57 | I21: 0.44 | J21: 0.61 | K21: 0.39 | L21: 0.63 | M21: 0.38 | N21: 0.7 | O21: 0.29
A22: 2016/2017 | B22: 0.6 | C22: 0.39 | D22: 0.59 | E22: 0.4 | F22: 0.69 | G22: 0.31 | H22: 0.6 | I22: 0.4 | J22: 0.56 | K22: 0.44 | L22: 0.56 | M22: 0.43 | N22: 0.7 | O22: 0.3
A23: 2017/2018 | B23: 0.6 | C23: 0.41 | D23: 0.63 | E23: 0.37 | F23: 0.62 | G23: 0.39 | H23: 0.53 | I23: 0.47 | J23: 0.55 | K23: 0.44 | L23: 0.55 | M23: 0.45 | N23: 0.59 | O23: 0.41
A24: 2018/2019 | B24: 0.54 | C24: 0.45 | D24: 0.58 | E24: 0.42 | F24: 0.62 | G24: 0.39 | H24: 0.54 | I24: 0.46 | J24: 0.52 | K24: 0.48 | L24: 0.49 | M24: 0.52 | N24: 0.63 | O24: 0.36
A25: 2019/2020 | B25: 0.56 | C25: 0.44 | D25: 0.59 | E25: 0.41 | F25: 0.6 | G25: 0.4 | H25: 0.51 | I25: 0.48 | J25: 0.49 | K25: 0.51 | L25: 0.52 | M25: 0.48 | N25: 0.61 | O25: 0.38
A26: 2020/2021 | B26: 0.52 | C26: 0.48 | D26: 0.55 | E26: 0.45 | F26: 0.62 | G26: 0.38 | H26: 0.49 | I26: 0.51 | J26: 0.51 | K26: 0.49 | L26: 0.51 | M26: 0.48 | N26: 0.61 | O26: 0.38
... A30: 2024/2025 | B30: 0.6 | C30: 0.4 | D30: 0.68 | E30: 0.32 | F30: 0.73 | G30: 0.27 | H30: 0.65 | I30: 0.35 | J30: 0.67 | K30: 0.33 | L30: 0.63 | M30: 0.37 | N30: 0.66 | O30: 0.34
A34: Per.- Professorat Permanent: Catedràtic/Titular/Agregat/Lector
A35: Alt.- Altres: Associats/Substituts/PIF/...

Sheet PE04_Ind02. Valoració mitjana
B1: Torna a l'índex
B3: #VALUE! | E3: Fitxa de seguiment de l'indicador
B5: 1. Codi del l'indicador | D5: =Índex!A16 -> PE04_Ind02. | F5: 2. Nom de l'indicador | H5: =Índex!B16 -> Valoració mitjana a l’afirmació “Estic satisfet/a amb el professorat” (Grau/Màster)
B6: 3. Objectiu | D6: =Índex!E16 -> > Mitjana de la UAB | F6: 4. Freqüència de la medició | H6: Anual
B7: 5. Propietat | D7: =Índex!C16 -> Degà/ana | F7: 6. Responsabilitat | H7: =Índex!D16 -> Gestió de qualitat
B8: 7. Processos als que afecta | D8: =Índex!G16 -> PE04. Definició de la política del PDI | F8: 8. Font obtenció de dades | H8: Dades extretes de les enquestes del grau de satisfacció de les persones titulades amb data 02/10/2025: https://www.uab.cat/web/estudis/qualitat-docent/persones-graduades-1345665543247.html
A12: Valoració mitjana a l’afirmació “Estic satisfet/a amb el professorat”
A13: Grau | B13: 2017/2018 | C13: 2018/2019 | D13: 2019/2020 | E13: 2021/2022 | F13: 2022/2023 | G13: 2023/2024 | H13: 2024/2025
A14: Biologia | B14: 4 | C14: 3.6 | D14: 4 | E14: 3.9 | F14: 3.78 | G14: 4.18 | H14: SD
A15: Biologia Ambiental | B15: 3.56 | C15: 4.29 | D15: 3.82 | E15: 4.37 | F15: 4.07 | G15: 4.24 | H15: SD
A16: Bioquímica | B16: 3.07 | C16: 3.45 | D16: SD | E16: 3.5 | F16: 3.69 | G16: 4.06 | H16: SD
A17: Biotecnologia | B17: 4.15 | C17: 4 | D17: 3.7 | E17: 3.68 | F17: 3.78 | G17: 3.79 | H17: SD
A18: Ciències Biomèdiques | B18: 3.28 | C18: 3.6 | D18: 3.33 | E18: 3.29 | F18: 3.7 | G18: 3.45 | H18: SD
A19: Genètica | B19: 4 | C19: 3.2 | D19: 3.6 | E19: 3.58 | F19: 3.93 | G19: 3.33 | H19: SD
A20: Microbiologia | B20: 3.89 | C20: 4.09 | D20: 3.8 | E20: 4 | F20: 4.2 | G20: 4.08 | H20: SD
A21: Graus Biociències | B21: 3.61 | C21: 3.74 | D21: 3.76 | E21: 3.77 | F21: 3.89 | G21: 3.83 | H21: SD
A22: Graus UAB | B22: 3.58 | C22: 3.51 | D22: 3.44 | E22: 3.68 | F22: 3.67 | G22: 3.73 | H22: SD
A25: Valoració mitjana a l’afirmació “Estic satisfet/a amb el professorat”
A26: Màster | B26: 2017/2018 | C26: 2018/2019 | D26: 2019/2020 | E26: 2021/2022 | F26: 2022/2023 | G26: 2023/2024 | H26: 2024/2025
A27: Bioinformàtica | B27: 4 | C27: 3.5 | D27: 4 | E27: 3.54 | F27: 4 | G27: 2.56 | H27: SD
A28: Biologia, Genòmica i Biotecnologia Vegetals | B28: 4 | C28: 3 | D28: 3.5 | E28: 4 | F28: 4 | G28: 4.17 | H28: SD
A29: Bioquímica, Biologia Molecular i Biomedicina | B29: 3 | C29: 3.8 | D29: 2.5 | E29: 3.93 | F29: 4.18 | G29: 4.2 | H29: SD
A30: Biotecnologia Avançada | B30: 4.75 | C30: 3.5 | D30: SD | E30: 3.2 | F30: 4.13 | G30: 4.14 | H30: SD
A31: Citogenètica i Biologia de la Reproducció | B31: 3 | C31: 4 | D31: 5 | E31: 4.1 | F31: 4.67 | G31: 4.25 | H31: SD
A32: Ecologia Terrestre i Gestió de la Biodiversitat | B32: 4 | C32: 4 | D32: 3.67 | E32: 4 | F32: 4.4 | G32: 4.44 | H32: SD
A33: Genètica Avançada | B33: 4 | C33: SD | D33: 3 | E33: 2.75 | F33: 3.25 | G33: 3.43 | H33: SD
A34: Erasmus Mundus en Educació Internacional en Vacunes | B34: SD | C34: SD | D34: SD | E34: SD | F34: SD | G34: SD | H34: SD
A35: Microbiologia Aplicada | B35: 4 | C35: 3 | D35: 4 | E35: 3.91 | F35: 4.25 | G35: 3.43 | H35: SD
A36: Neurociències | B36: 3 | C36: 2.75 | D36: 3.5 | E36: 2.83 | F36: 2.7 | G36: 3.78 | H36: SD
A37: Màsters Biociències | B37: 3.79 | C37: 3.44 | D37: 3.66 | E37: 3.61 | F37: 3.96 | G37: 3.82 | H37: SD
A38: Màsters UAB | B38: 3.54 | C38: 3.47 | D38: 3.72 | E38: 3.81 | F38: 3.81 | G38: 3.92 | H38: SD

Sheet PE04_Ind03. Número de cursos 
B1: Torna a l'índex
B3: #VALUE! | E3: Fitxa de seguiment de l'indicador
B5: 1. Codi del l'indicador | D5: =Índex!A17 -> PE04_Ind03. | F5: 2. Nom de l'indicador | H5: =Índex!B17 -> Nou indicador: Número de cursos a mida proposats per la facultat
B6: 3. Objectiu | D6: =Índex!E17 -> Mínim 1/any | F6: 4. Freqüència de la medició | H6: Anual
B7: 5. Propietat | D7: =Índex!C17 -> Degà/ana | F7: 6. Responsabilitat | H7: =Índex!D17 -> Secretari o Secretaria del Deganat
B8: 7. Processos als que afecta | D8: =Índex!G17 -> PE04. Definició de la política del PDI | F8: 8. Font obtenció de dades
A12: Número de cursos a mida proposats per la facultat
A13: 2020/2021 | B13: 2021/2022 | C13: 2022/2023 | D13: 2023/2024 | E13: 2024/2025
A14: 2 | B14: 1 | C14: 1 | D14: 4

Sheet PE05_Ind01. Percentatge de Ta
B1: Torna a l'índex
B3: #VALUE! | E3: Fitxa de seguiment de l'indicador
B5: 1. Codi del l'indicador | D5: =Índex!A18 -> PE05_Ind01. | F5: 2. Nom de l'indicador | H5: =Índex!B18 -> Percentatge de Taules de Mesures Correctores (TMC) retornades derivades de les avaluacions de riscos laborals respecte del total de rebudes
B6: 3. Objectiu | D6: =Índex!E18 -> 1 | F6: 4. Freqüència de la medició | H6: Anual
B7: 5. Propietat | D7: =Índex!C18 -> Degà/ana | F7: 6. Responsabilitat | H7: =Índex!D18 -> Administració de Centre
B8: 7. Processos als que afecta | D8: =Índex!G18 -> PE05. Política i Gestió del PTGAS | F8: 8. Font obtenció de dades | H8: Dades obtingudes de l'arxiu de l'administració de centre amb data 22/10/2025
B12: Percentatge de Taules de Mesures Correctores (TMC) retornades derivades de les avaluacions de riscos laborals respecte del total rebudes
B13: 2018/2019 | C13: 2019/2020 | D13: 2020/2021 | E13: 2021/2022 | F13: 2022/2023 | G13: 2023/2024 | H13: 2024/2025
A14: Rebudes | B14: 11 | C14: 11 | D14: 2 | E14: 7 | F14: 6 | G14: 7 | H14: 5
A15: Retornades | B15: 11 | C15: 11 | D15: 2 | E15: 6 | F15: 6 | G15: 7 | H15: 5
A16: % Compliment | B16: =B15/B14 -> 1 | C16: =C15/C14 -> 1 | D16: =D15/D14 -> 1 | E16: =E15/E14 -> 0.85714286 | F16: =F15/F14 -> 1 | G16: =G15/G14 -> 1 | H16: =H15/H14 -> 1

Sheet PE05_Ind02. Nombre d’informes
B1: Torna a l'índex
B3: #VALUE! | E3: Fitxa de seguiment de l'indicador
B5: 1. Codi del l'indicador | D5: =Índex!A19 -> PE05_Ind02. | F5: 2. Nom de l'indicador | H5: =Índex!B19 -> Nombre d’informes d’avaluació retornats respecte del total rebuts
B6: 3. Objectiu | D6: =Índex!E19 -> 1 | F6: 4. Freqüència de la medició | H6: Anual
B7: 5. Propietat | D7: =Índex!C19 -> Degà/ana | F7: 6. Responsabilitat | H7: =Índex!D19 -> Administració de Centre
B8: 7. Processos als que afecta | D8: =Índex!G19 -> PE05. Política i Gestió del PTGAS | F8: 8. Font obtenció de dades | H8: Dades obtingudes de l'arxiu de l'administració de centre amb data 22/10/2025
B12: Nombre d’informes d’avaluació retornats respecte del total rebuts
B13: 2018/2019 | C13: 2019/2020 | D13: 2020/2021 | E13: 2021/2022 | F13: 2022/2023 | G13: 2023/2024 | H13: 2024/2025
A14: Rebuts | B14: 13 | C14: 9 | D14: 7 | E14: 15 | F14: 18 | G14: 9 | H14: 12
A15: Retornats | B15: 13 | C15: 9 | D15: 7 | E15: 12 | F15: 17 | G15: 9 | H15: 11
A16: % Compliment | B16: =B15/B14 -> 1 | C16: =C15/C14 -> 1 | D16: =D15/D14 -> 1 | E16: =E15/E14 -> 0.8 | F16: =F15/F14 -> 0.94444444 | G16: =G15/G14 -> 1 | H16: =H15/H14 -> 0.91666667

Sheet PE05_Ind03. Nombre d’informes
B1: Torna a l'índex
B3: #VALUE! | E3: Fitxa de seguiment de l'indicador
B5: 1. Codi del l'indicador | D5: =Índex!A20 -> PE05_Ind03. | F5: 2. Nom de l'indicador | H5: =Índex!B20 -> Nombre d’informes de vigilància de la Salut retornats respecte dels rebuts
B6: 3. Objectiu | D6: =Índex!E20 -> 1 | F6: 4. Freqüència de la medició | H6: Anual
B7: 5. Propietat | D7: =Índex!C20 -> Degà/ana | F7: 6. Responsabilitat | H7: =Índex!D20 -> Administració de Centre
B8: 7. Processos als que afecta | D8: =Índex!G20 -> PE05. Política i Gestió del PTGAS | F8: 8. Font obtenció de dades | H8: Dades obtingudes de l'arxiu de l'administració de centre amb data 22/10/2025
B12: Nombre d’informes de vigilància de la salut retornats respecte del total rebuts
B13: 2022/2023 | C13: 2023/2024 | D13: 2024/2025
A14: Rebuts | B14: 3 | C14: 5 | D14: 11
A15: Retornats | B15: 3 | C15: 5 | D15: 11
A16: % Compliment | B16: =B15/B14 -> 1 | C16: =C15/C14 -> 1 | D16: =D15/D14 -> 1

Sheet PE05_Ind04. Percentatge d’hor
B1: Torna a l'índex
B3: #VALUE! | E3: Fitxa de seguiment de l'indicador
B5: 1. Codi del l'indicador | D5: =Índex!A21 -> PE05_Ind04. | F5: 2. Nom de l'indicador | H5: =Índex!B21 -> Percentatge d’hores de formació realitzades respecte el curs anterior
B6: 3. Objectiu | D6: =Índex!E21 -> 1 | F6: 4. Freqüència de la medició | H6: Anual
B7: 5. Propietat | D7: =Índex!C21 -> Degà/ana | F7: 6. Responsabilitat | H7: =Índex!D21 -> Unitat de Formació
B8: 7. Processos als que afecta | D8: =Índex!G21 -> PE05. Política i Gestió del PTGAS | F8: 8. Font obtenció de dades
B12: Percentatge d’hores de formació realitzades respecte el curs anterior
B13: 2018/2019 | C13: 2019/2020 | D13: 2020/2021 | E13: 2021/2022 | F13: 2022/2023 | G13: 2023/2024 | H13: 2024/2025
A14: Nombre participants | B14: 761 | C14: 649 | D14: 515 | E14: 582 | F14: 599 | G14: 521
A15: Mitjana hores per participant | B15: 8 | C15: 10 | D15: 10 | E15: 8 | F15: 9 | G15: 8
A16: Total hores realitzades | B16: 6363 | C16: 6325 | D16: 5027 | E16: 4525 | F16: 5667 | G16: 4307

Sheet PC01_Ind01. Sol·licituds de n
B1: Torna a l'índex
B3: #VALUE! | E3: Fitxa de seguiment de l'indicador
B5: 1. Codi del l'indicador | D5: =Índex!A22 -> PC01_Ind01. | F5: 2. Nom de l'indicador | H5: =Índex!B22 -> Ràtio de Sol·licituds de nou accés respecte a la oferta de places als Graus
B6: 3. Objectiu | D6: =Índex!E22 -> Ràtio de sol·licituds vs places ≥10 | F6: 4. Freqüència de la medició | H6: Anual
B7: 5. Propietat | D7: =Índex!C22 -> Vicedeganat d'Estudis i Programació | F7: 6. Responsabilitat | H7: =Índex!D22 -> Responsable Gestió acadèmica
B8: 7. Processos als que afecta | D8: =Índex!G22 -> PC01. Definició de perfils d'ingrés, graduació i accés als estudis | F8: 8. Font obtenció de dades | H8: Dades extretes de la base de dades DATADASH amb data 02/10/2025: https://datax.uab.es/Publisher2/
A12: Taula 1. Places i total de sol·licituds desglossat per grau
A13: Grau | B13: 2019/2020 | C13: 2020/2021 | D13: 2021/2022 | E13: 2022/2023 | F13: 2023/2024 | G13: 2024/2025
A14: Biologia | B14: 1063 | C14: 1326 | D14: 1384 | E14: 1297 | F14: 1231 | G14: 1405
A15: Biologia Ambiental | B15: 516 | C15: 579 | D15: 539 | E15: 538 | F15: 450 | G15: 484
A16: Bioquímica | B16: 638 | C16: 718 | D16: 885 | E16: 797 | F16: 750 | G16: 953
A17: Biotecnologia | B17: 687 | C17: 866 | D17: 990 | E17: 896 | F17: 840 | G17: 830
A18: Ciències Biomèdiques | B18: 800 | C18: 942 | D18: 1159 | E18: 1099 | F18: 904 | G18: 1112
A19: Genètica | B19: 647 | C19: 668 | D19: 714 | E19: 734 | F19: 582 | G19: 648
A20: Microbiologia | B20: 781 | C20: 787 | D20: 897 | E20: 801 | F20: 717 | G20: 812
A21: Total general | B21: =SUM(B14:B20) -> 5132 | C21: =SUM(C14:C20) -> 5886 | D21: =SUM(D14:D20) -> 6568 | E21: =SUM(E14:E20) -> 6162 | F21: =SUM(F14:F20) -> 5474 | G21: =SUM(G14:G20) -> 6244
A24: Taula 2. Ràtio de sol·licituds vs places pels diferents graus de la facultat
A25: Grau | B25: Objectiu | C25: 2019/2020 | D25: 2020/2021 | E25: 2021/2022 | F25: 2022/2023 | G25: 2023/2024 | H25: 2024/2025
A26: Biologia | B26: 10 | C26: 13.29 | D26: 16.58 | E26: 17.3 | F26: 16.21 | G26: 15.39 | H26: 17.6
A27: Biologia Ambiental | B27: 10 | C27: 8.6 | D27: 9.65 | E27: 8.98 | F27: 8.97 | G27: 7.5 | H27: 8.1
A28: Bioquímica | B28: 10 | C28: 10.63 | D28: 11.97 | E28: 14.75 | F28: 13.28 | G28: 12.5 | H28: 15.9
A29: Biotecnologia | B29: 10 | C29: 8.59 | D29: 10.83 | E29: 12.38 | F29: 11.2 | G29: 10.5 | H29: 10.4
A30: Ciències Biomèdiques | B30: 10 | C30: 13.33 | D30: 15.7 | E30: 19.32 | F30: 18.32 | G30: 15.07 | H30: 18.5
A31: Genètica | B31: 10 | C31: 10.78 | D31: 11.13 | E31: 11.9 | F31: 12.23 | G31: 9.7 | H31: 10.8
A32: Microbiologia | B32: 10 | C32: 13.02 | D32: 13.12 | E32: 14.95 | F32: 13.35 | G32: 11.95 | H32: 13.5
A35: Taula 3. Ràtio de sol·licituds en 1a opció vs places pels diferents graus de la facultat
A36: Grau | B36: Objectiu | C36: 2019/2020 | D36: 2020/2021 | E36: 2021/2022 | F36: 2022/2023 | G36: 2023/2024 | H36: 2024/2025
A37: Biologia | B37: 1 | C37: 1.49 | D37: 1.68 | E37: 1.79 | F37: 1.38 | G37: 1.31 | H37: 1.5
A38: Biologia Ambiental | B38: 1 | C38: 2.07 | D38: 2.37 | E38: 2.33 | F38: 2.02 | G38: 1.82 | H38: 1.9
A39: Bioquímica | B39: 1 | C39: 1.13 | D39: 1.22 | E39: 1.92 | F39: 1.13 | G39: 0.87 | H39: 1.8
A40: Biotecnologia | B40: 1 | C40: 1.24 | D40: 1.41 | E40: 1.93 | F40: 1.26 | G40: 1.2 | H40: 1.2
A41: Ciències Biomèdiques | B41: 1 | C41: 2.53 | D41: 2.83 | E41: 3.48 | F41: 3.22 | G41: 2.5 | H41: 3.4
A42: Genètica | B42: 1 | C42: 2.58 | D42: 2.35 | E42: 2.75 | F42: 2.28 | G42: 2.23 | H42: 2.3
A43: Microbiologia | B43: 1 | C43: 1.68 | D43: 1.72 | E43: 1.67 | F43: 1.38 | G43: 1.32 | H43: 1.4

Sheet PC01_Ind02. Notes de tall d’e
B1: Torna a l'índex
B3: #VALUE! | E3: Fitxa de seguiment de l'indicador
B5: 1. Codi del l'indicador | D5: =Índex!A23 -> PC01_Ind02. | F5: 2. Nom de l'indicador | H5: =Índex!B23 -> Notes de tall d’entrada de l’alumnat de nou accés als Graus
B6: 3. Objectiu | D6: =Índex!E23 -> >11 | F6: 4. Freqüència de la medició | H6: Anual
B7: 5. Propietat | D7: =Índex!C23 -> Vicedeganat d'Estudis i Programació | F7: 6. Responsabilitat | H7: =Índex!D23 -> Responsable Gestió acadèmica
B8: 7. Processos als que afecta | D8: =Índex!G23 -> PC01. Definició de perfils d'ingrés, graduació i accés als estudis | F8: 8. Font obtenció de dades | H8: Dades extretes de la base de dades DATADASH amb data 02/10/2025: https://datax.uab.es/Publisher2/
A12: Evolució de les notes d’accés en els diferents graus de la facultat
A13: Grau | B13: Objectiu | C13: 2019/2020 | D13: 2020/2021 | E13: 2021/2022 | F13: 2022/2023 | G13: 2023/2024 | H13: 2024/2025
A14: Biologia | B14: 11 | C14: 10.76 | D14: 11.24 | E14: 11.4 | F14: 11.37 | G14: 10.95 | H14: 10.94
A15: Biologia Ambiental | B15: 11 | C15: 10.61 | D15: 11.04 | E15: 11.15 | F15: 11.35 | G15: 10.76 | H15: 10.74
A16: Bioquímica | B16: 11 | C16: 11.33 | D16: 11.55 | E16: 11.88 | F16: 11.88 | G16: 11.36 | H16: 11.34
A17: Biotecnologia | B17: 11 | C17: 11.13 | D17: 11.5 | E17: 11.87 | F17: 11.83 | G17: 11.53 | H17: 11.41
A18: Ciències Biomèdiques | B18: 11 | C18: 12.39 | D18: 12.7 | E18: 12.79 | F18: 12.78 | G18: 12.41 | H18: 12.43
A19: Genètica | B19: 11 | C19: 11.87 | D19: 12.11 | E19: 12.29 | F19: 12.35 | G19: 11.95 | H19: 11.74
A20: Microbiologia | B20: 11 | C20: 11.18 | D20: 11.48 | E20: 11.76 | F20: 11.73 | G20: 11.27 | H20: 11.02

Sheet PC01_Ind03. Sol·licituds de n
B1: Torna a l'índex
B3: #VALUE! | E3: Fitxa de seguiment de l'indicador
B5: 1. Codi del l'indicador | D5: =Índex!A24 -> PC01_Ind03 | F5: 2. Nom de l'indicador | H5: =Índex!B24 -> Sol·licituds de nou accés respecte a la oferta de places (Màsters)
B6: 3. Objectiu | D6: =Índex!E24 -> Doble de sol·licituds o més respecte al número de places | F6: 4. Freqüència de la medició | H6: Anual
B7: 5. Propietat | D7: =Índex!C24 -> Vicedeganat d'Estudis i Programació | F7: 6. Responsabilitat | H7: =Índex!D24 -> Responsable Gestió acadèmica
B8: 7. Processos als que afecta | D8: =Índex!G24 -> PC01. Definició de perfils d'ingrés, graduació i accés als estudis | F8: 8. Font obtenció de dades | H8: Dades extretes de la base de dades DATADASH amb data 02/10/2025: https://datax.uab.es/Publisher2/
A12: Sol·licituds i places per cada màster de la facultat
A13: Titulació Màster | B13: 2019/2020 | D13: 2020/2021 | F13: 2021/2022 | H13: 2022/2023 | J13: 2023/2024 | L13: 2024/2025
B14: Places | C14: Sol·licituds | D14: Places | E14: Sol·licituds | F14: Places | G14: Sol·licituds | H14: Places | I14: Sol·licituds | J14: Places | K14: Sol·licituds | L14: Places | M14: Sol·licituds
A15: Bioinformàtica | B15: 24 | C15: 141 | D15: 24 | E15: 112 | F15: 24 | G15: 146 | H15: 24 | I15: 138 | J15: 26 | K15: 181 | L15: 26 | M15: 157
A16: Biologia, Genòmica i Biotecnologia Vegetal | B16: 25 | C16: 80 | D16: 25 | E16: 80 | F16: 25 | G16: 85 | H16: 25 | I16: 78 | J16: 25 | K16: 69 | L16: 25 | M16: 95
A17: Bioquímica, Biologia Molecular i Biomedicina | B17: 40 | C17: 121 | D17: 40 | E17: 154 | F17: 40 | G17: 175 | H17: 40 | I17: 134 | J17: 40 | K17: 129 | L17: 40 | M17: 146
A18: Biotecnologia Avançada | B18: 25 | C18: 81 | D18: 25 | E18: 89 | F18: 25 | G18: 95 | H18: 25 | I18: 94 | J18: 25 | K18: 101 | L18: 25 | M18: 94
A19: Citogenètica i Biologia de la Reproducció | B19: 25 | C19: 86 | D19: 25 | E19: 86 | F19: 25 | G19: 67 | H19: 25 | I19: 93 | J19: 25 | K19: 63 | L19: 25 | M19: 97
A20: Ecologia Terrestre i Gestió de la Biodiversitat | B20: 30 | C20: 72 | D20: 30 | E20: 78 | F20: 30 | G20: 75 | H20: 30 | I20: 58 | J20: 30 | K20: 61 | L20: 30 | M20: 84
A21: Genètica Avançada | B21: 25 | C21: 103 | D21: 25 | E21: 92 | F21: 25 | G21: 119 | H21: 25 | I21: 110 | J21: 25 | K21: 141 | L21: 25 | M21: 185
A22: Microbiologia Aplicada | B22: 25 | C22: 62 | D22: 25 | E22: 85 | F22: 25 | G22: 103 | H22: 25 | I22: 90 | J22: 25 | K22: 80 | L22: 25 | M22: 63
A23: Neurociències | B23: 40 | C23: 121 | D23: 40 | E23: 99 | F23: 40 | G23: 99 | H23: 40 | I23: 80 | J23: 40 | K23: 88 | L23: 40 | M23: 84

Sheet PC01_Ind04. Valoració mitjana
B1: Torna a l'índex
B3: #VALUE! | E3: Fitxa de seguiment de l'indicador
B5: 1. Codi del l'indicador | D5: =Índex!A25 -> PC01_Ind04. | F5: 2. Nom de l'indicador | H5: =Índex!B25 -> Valoració mitjana a l’afirmació “La formació rebuda m’ha permès millorar les capacitats per a l’activitat professional”
B6: 3. Objectiu | D6: =Índex!E25 -> ≥Mitjana UAB | F6: 4. Freqüència de la medició | H6: Anual
B7: 5. Propietat | D7: =Índex!C25 -> Vicedeganat d'Estudis i Programació | F7: 6. Responsabilitat | H7: =Índex!D25 -> Gestió de qualitat
B8: 7. Processos als que afecta | D8: =Índex!G25 -> PC01. Definició de perfils d'ingrés, graduació i accés als estudis | F8: 8. Font obtenció de dades | H8: Dades extretes de les enquestes del grau de satisfacció de les persones titulades amb data 02/10/2025: https://www.uab.cat/web/estudis/qualitat-docent/persones-graduades-1345665543247.html
A12: Valoració mitjana a l’afirmació “La formació rebuda m’ha permès millorar les capacitats per a l’activitat professional
A13: Grau | B13: 2017/2018 | C13: 2018/2019 | D13: 2019/2020 | E13: 2021/2022 | F13: 2022/2023 | G13: 2023/2024 | H13: 2024/2025
A14: Biologia | B14: 3.27 | C14: 3.8 | D14: 3.75 | E14: 3.7 | F14: 3.59 | G14: 3.82 | H14: SD
A15: Biologia Ambiental | B15: 4.44 | C15: 4.29 | D15: 3.48 | E15: 3.67 | F15: 3.5 | G15: 4.24 | H15: SD
A16: Bioquímica | B16: 3.07 | C16: 3.64 | D16: SD | E16: 3.71 | F16: 3.62 | G16: 4.38 | H16: SD
A17: Biotecnologia | B17: 3.92 | C17: 4 | D17: 3.8 | E17: 4.07 | F17: 3.64 | G17: 3.92 | H17: SD
A18: Ciències Biomèdiques | B18: 3.8 | C18: 3.91 | D18: 4.5 | E18: 3.63 | F18: 3.8 | G18: 4.05 | H18: SD
A19: Genètica | B19: 3.71 | C19: 3.7 | D19: 4.3 | E19: 3.79 | F19: 3.93 | G19: 3.89 | H19: SD
A20: Microbiologia | B20: 4.44 | C20: 3.91 | D20: 4.4 | E20: 4.05 | F20: 3.88 | G20: 4.23 | H20: SD
A21: Graus Biociències | B21: 3.76 | C21: 3.88 | D21: 3.82 | E21: 3.8 | F21: 3.72 | G21: 4.07 | H21: SD
A22: Graus UAB | B22: 3.77 | C22: 3.77 | D22: 3.61 | E22: 3.81 | F22: 3.81 | G22: 3.89 | H22: SD
A26: Valoració mitjana a l’afirmació "La formació rebuda m’ha permès millorar les capacitats per a l’activitat professional”
A27: Màster | C27: 2017/2018 | D27: 2018/2019 | E27: 2019/2020 | F27: 2021/2022 | G27: 2022/2023 | H27: 2023/2024 | I27: 2024/2025
A28: Bioinformàtica | C28: SD | D28: 4.6 | E28: 4.56 | F28: 3.83 | G28: 4.67 | H28: 3.89 | I28: SD
A29: Biologia, Genòmica i Biotecnologia Vegetals | C29: SD | D29: 5 | E29: 4 | F29: 4.22 | G29: 3.6 | H29: 4.17 | I29: SD
A30: Bioquímica, Biologia Molecular i Biomedicina | C30: 3.6 | D30: 3.6 | E30: 3 | F30: 4.07 | G30: 4.47 | H30: 4.2 | I30: SD
A31: Biotecnologia Avançada | C31: SD | D31: 3.5 | F31: 3.7 | G31: 3.86 | H31: 4.43 | I31: SD
A32: Citogenètica i Biologia de la Reproducció | C32: SD | D32: 4 | E32: 3.5 | F32: 3.3 | G32: 4 | H32: 4 | I32: SD
A33: Ecologia Terrestre i Gestió de la Biodiversitat | C33: SD | D33: 4 | E33: 4 | F33: 3.75 | G33: 4.2 | H33: 3.89 | I33: SD
A34: Genètica Avançada | C34: SD | E34: 3 | F34: 3.27 | G34: 2.5 | H34: 4.14 | I34: SD
A35: Microbiologia Aplicada | C35: SD | D35: 3.2 | E35: 3 | F35: 3.82 | G35: 4.25 | H35: 3 | I35: SD
A36: Neurociències | C36: SD | D36: 3.5 | E36: 4 | F36: 3.33 | G36: 3.5 | H36: 4 | I36: SD
A37: Màsters Biociències | C37: SD | D37: 3.94 | E37: 3.83 | F37: 3.73 | G37: 4 | H37: 3.99 | I37: SD
A38: Màsters UAB | C38: SD | D38: 3.77 | E38: 3.61 | F38: 3.81 | G38: 3.75 | H38: 3.96 | I38: SD

Sheet PC01_Ind05. Valoració positiv
B1: Torna a l'índex
B3: #VALUE! | E3: Fitxa de seguiment de l'indicador
B5: 1. Codi del l'indicador | D5: =Índex!A26 -> PC01_Ind05. | F5: 2. Nom de l'indicador | H5: =Índex!B26 -> Valoració mitjana a les afirmacions “Tornaria a triar la mateixa titulació” i “Tornaria a triar la mateixa Universitat”
B6: 3. Objectiu | D6: =Índex!E26 -> ≥Mitjana UAB | F6: 4. Freqüència de la medició | H6: Anual
B7: 5. Propietat | D7: =Índex!C26 -> Vicedeganat d'Estudis i Programació | F7: 6. Responsabilitat | H7: =Índex!D26 -> Gestió de qualitat
B8: 7. Processos als que afecta | D8: =Índex!G26 -> PC01. Definició de perfils d'ingrés, graduació i accés als estudis | F8: 8. Font obtenció de dades | H8: Dades extretes de les enquestes del grau de satisfacció de les persones titulades amb data 02/10/2025: https://www.uab.cat/web/estudis/qualitat-docent/persones-graduades-1345665543247.html
A12: Valoració mitjana a l’afirmació “Tornaria a triar la mateixa titulació”
A13: Graus | B13: 2017/2018 | C13: 2018/2019 | D13: 2019/2020 | E13: 2021/2022 | F13: 2022/2023 | G13: 2023/2024 | H13: 2024/2025
A14: Biologia | B14: 0.7273 | C14: 0.7333 | D14: 0.8333 | E14: 0.65 | F14: 0.8333 | G14: 0.6364 | H14: SD
A15: Biologia Ambiental | B15: 0.8889 | C15: 1 | D15: 0.7273 | E15: 0.9259 | F15: 0.8 | G15: 0.7647 | H15: SD
A16: Bioquímica | B16: 0.5 | C16: 0.8182 | D16: SD | E16: 0.7273 | F16: 0.6923 | G16: 0.6875 | H16: SD
A17: Biotecnologia | B17: 0.6923 | C17: 0.8333 | D17: 0.8 | E17: 0.8929 | F17: 0.6087 | G17: 0.7917 | H17: SD
A18: Ciències Biomèdiques | B18: 0.72 | C18: 0.7273 | D18: 0.6667 | E18: 0.5 | F18: 0.75 | G18: 0.9 | H18: SD
A19: Genètica | B19: 1 | C19: 0.5 | D19: 0.7 | E19: 0.8333 | F19: 0.8 | G19: 0.7222 | H19: SD
A20: Microbiologia | B20: 0.7778 | C20: 0.8182 | D20: 0.6 | E20: 0.6667 | F20: 0.76 | G20: 0.9231 | H20: SD
A21: Graus Biociències | B21: 0.7273 | C21: 0.7711 | D21: 0.7368 | E21: 0.753 | F21: 0.7442 | G21: 0.7815 | H21: SD
A22: Graus UAB | B22: 0.75 | C22: 0.7277 | D22: 0.7017 | E22: 0.73 | F22: 0.7319 | G22: 0.74 | H22: SD
A25: Valoració mitjana a l’afirmació “Tornaria a triar la mateixa Universitat”,
A26: Graus | C26: 2017/2018 | D26: 2018/2019 | E26: 2019/2020 | F26: 2021/2022 | G26: 2022/2023 | H26: 2023/2024 | I26: 2024/2025
A27: Biologia | C27: 0.7273 | D27: 0.9333 | E27: 0.9167 | F27: 0.8 | G27: 0.9444 | H27: 1 | I27: SD
A28: Biologia Ambiental | C28: 0.8889 | D28: 1 | E28: 0.8182 | F28: 0.7778 | G28: 0.8667 | H28: 0.9412 | I28: SD
A29: Bioquímica | C29: 0.4286 | D29: 0.9091 | F29: 0.8182 | G29: 0.7692 | H29: 0.75 | I29: SD
A30: Biotecnologia | C30: 0.8462 | D30: 0.9444 | E30: 0.8 | F30: 0.9286 | G30: 0.913 | H30: 0.9583 | I30: SD
A31: Ciències Biomèdiques | C31: 0.72 | D31: 0.8182 | E31: 1 | F31: 0.8333 | G31: 0.8 | H31: 0.8 | I31: SD
A32: Genètica | C32: 0.8571 | D32: 0.7 | E32: 1 | F32: 0.875 | G32: 0.9333 | H32: 0.7778 | I32: SD
A33: Microbiologia | C33: 0.8889 | D33: 0.9091 | E33: 0.8 | F33: 0.7143 | G33: 0.96 | H33: 1 | I33: SD
A34: Graus Biociències | C34: 73,86& | D34: 0.8916 | E34: 0.8684 | F34: 0.8253 | G34: 0.8915 | H34: 0.8824 | I34: SD
A35: Graus UAB | C35: 0.7852 | D35: 0.8094 | E35: 0.798 | F35: 0.8039 | G35: 0.8006 | H35: 0.7973 | I35: SD
A39: Valoració mitjana a l’afirmació “Tornaria a triar la mateixa titulació”
A40: Màster | B40: 2017/2018 | C40: 2018/2019 | D40: 2019/2020 | E40: 2021/2022 | F40: 2022/2023 | G40: 2023/2024 | H40: 2024/2025
A41: Bioinformàtica | B41: SD | C41: 1 | D41: 0.5556 | E41: 0.8462 | F41: 0.8571 | G41: 0.6667 | H41: SD
A42: Biologia, Genòmica i Biotecnologia Vegetals | B42: SD | C42: 0 | D42: 0.5 | E42: 0.6667 | F42: 0.6 | G42: 0.8333 | H42: SD
A43: Bioquímica, Biologia Molecular i Biomedicina | B43: 0.4 | C43: 0.8 | D43: 0.75 | E43: 0.5333 | F43: 0.8824 | G43: 0.6 | H43: SD
A44: Biotecnologia Avançada | B44: SD | C44: 1 | E44: 0.6 | F44: 0.625 | G44: 0.8571 | H44: SD
A45: Citogenètica i Biologia de la Reproducció | B45: SD | C45: 0 | D45: 1 | E45: 0.7 | F45: 1 | G45: 0.625 | H45: SD
A46: Ecologia Terrestre i Gestió de la Biodiversitat | B46: SD | C46: 0.75 | D46: 0.6667 | E46: 0.875 | F46: 1 | G46: 0.6667 | H46: SD
A47: Genètica Avançada | B47: SD | D47: 0.5 | E47: 0.3333 | F47: 0.25 | G47: 0.8571 | H47: SD
A48: Microbiologia Aplicada | B48: SD | C48: 0.4 | D48: 1 | E48: 0.8182 | F48: 0.5 | G48: 0.2857 | H48: SD
A49: Neurociències | B49: SD | C49: 0.75 | D49: 0.6 | E49: 0.5 | F49: 0.6 | G49: 0.8889 | H49: SD
A50: Màster Biociències | B50: SD | C50: 0.75 | D50: 0.6667 | E50: 0.6489 | F50: 0.7536 | G50: 0.6986 | H50: SD
A51: Màster UAB | B51: SD | C51: 0.7443 | D51: 0.6404 | E51: 0.7049 | F51: 0.7087 | G51: 0.7559 | H51: SD
A54: Valoració mitjana a l’afirmació “Tornaria a triar la mateixa universitat”
A55: Màster | B55: 2017/2018 | C55: 2018/2019 | D55: 2019/2020 | E55: 2021/2022 | F55: 2022/2023 | G55: 2023/2024 | H55: 2024/2025
A56: Bioinformàtica | B56: SD | C56: 0.9 | D56: 0.8889 | E56: 0.6154 | F56: 1 | G56: 0.5556 | H56: SD
A57: Biologia, Genòmica i Biotecnologia Vegetals | B57: SD | C57: 0 | D57: 0.5 | E57: 0.7778 | F57: 1 | G57: 1 | H57: SD
A58: Bioquímica, Biologia Molecular i Biomedicina | B58: 0.8 | C58: 1 | D58: 0.5 | E58: 0.6667 | F58: 1 | G58: 0.8 | H58: SD
A59: Biotecnologia Avançada | B59: SD | C59: 1 | E59: 0.7 | F59: 1 | G59: 1 | H59: SD
A60: Citogenètica i Biologia de la Reproducció | B60: SD | C60: 1 | D60: 1 | E60: 0.8 | F60: 1 | G60: 0.875 | H60: SD
A61: Ecologia Terrestre i Gestió de la Biodiversitat | B61: SD | C61: 1 | D61: 0.6667 | E61: 0.75 | F61: 1 | G61: 0.7778 | H61: SD
A62: Genètica Avançada | B62: SD | D62: 0.5 | E62: 0.5833 | F62: 1 | G62: 0.7143 | H62: SD
A63: Microbiologia Aplicada | B63: SD | C63: 0.8 | D63: 0.6667 | E63: 0.8182 | F63: 1 | G63: 0.7143 | H63: SD
A64: Neurociències | B64: SD | C64: 0.5 | D64: 1 | E64: 0.3333 | F64: 0.6 | G64: 0.7778 | H64: SD
A65: Màster Biociències | B65: SD | C65: 0.8438 | D65: 0.7667 | E65: 0.6809 | F65: 0.942 | G65: 0.7945 | H65: SD
A66: Màster UAB | B66: SD | C66: 0.8155 | D66: 0.7678 | E66: 0.7991 | F66: 0.8108 | G66: 0.8105 | H66: SD

Sheet PC02_Ind01. Nombre d’assignat
B1: Torna a l'índex
B3: #VALUE! | E3: Fitxa de seguiment de l'indicador
B5: 1. Codi del l'indicador | D5: =Índex!A27 -> PC02_Ind01. | F5: 2. Nom de l'indicador | H5: =Índex!B27 -> Nombre d’assignatures que imparteixen docència en anglès
B6: 3. Objectiu | D6: =Índex!E27 -> Observar un increment | F6: 4. Freqüència de la medició | H6: Anual
B7: 5. Propietat | D7: =Índex!C27 -> Vicedeganat d'Estudis i Programació | F7: 6. Responsabilitat | H7: =Índex!D27 -> Gestió de programació docent
B8: 7. Processos als que afecta | D8: =Índex!G27 -> PC02. Planificació i Programació docent de les assignatures. | F8: 8. Font obtenció de dades | H8: Dades extretes de l'aplicatiu TPD amb data 02/10/2025: https://sso.uab.cat/cas/login?service=https%3A%2F%2Ftpd.uab.cat%2Fj_spring_cas_security_check
A11: Nombre d'assignatures que imparteixen docència en anglès
A12: Curs | B12: Núm. assignatures | C12: Núm. total hores | D12: Núm. hores | E12: Núm. professors/es
C13: en assignatures | D13: en anglès
A14: 2019/2020 | B14: 16 | C14: 374 | D14: 325 | E14: 31
A15: 2020/2021 | B15: 16 | C15: 383 | D15: 321 | E15: 33
A16: 2021/2022 | B16: 18 | C16: 514 | D16: 311 | E16: 31
A17: 2022/2023 | B17: 18 | C17: 467 | D17: 376 | E17: 43
A18: 2023/2024 | B18: 20 | C18: 527 | D18: 383 | E18: 45
A19: 2024/2025 | B19: 21 | C19: 848 | D19: 486

Sheet PC02_Ind02. Ràtio programada 
B1: Torna a l'índex
B3: #VALUE! | E3: Fitxa de seguiment de l'indicador
B5: 1. Codi del l'indicador | D5: =Índex!A28 -> PC02_Ind02. | F5: 2. Nom de l'indicador | H5: =Índex!B28 -> Ràtio programada de les titulacions de grau vs. ràtio teòrica
B6: 3. Objectiu | D6: =Índex!E28 -> Ràtio de 13 | F6: 4. Freqüència de la medició | H6: Anual
B7: 5. Propietat | D7: =Índex!C28 -> Vicedeganat d'Estudis i Programació | F7: 6. Responsabilitat | H7: =Índex!D28 -> Gestió de programació docent
B8: 7. Processos als que afecta | D8: =Índex!G28 -> PC02. Planificació i Programació docent de les assignatures. | F8: 8. Font obtenció de dades | H8: Dades extretes de l'aplicatiu TPD amb data 02/10/2025: https://sso.uab.cat/cas/login?service=https%3A%2F%2Ftpd.uab.cat%2Fj_spring_cas_security_check
A12: Ràtio programada de les titulacions de grau vs. ràtio teòrica
A13: Titulació | B13: 2019/2020 | D13: 2020/2021 | F13: 2021/2022 | H13: 2022/2023 | J13: 2023/2024 | L13: 2024/2025
A14: Ràtio | B14: Teòrica | C14: Programada | D14: Teòrica | E14: Programada | F14: Teòrica | G14: Programada | H14: Teòrica | I14: Programada | J14: Teòrica | K14: Programada | L14: Teòrica | M14: Programada
A15: Biologia | B15: 14.72 | C15: 13.57 | D15: 14.09 | E15: 14.2 | F15: 13.95 | G15: 13.76 | H15: 13.09 | I15: 13.47 | J15: 13.74 | K15: 13.77 | L15: 13.89 | M15: 13.95
A16: Biologia Ambiental | B16: 12.45 | C16: 12.11 | D16: 11.87 | E16: 11.5 | F16: 12.04 | G16: 12.24 | H16: 11.62 | I16: 11.63 | J16: 11.86 | K16: 12.3 | L16: 12.34 | M16: 12.72
A17: Bioquímica | B17: 13.89 | C17: 13.54 | D17: 13.03 | E17: 12.54 | F17: 12.76 | G17: 13.18 | H17: 12.37 | I17: 12.98 | J17: 12.44 | K17: 13.01 | L17: 13.06 | M17: 13.27
A18: Biotecnologia | B18: 13.74 | C18: 13.32 | D18: 13.31 | E18: 13.64 | F18: 13.31 | G18: 13.64 | H18: 13.34 | I18: 13.03 | J18: 13.15 | K18: 13.12 | L18: 13.84 | M18: 14.34
A19: Ciències Biomèdiques | B19: 10.77 | C19: 11.01 | D19: 10.14 | E19: 11.1 | F19: 10.86 | G19: 12.2 | H19: 11.19 | I19: 11.99 | J19: 11.5 | K19: 12.37 | L19: 11.89 | M19: 13.48
A20: Genètica | B20: 13.52 | C20: 13.42 | D20: 12.55 | E20: 13.08 | F20: 12.56 | G20: 12.88 | H20: 12.29 | I20: 13.18 | J20: 12.57 | K20: 13.49 | L20: 12.78 | M20: 13.41
A21: Microbiologia | B21: 13.33 | C21: 12.51 | D21: 12.52 | E21: 16.34 | F21: 12.93 | G21: 12.66 | H21: 12.87 | I21: 13.5 | J21: 12.47 | K21: 12.87 | L21: 12.57 | M21: 13.19
A22: Mitjana Facultat | C22: 12.78 | E22: 13.2 | G22: 12.93 | I22: 12.83 | K22: 12.99 | M22: =AVERAGE(M15:M21) -> 13.48

Sheet PC02_Ind03. Valoració mitjana
B1: Torna a l'índex
B3: #VALUE! | E3: Fitxa de seguiment de l'indicador
B5: 1. Codi del l'indicador | D5: =Índex!A29 -> PC02_Ind03. | F5: 2. Nom de l'indicador | H5: =Índex!B29 -> Valoració mitjana a l’afirmació “Fins ara s’ha seguit la programació de l’assignatura que s’explica a la guia docent dels Graus”(Enquesta assignatura/mòdul)
B6: 3. Objectiu | D6: =Índex!E29 -> ≥ Mitjana UAB | F6: 4. Freqüència de la medició | H6: Anual
B7: 5. Propietat | D7: =Índex!C29 -> Vicedeganat d'Estudis i Programació | F7: 6. Responsabilitat | H7: =Índex!D29 -> Gestió de qualitat
B8: 7. Processos als que afecta | D8: =Índex!G29 -> PC02. Planificació i Programació docent de les assignatures. | F8: 8. Font obtenció de dades | H8: Dades extretes de les enquestes d'avaluació de les assignatures de grau i de màster amb data 02/10/2025: https://www.uab.cat/web/estudiar/qualitat-docent/avaluacio-de-les-assignatures/moduls-de-grau-i-master-universitari-1345665543141.html
A12: Valoració mitjana a l’afirmació “Fins ara s’ha seguit la programació de l’assignatura que s’explica a la guia docent dels Graus”
A13: Curs acadèmic | B13: Primer semestre | D13: Segon semestre
B14: Valoració/4 | C14: Índex participació | D14: Valoració/4 | E14: Índex participació
A15: 2019/2020 | B15: 3.55 | C15: 0.3198 | D15: Sense dades | E15: Sense dades
A16: 2020/2021 | B16: 3.58 | C16: 0.3153 | D16: 3.38 | E16: 0.1744
A17: 2021/2022 | B17: 3.61 | C17: 0.1868 | D17: 3.57 | E17: 0.1764
A18: 2022/2023 | B18: 3.63 | C18: 0.3255 | D18: 3.64 | E18: 0.1992
A19: 2023/2024 | B19: 3.66 | C19: 0.302 | D19: 3.65 | E19: 0.2601
A20: 2024/2025 | B20: 3.62 | C20: 0.3342 | D20: 3.74 | E20: 0.2815
A23: Valoració mitjana a l’afirmació “Fins ara s’ha seguit la programació de l’assignatura que s’explica a la guia docent dels Graus”
A24: Semestre | B24: Grau | C24: 2019/2020 | D24: 2020/2021 | E24: 2021/2022 | F24: 2022/2023 | G24: 2023/2024 | H24: 2024/2025
A25: Primer Semestre | B25: Biologia | C25: 3.51 | D25: 3.63 | E25: 3.57 | F25: 3.7 | G25: 3.74 | H25: 3.68
B26: Biologia Ambiental | C26: 3.64 | D26: 3.52 | E26: 3.74 | F26: 3.7 | G26: 3.67 | H26: 3.69
B27: Bioquímica | C27: 3.52 | D27: 3.61 | E27: 3.57 | F27: 3.58 | G27: 3.6 | H27: 3.57
B28: Biotecnologia | C28: 3.52 | D28: 3.53 | E28: 3.63 | F28: 3.39 | G28: 3.49 | H28: 3.54
B29: Ciències Biomèdiques | C29: 3.5 | D29: 3.58 | E29: 3.38 | F29: 3.73 | G29: 3.5 | H29: 3.66
B30: Genètica | C30: 3.65 | D30: 3.6 | E30: 3.71 | F30: 3.73 | G30: 3.85 | H30: 3.67
B31: Microbiologia | C31: 3.48 | D31: 3.61 | E31: 3.64 | F31: 3.61 | G31: 3.72 | H31: 3.62
B32: Graus Biociències | C32: 3.55 | D32: 3.58 | E32: 3.61 | F32: 3.63 | G32: 3.66 | H32: 3.62
B33: Graus UAB | C33: 3.42 | D33: 3.46 | E33: 3.5 | F33: 3.52 | G33: 3.53 | H33: 3.52
A34: Segon Semestre | B34: Biologia | E34: 3.33 | F34: 3.54 | G34: 3.59 | H34: 3.72
B35: Biologia Ambiental | E35: 3.62 | F35: 3.71 | G35: 3.64 | H35: 3.68
B36: Bioquímica | E36: 3.73 | F36: 3.56 | G36: 3.6 | H36: 3.74
B37: Biotecnologia | E37: 3.75 | F37: 3.71 | G37: 3.71 | H37: 3.73
B38: Ciències Biomèdiques | E38: 3.55 | F38: 3.64 | G38: 3.62 | H38: 3.76
B39: Genètica | E39: 3.43 | F39: 3.59 | G39: 3.74 | H39: 3.73
B40: Microbiologia | E40: 3.56 | F40: 3.73 | G40: 3.73 | H40: 3.8
B41: Graus Biociències | E41: 3.57 | F41: 3.64 | G41: 3.65 | H41: 3.74
B42: Graus UAB | E42: 3.51 | F42: 3.52 | G42: 3.53 | H42: 3.52

Sheet PC02_Ind04. Valoració mitjana
B1: Torna a l'índex
B3: #VALUE! | E3: Fitxa de seguiment de l'indicador
B5: 1. Codi del l'indicador | D5: =Índex!A30 -> PC02_Ind04. | F5: 2. Nom de l'indicador | H5: =Índex!B30 -> Valoració mitjana a l’afirmació “Fins ara s’ha seguit la programació de l’assignatura que s’explica a la guia docent dels Màsters” (Enquesta assignatura/mòdul)
B6: 3. Objectiu | D6: =Índex!E30 -> ≥ Mitjana UAB | F6: 4. Freqüència de la medició | H6: Anual
B7: 5. Propietat | D7: =Índex!C30 -> Vicedeganat d'Estudis i Programació | F7: 6. Responsabilitat | H7: =Índex!D30 -> Gestió de qualitat
B8: 7. Processos als que afecta | D8: =Índex!G30 -> PC02. Planificació i Programació docent de les assignatures. | F8: 8. Font obtenció de dades | H8: Dades extretes de les enquestes d'avaluació de les assignatures de grau i de màster amb data 02/10/2025: https://www.uab.cat/web/estudiar/qualitat-docent/avaluacio-de-les-assignatures/moduls-de-grau-i-master-universitari-1345665543141.html
A12: Valoració mitjana a l’afirmació “Fins ara s’ha seguit la programació de l’assignatura que s’explica a la guia docent dels Màsters” | H12: Valoració mitjana a l’afirmació “Fins ara s’ha seguit la programació de l’assignatura que s’explica a la guia docent dels Màsters”
A13: Curs acadèmic | B13: Primer semestre | D13: Segon semestre | H13: Màster | I13: 2019/2020 | K13: 2020/2021 | M13: 2021/2022 | O13: 2022/2023 | Q13: 2023/20024 | S13: 2024/20025
B14: Valoració/4 | C14: Índex participació | D14: Valoració/4 | E14: Índex participació | I14: Primer semestre | J14: Segon semestre | K14: Primer semestre | L14: Segon semestre | M14: Primer semestre | N14: Segon semestre | O14: Primer semestre | P14: Segon semestre | Q14: Primer semestre | R14: Segon semestre | S14: Primer semestre | T14: Segon semestre
A15: 2019/2020 | B15: 3.55 | C15: 0.3605 | D15: SD | E15: SD | H15: Bioinformàtica | I15: 3.6 | J15: SD | K15: 3.47 | L15: SD | M15: SD | N15: SD | O15: SD | P15: SD | Q15: SD | R15: SD | S15: SD | T15: SD
A16: 2020/2021 | B16: 3.64 | C16: 0.1745 | D16: 3.44 | E16: 0.1538 | H16: Biologia, Genòmica i Biotecnologia Vegetals | I16: 3.42 | J16: SD | K16: SD | L16: SD | M16: SD | N16: SD | O16: 3.5 | P16: SD | Q16: SD | R16: SD | S16: 3.8 | T16: SD
A17: 2021/2022 | B17: 3.62 | C17: 0.089 | D17: 2.65 | E17: 0.0421 | H17: Bioquímica, Biologia Molecular i Biomedicina | I17: 3.25 | J17: SD | K17: 3.71 | L17: 3.72 | M17: 3.8 | N17: SD | O17: 2.86 | P17: 3.96 | Q17: 3.8 | R17: 3.69 | S17: SD | T17: 3.74
A18: 2022/2023 | B18: 3.33 | C18: 0.1174 | D18: 2.48 | E18: 0.0784 | H18: Biotecnologia Avançada | I18: SD | J18: SD | K18: 4 | L18: SD | M18: 3.2 | N18: SD | O18: SD | P18: SD | Q18: 3.73 | R18: SD | S18: SD | T18: SD
A19: 2023/2024 | B19: SD | C19: 0.0793 | D19: SD | E19: 0.0939 | H19: Citogenètica i Biologia de la Reproducció | I19: 3.72 | J19: SD | K19: 3.82 | L19: SD | M19: SD | N19: SD | O19: 3.97 | P19: SD | Q19: 3.87 | R19: SD | S19: SD | T19: SD
A20: 2024/2025 | B20: SD | C20: 0.082 | D20: 3.75 | E20: 0.2869 | H20: Ecologia Terrestre i Gestió de la Biodiversitat | I20: SD | J20: SD | K20: SD | L20: SD | M20: SD | N20: SD | O20: SD | P20: SD | Q20: SD | R20: SD | S20: SD | T20: SD
H21: Genètica Avançada | I21: SD | J21: SD | K21: 3.6 | L21: SD | M21: 3.23 | N21: SD | O21: SD | P21: SD | Q21: SD | R21: SD | S21: SD | T21: SD
H22: Microbiologia Aplicada | I22: SD | J22: SD | K22: SD | L22: SD | M22: SD | N22: 3 | O22: SD | P22: SD | Q22: SD | R22: SD | S22: SD | T22: 3.72
H23: Neurociències | I23: 3.55 | J23: SD | K23: 3.71 | L23: 1.91 | M23: SD | N23: SD | O23: 3.5 | P23: SD | Q23: 3.67 | R23: SD | S23: 3.59 | T23: SD
H24: Màsters Biociències | I24: 3.55 | J24: SD | K24: 3.64 | L24: 3.19 | M24: 3.62 | N24: 2.65 | O24: 3.33 | P24: SD | Q24: SD | R24: SD | S24: SD | T24: 3.75
H25: Màsters UAB | I25: 3.5 | J25: SD | K25: 3.6 | L25: 3.44 | M25: 3.61 | N25: 3.41 | O25: 3.55 | P25: 3.42 | Q25: 3.68 | R25: 3.44 | S25: 3.63 | T25: 3.57

Sheet PC02_Ind05. Valoració mitjana
B1: Torna a l'índex
B3: #VALUE! | E3: Fitxa de seguiment de l'indicador
B5: 1. Codi del l'indicador | D5: =Índex!A31 -> PC02_Ind05. | F5: 2. Nom de l'indicador | H5: =Índex!B31 -> Valoració mitjana a la pregunta “Hi ha hagut una bona coordinació en els continguts de les assignatures per evitar solapaments” (Enquesta assignatura/mòdul)
B6: 3. Objectiu | D6: =Índex!E31 -> ≥ Mitjana UAB | F6: 4. Freqüència de la medició | H6: Anual
B7: 5. Propietat | D7: =Índex!C31 -> Vicedeganat d'Estudis i Programació | F7: 6. Responsabilitat | H7: =Índex!D31 -> Gestió de qualitat
B8: 7. Processos als que afecta | D8: =Índex!G31 -> PC02. Planificació i Programació docent de les assignatures. | F8: 8. Font obtenció de dades | H8: Dades extretes de les enquestes del grau de satisfacció de les persones titulades amb data 02/10/2025: https://www.uab.cat/web/estudis/qualitat-docent/persones-graduades-1345665543247.html
A12: Valoració mitjana a l’afirmació “Fins ara s’ha seguit la programació de l’assignatura que s’explica a la guia docent dels Màsters”“Hi ha hagut una bona coordinació en els continguts de les assignatures per evitar solapaments”
A13: Grau | B13: 2017/2018 | C13: 2018/2019 | D13: 2019/2020 | E13: 2021/2022 | F13: 2022/2023 | G13: 2023/2024 | H13: 2024/2025
A14: Biologia | B14: 3.18 | C14: 2.87 | D14: 2.75 | E14: 3.1 | F14: 3 | G14: 2.82 | H14: SD
A15: Biologia Ambiental | B15: 2.89 | C15: 3.14 | D15: 3 | E15: 3.44 | F15: 3.53 | G15: 3 | H15: SD
A16: Bioquímica | B16: 2.43 | C16: 2.91 | D16: SD | E16: 3.36 | F16: 3.31 | G16: 3.06 | H16: SD
A17: Biotecnologia | B17: 3.08 | C17: 3.33 | D17: 3.5 | E17: 3.04 | F17: 3.52 | G17: 3 | H17: SD
A18: Ciències Biomèdiques | B18: 1.84 | C18: 2.45 | D18: 2.33 | E18: 2.29 | F18: 2.55 | G18: 2.4 | H18: SD
A19: Genètica | B19: 2.33 | C19: 2.4 | D19: 2.5 | E19: 2.63 | F19: 3.13 | G19: 2.72 | H19: SD
A20: Microbiologia | B20: 3.78 | C20: 3.27 | D20: 3.6 | E20: 3.43 | F20: 3.24 | G20: 3.15 | H20: SD
A21: Graus Biociències | B21: 2.63 | C21: 2.94 | D21: 2.95 | E21: 3.04 | F21: 3.18 | G21: 2.87 | H21: SD
A22: Graus UAB | B22: 2.99 | C22: 2.93 | D22: 2.99 | E22: 3.15 | F22: 3.24 | G22: 3.17 | H22: SD

Sheet PC03.1_Ind01. Percentatge d’a
B1: Torna a l'índex
B3: #VALUE! | E3: Fitxa de seguiment de l'indicador
B5: 1. Codi del l'indicador | D5: =Índex!A32 -> PC03.1_Ind01. | F5: 2. Nom de l'indicador | H5: =Índex!B32 -> Percentatge d’alumnat graduat que ha realitzat les PAE
B6: 3. Objectiu | D6: =Índex!E32 -> >90% Valorar l’interès de l’alumnat per fer PAE | F6: 4. Freqüència de la medició | H6: Anual
B7: 5. Propietat | D7: =Índex!C32 -> Vicedeganat de Mobilitat, Pràctiques i Promoció | F7: 6. Responsabilitat | H7: =Índex!D32 -> Gestió de pràctiques
B8: 7. Processos als que afecta | D8: =Índex!G32 -> PC03.1.Gestió de les Pràctiques Externes | F8: 8. Font obtenció de dades | H8: Dades extretes de l'arxiu de la Gestió acadèmica amb data 06/10/2025
A12: Percentatge d’alumnat graduat que ha realitzat les PAE
A13: Curs | B13: Graduats | C13: Alumnat que ha matriculat les PAE | D13: Percentatge d’alumnat graduat que ha matriculat les PAE
A14: 2021/2022 | B14: 426 | C14: 402 | D14: 0.943
A15: 2022/2023 | B15: 389 | C15: 372 | D15: 0.956
A16: 2023/2024 | B16: 422 | C16: 402 | D16: 0.952
A17: 2024/2025 | B17: 412 | C17: 233 | D17: =C17/B17 -> 0.56553398
A20: Percentatge d’alumnat graduat que ha matriculat les PAE, desglossat per titulacions
A21: Graus | B21: 2021/202 | C21: 2022/2023 | D21: 2023/2024 | E21: 2024/2025
A22: Biologia | B22: 0.922 | C22: 0.9 | D22: 0.878 | E22: 0.62
A23: Biologia Ambiental | B23: 0.967 | C23: 0.941 | D23: 1 | E23: 0.57
A24: Bioquímica | B24: 0.95 | C24: 0.98 | D24: 0.98 | E24: 0.56
A25: Biotecnologia | B25: 0.973 | C25: 0.935 | D25: 0.935 | E25: 0.42
A26: Ciències Biomèdiques | B26: 0.928 | C26: 1 | D26: 0.96 | E26: 0.71
A27: Genètica | B27: 0.907 | C27: 0.98 | D27: 1 | E27: 0.56
A28: Microbiologia | B28: 0.954 | C28: 0.95 | D28: 0.95 | E28: 0.53

Sheet PC03.1_Ind02.  Nombre d’alumn
B1: Torna a l'índex
B3: #VALUE! | E3: Fitxa de seguiment de l'indicador
B5: 1. Codi del l'indicador | D5: =Índex!A33 -> PC03.1_Ind02. | F5: 2. Nom de l'indicador | H5: =Índex!B33 -> Nombre d’alumnat de Grau matriculat desglossat per lloc de pràctiques (UAB, Extern i Extern estranger)
B6: 3. Objectiu | D6: =Índex!E33 -> >60% Valorar l’interès de l’alumnat per fer les pràctiques en centres externs | F6: 4. Freqüència de la medició | H6: Anual
B7: 5. Propietat | D7: =Índex!C33 -> Vicedeganat de Mobilitat, Pràctiques i Promoció | F7: 6. Responsabilitat | H7: =Índex!D33 -> Gestió de pràctiques
B8: 7. Processos als que afecta | D8: =Índex!G33 -> PC03.1.Gestió de les Pràctiques Externes | F8: 8. Font obtenció de dades | H8: Dades extretes de l'arxiu de la Gestió acadèmica amb data 06/10/2025
A12: Nombre d’estudiants de Graus matriculats desglossat per lloc de pràctiques (UAB, Extern i Extern estranger)
A13: Alumnat matriculat PAE | C13: Alumnat/Lloc de pràctiques | F13: Percentatge: Lloc de pràctiques
C14: UAB | D14: Extern | E14: Extern a l'estranger (EE) | F14: UAB | G14: EN | H14: EE
D15: Nacional (EN)
A16: 2018/2019 | B16: 373 | C16: 148 | D16: 213 | E16: 12 | F16: 0.397 | G16: 0.571 | H16: 0.032
A17: 2019/2020 | B17: 412 | C17: 127 | D17: 264 | E17: 21 | F17: 0.308 | G17: 0.641 | H17: 0.051
A18: 2020/2021 | B18: 382 | C18: 155 | D18: 206 | E18: 21 | F18: 0.406 | G18: 0.539 | H18: 0.055
A19: 2021/2022 | B19: 431 | C19: 143 | D19: 279 | E19: 9 | F19: 0.331 | G19: 0.647 | H19: 0.021
A20: 2022/2023 | B20: 380 | C20: 124 | D20: 243 | E20: 13 | F20: 0.3263 | G20: 0.6395 | H20: 0.0342
A21: 2023/2024 | B21: 553 | C21: 173 | D21: 366 | E21: 14 | F21: 0.3129 | G21: 0.6618 | H21: 0.0253
A22: 2024/2025 | B22: 429 | C22: 142 | D22: 274 | E22: 13 | F22: 0.331 | G22: 0.6387 | H22: 0.0303

Sheet PC03.1_Ind03. Grau de satisfacc
B1: Torna a l'índex
B3: #VALUE! | E3: Fitxa de seguiment de l'indicador
B5: 1. Codi del l'indicador | D5: =Índex!A34 -> PC03.1_Ind03. | F5: 2. Nom de l'indicador | H5: =Índex!B34 -> Grau de satisfacció de l’estudiantat participant en programes de pràctiques externes
B6: 3. Objectiu | D6: =Índex!E34 -> ≥3,75 i superior a la mitjana de la UAB | F6: 4. Freqüència de la medició | H6: Anual
B7: 5. Propietat | D7: =Índex!C34 -> Vicedeganat de Mobilitat, Pràctiques i Promoció | F7: 6. Responsabilitat | H7: =Índex!D34 -> OQD
B8: 7. Processos als que afecta | D8: =Índex!G34 -> PC03.1.Gestió de les Pràctiques Externes | F8: 8. Font obtenció de dades | H8: Dades extretes de les enquestes del grau de satisfacció de les persones titulades amb data 02/10/2025: https://www.uab.cat/web/estudis/qualitat-docent/persones-graduades-1345665543247.html
A12: Valoració mitjana a l’afirmació "Les pràctiques externes m'han permès aplicar els coneixements adquirits durant la titulació"
A13: Graus | B13: 2018/2019 | C13: 2019/2020 | D13: 2021/2022 | E13: 2022/2023 | F13: 2023/2024 | G13: 2024/2025
A14: Biologia | B14: 3.53 | C14: 3.75 | D14: 3.85 | E14: 3.89 | F14: 4.5 | G14: SD
A15: Biologia Ambiental | B15: 3.14 | C15: 3.55 | D15: 4.04 | E15: 4.14 | F15: 4.35 | G15: SD
A16: Bioquímica | B16: 4 | C16: SD | D16: 4.41 | E16: 3.85 | F16: 4.13 | G16: SD
A17: Biotecnologia | B17: 4.44 | C17: 4.56 | D17: 4.14 | E17: 3.83 | F17: 4.25 | G17: SD
A18: Ciències Biomèdiques | B18: 4.27 | C18: 4 | D18: 3.83 | E18: 3.95 | F18: 4.17 | G18: SD
A19: Genètica | B19: 4.4 | C19: 4.2 | D19: 4.46 | E19: 4.2 | F19: 4.22 | G19: SD
A20: Microbiologia | B20: 4.09 | C20: 4.8 | D20: 4.1 | E20: 4.04 | F20: 4.46 | G20: SD
A21: Graus Biociències | B21: 4.04 | C21: 3.91 | D21: 4.12 | E21: 3.98 | F21: 4.28 | G21: SD
A22: Graus UAB | B22: 3.54 | C22: 3.42 | D22: 3.72 | E22: 3.72 | F22: 3.88 | G22: SD
A26: Valoració mitjana a l’afirmació "Estic satisfet amb les pràctiques externes"
A27: Màsters | B27: 2018/2019 | C27: 2019/2020 | D27: 2021/2022 | E27: 2022/2023 | F27: 2023/2024 | G27: 2024/2025
A28: Bioinformàtica | B28: 4.6 | C28: 4.78 | D28: 4.62 | E28: 4.43 | F28: 4.22 | G28: SD
A29: Biologia, Genòmica i Biotecnologia Vegetals | B29: 5 | C29: 4.5 | D29: 4.11 | E29: 5 | F29: 4.67 | G29: SD
A30: Bioquímica, Biologia Molecular i Biomedicina | B30: 4.8 | C30: 2.75 | D30: 4.6 | E30: 4.59 | F30: 4.3 | G30: SD
A31: Biotecnologia Avançada | B31: 5 | C31: SD | D31: 4.1 | E31: 4.5 | F31: 4.86 | G31: SD
A32: Citogenètica i Biologia de la Reproducció | B32: 4 | C32: 3 | D32: 4.4 | E32: 4.78 | F32: 4 | G32: SD
A33: Ecologia Terrestre i Gestió de la Biodiversitat | B33: 1 | C33: 4.67 | D33: 3.75 | E33: 2.67 | F33: 4 | G33: SD
A34: Genètica Avançada | B34: SD | C34: 3.5 | D34: 4.5 | E34: 2 | F34: 4 | G34: SD
A35: Microbiologia Aplicada | B35: 3.4 | C35: 3.67 | D35: 4.45 | E35: 4 | F35: 2.43 | G35: SD
A36: Neurociències | B36: 3.25 | C36: 4 | D36: 2.83 | E36: 3.67 | F36: 4.13 | G36: SD
A37: Màster Biociències | B37: 4.14 | C37: 4.03 | D37: 4.27 | E37: 4.21 | F37: 4.07 | G37: SD
A38: Màster UAB | B38: 3.91 | C38: 3.35 | D38: 3.78 | E38: 3.7 | F38: 3.94 | G38: SD

Sheet PC03.1_Ind04 Valoració de l'a
B1: Torna a l'índex
B3: #VALUE! | E3: Fitxa de seguiment de l'indicador
B5: 1. Codi del l'indicador | D5: =Índex!A35 -> PC03.1_Ind04. | F5: 2. Nom de l'indicador | H5: =Índex!B35 -> Valoració de l'alumnat per part dels tutors externs i tutores externes de pràctiques externes
B6: 3. Objectiu | D6: =Índex!E35 -> Valoració notable o superior | F6: 4. Freqüència de la medició | H6: Anual
B7: 5. Propietat | D7: =Índex!C35 -> Vicedeganat de Mobilitat, Pràctiques i Promoció | F7: 6. Responsabilitat | H7: =Índex!D35 -> Gestió de pràctiques
B8: 7. Processos als que afecta | D8: =Índex!G35 -> PC03.1.Gestió de les Pràctiques Externes | F8: 8. Font obtenció de dades | H8: Dades extretes de l'arxiu del deganat amb data 21/10/2025
A12: Valoració de l'alumnat per part dels tutors externs i tutores externes de pràctiques externes | D12: Valoració de l'alumnat per part dels tutors externs i tutores externes de pràctiques externes
A13: Grau en Biologia 2022/2023 | B13: Valoració Mitjana | D13: Curs 2024/2025 | E13: Grau en Biologia Valoració Mitjana | F13: Grau en Biologia Ambiental Valoració Mitjana | G13: Grau en Bioquímica Valoració Mitjana | H13: Grau en Biotecnologia Valoració Mitjana | I13: Grau en Ciències Biomèdiques Valoració Mitjana | J13: Grau en Genètica Valoració Mitjana | K13: Grau en Microbiologia Valoració Mitjana | L13: TOTS ELS GRAUS Valoració Mitjana
A14: Puntualitat | B14: 9.78 | D14: Puntualitat | E14: 9.75 | F14: 9.65 | G14: 9.59 | H14: 9.64 | I14: 9.77 | J14: 9.5 | K14: 9.7 | L14: =AVERAGE(E14:K14) -> 9.6571429
A15: Adaptació al centre i integració a l'equip de treball | B15: 9.56 | D15: Adaptació al centre i integració a l'equip de treball | E15: 9.66 | F15: 9.2 | G15: 9.45 | H15: 9.56 | I15: 9.61 | J15: 9.52 | K15: 9.67 | L15: =AVERAGE(E15:K15) -> 9.5242857
A16: Compliment de les normes de treball i les de seguretat | B16: 9.85 | D16: Compliment de les normes de treball i les de seguretat | E16: 9.72 | F16: 9.58 | G16: 9.7 | H16: 9.61 | I16: 9.7 | J16: 9.73 | K16: 9.72 | L16: =AVERAGE(E16:K16) -> 9.68
A17: Organització i planificació | B17: 9.48 | D17: Organització i planificació | E17: 9.28 | F17: 9.26 | G17: 9.24 | H17: 9.17 | I17: 9.47 | J17: 9.16 | K17: 9.23 | L17: =AVERAGE(E17:K17) -> 9.2585714
A18: Responsabilitat i grau d'autonomia | B18: 9.41 | D18: Responsabilitat i grau d'autonomia | E18: 9.27 | F18: 9.29 | G18: 9.11 | H18: 9.16 | I18: 9.3 | J18: 9.32 | K18: 9.18 | L18: =AVERAGE(E18:K18) -> 9.2328571
A19: Interès per la qualitat i la feina ben feta | B19: 9.78 | D19: Interès per la qualitat i la feina ben feta | E19: 9.48 | F19: 9.54 | G19: 9.45 | H19: 9.41 | I19: 9.57 | J19: 9.45 | K19: 9.55 | L19: =AVERAGE(E19:K19) -> 9.4928571
A20: Pulcritud i rigor | B20: 9.59 | D20: Pulcritud i rigor | E20: 9.32 | F20: 9.34 | G20: 9.37 | H20: 9.4 | I20: 9.45 | J20: 9.26 | K20: 9.53 | L20: =AVERAGE(E20:K20) -> 9.3814286
A21: Iniciativa i creativitat | B21: 9.02 | D21: Iniciativa i creativitat | E21: 9.09 | F21: 9.1 | G21: 8.81 | H21: 9.05 | I21: 9.05 | J21: 8.9 | K21: 8.86 | L21: =AVERAGE(E21:K21) -> 8.98
A22: Actitud | B22: 9.81 | D22: Actitud | E22: 9.71 | F22: 9.53 | G22: 9.42 | H22: 9.51 | I22: 9.6 | J22: 9.52 | K22: 9.53 | L22: =AVERAGE(E22:K22) -> 9.5457143
A23: Interès general | B23: 9.59 | D23: Interès general | E23: 9.69 | F23: 9.47 | G23: 9.35 | H23: 9.37 | I23: 9.57 | J23: 9.37 | K23: 9.57 | L23: =AVERAGE(E23:K23) -> 9.4842857
A24: Coneixements previs | B24: 8.59 | D24: Coneixements previs | E24: 8.54 | F24: 8.64 | G24: 8.83 | H24: 8.93 | I24: 9.19 | J24: 8.93 | K24: 8.75 | L24: =AVERAGE(E24:K24) -> 8.83
A25: Comprensió dels mètodes i tècniques | B25: 9.24 | D25: Comprensió dels mètodes i tècniques | E25: 9.32 | F25: 9.31 | G25: 9.31 | H25: 9.2 | I25: 9.41 | J25: 9.37 | K25: 9.36 | L25: =AVERAGE(E25:K25) -> 9.3257143
... A33: Valoració final de l'estada pràctiques | B33: 9.4 | D33: Valoració final de l'estada pràctiques | E33: 9.35 | F33: 9.32 | G33: 9.27 | H33: 9.29 | I33: 9.44 | J33: 9.31 | K33: 9.35 | L33: =AVERAGE(E33:K33) -> 9.3328571

Sheet PC03.2_Ind01. Valoració mitja
B1: Torna a l'índex
B3: #VALUE! | E3: Fitxa de seguiment de l'indicador
B5: 1. Codi del l'indicador | D5: =Índex!A36 -> PC03.2_Ind01. | F5: 2. Nom de l'indicador | H5: =Índex!B36 -> Valoració mitjana a l’afirmació “El treball de fi d’estudis m’ha estat útil per consolidar les competències de la titulació”
B6: 3. Objectiu | D6: =Índex!E36 -> ≥ mitjana UAB | F6: 4. Freqüència de la medició | H6: Anual
B7: 5. Propietat | D7: =Índex!C36 -> Vicedeganat d'Estudis i Programació | F7: 6. Responsabilitat | H7: =Índex!D36 -> Gestió de qualitat
B8: 7. Processos als que afecta | D8: =Índex!G36 -> PC03.2. Gestió dels Treballs de Fi d'Estudis | F8: 8. Font obtenció de dades | H8: Dades extretes de les enquestes del grau de satisfacció de les persones titulades amb data 02/10/2025: https://www.uab.cat/web/estudis/qualitat-docent/persones-graduades-1345665543247.html
A12: Valoració mitjana a l’afirmació "El treball de fi d’estudis m’ha estat útil per consolidar les competències de la titulació"
A14: Graus | C14: 2017/2018 | D14: 2018/2019 | E14: 2019/2020 | F14: 2021/2022 | G14: 2022/2023 | H14: 2023/2024 | I14: 2024/2025
A15: Biologia | C15: 3.18 | D15: 3.13 | E15: 4 | F15: 3.15 | G15: 3 | H15: 3 | I15: SD
A16: Biologia Ambiental | C16: 2.56 | D16: 3 | E16: 3.12 | F16: 3.59 | G16: 3.67 | H16: 3.71 | I16: SD
A17: Bioquímica | C17: 1.93 | D17: 2.55 | F17: 2.95 | G17: 2.85 | H17: 3.13 | I17: SD
A18: Biotecnologia | C18: 2.31 | D18: 3.78 | E18: 3.4 | F18: 3.61 | G18: 2.87 | H18: 3.54 | I18: SD
A19: Ciències Biomèdiques | C19: 2.56 | D19: 2.27 | E19: 3 | F19: 2.67 | G19: 3 | H19: 3.5 | I19: SD
A20: Genètica | C20: 2.29 | D20: 2.3 | E20: 4.1 | F20: 2.79 | G20: 3.47 | H20: 3.33 | I20: SD
A21: Microbiologia | C21: 3.67 | D21: 3.36 | E21: 2.4 | F21: 3.48 | G21: 3.6 | H21: 3.77 | I21: SD
A22: Graus Biociències | C22: 2.59 | D22: 3 | E22: 3.37 | F22: 3.19 | G22: 3.21 | H22: 3.45 | I22: SD
A23: Graus UAB | C23: 3.48 | D23: 3.54 | E23: 3.62 | F23: 3.63 | G23: 3.69 | H23: 3.81 | I23: SD
A26: Valoració mitjana a l’afirmació "Estic satisfet amb el TFM"
A27: Màster | B27: 2017/2018 | C27: 2018/2019 | D27: 2019/2020 | E27: 2021/2022 | F27: 2022/2023 | G27: 2023/2024 | H27: 2024/2025
A28: Bioinformàtica | B28: SD | C28: 4.6 | D28: 4.89 | E28: 4.62 | F28: 4.43 | G28: 4.22 | H28: SD
A29: Biologia, Genòmica i Biotecnologia Vegetals | B29: SD | C29: 5 | D29: 2 | E29: 4.11 | F29: 4.8 | G29: 4.83 | H29: SD
A30: Bioquímica, Biologia Molecular i Biomedicina | B30: 3.2 | C30: 4.4 | D30: 3 | E30: 4.2 | F30: 4.53 | G30: 4.5 | H30: SD
A31: Biotecnologia Avançada | B31: SD | C31: 5 | D31: SD | E31: 4.3 | F31: 4.86 | G31: 4.86 | H31: SD
A32: Citogenètica i Biologia de la Reproducció | B32: SD | C32: 5 | D32: 3 | E32: 4.5 | F32: 4.67 | G32: 3.88 | H32: SD
A33: Ecologia Terrestre i Gestió de la Biodiversitat | B33: SD | C33: 4.25 | D33: 4.33 | E33: 4.25 | F33: 2.8 | G33: 4.11 | H33: SD
A34: Genètica Avançada | B34: SD | C34: SD | D34: 3 | E34: 4.17 | F34: 2 | G34: 4.29 | H34: SD
A35: Microbiologia Aplicada | B35: SD | C35: 3.2 | D35: 3.67 | E35: 3.27 | F35: 3.25 | G35: 4.29 | H35: SD
A36: Neurociències | B36: SD | C36: 3.75 | D36: 4 | E36: 3 | F36: 4.2 | G36: 4.11 | H36: SD
A37: Màster Biociències | B37: SD | C37: 4.25 | D37: 3.93 | E37: 4.11 | F37: 4.19 | G37: 4.32 | H37: SD
A38: Màster UAB | B38: SD | C38: 3.75 | D38: 3.88 | E38: 3.86 | F38: 3.87 | G38: 4.11 | H38: SD

Sheet PC04_Ind01. Valoració mitjana a
B1: Torna a l'índex
B3: #VALUE! | E3: Fitxa de seguiment de l'indicador
B5: 1. Codi del l'indicador | D5: =Índex!A37 -> PC04_Ind01. | F5: 2. Nom de l'indicador | H5: =Índex!B37 -> Valoració mitjana a l’afirmació “La tutorització ha estat útil i ha contribuït a millorar el meu aprenentatge”
B6: 3. Objectiu | D6: =Índex!E37 -> Superior a la mitjana de la UAB | F6: 4. Freqüència de la medició | H6: Anual
B7: 5. Propietat | D7: =Índex!C37 -> Vicedeganat d'Alumnat, Ocupabilitat i Comunicació | F7: 6. Responsabilitat | H7: =Índex!D37 -> Gestió de qualitat
B8: 7. Processos als que afecta | D8: =Índex!G37 -> PC04. Orientació a l'estudiant | F8: 8. Font obtenció de dades | H8: Dades extretes de les enquestes del grau de satisfacció de les persones titulades amb data 02/10/2025: https://www.uab.cat/web/estudis/qualitat-docent/persones-graduades-1345665543247.html
A12: Valoració mitjana a l’afirmació “La tutorització ha estat útil i ha contribuït a millorar el meu aprenentatge”
A13: Grau | B13: 2017/2018 | C13: 2018/2019 | D13: 2019/2020 | E13: 2021/2022 | F13: 2022/2023 | G13: 2023/2024 | H13: 2024/2025
A14: Biología | B14: 3.45 | C14: 3 | D14: 3.25 | E14: 3.45 | F14: 3.24 | G14: 3.09 | H14: SD
A15: Biologia Ambiental | B15: 3.22 | C15: 3.57 | D15: 2.67 | E15: 3.56 | F15: 2.93 | G15: 3.41 | H15: SD
A16: Bioquímica | B16: 2.64 | C16: 2.73 | E16: 2.65 | F16: 2.38 | G16: 3.27 | H16: SD
A17: Biotecnologia | B17: 3.15 | C17: 3.72 | D17: 3.1 | E17: 3.5 | F17: 3.04 | G17: 2.67 | H17: SD
A18: Ciències Biomèdiques | B18: 2.68 | C18: 2.55 | D18: 2.83 | E18: 2.65 | F18: 3.85 | G18: 3.33 | H18: SD
A19: Genètica | B19: 3.43 | C19: 3.1 | D19: 2.7 | E19: 3.3 | F19: 3.62 | G19: 3.06 | H19: SD
A20: Microbiologia | B20: 3.33 | C20: 2.73 | D20: 3.6 | E20: 3.43 | F20: 3.32 | G20: 4 | H20: SD
A21: Graus Biociències | B21: 3.02 | C21: 3.08 | D21: 2.89 | E21: 3.24 | F21: 3.23 | G21: 3.2 | H21: SD
A22: Graus UAB | B22: 3.13 | C22: 3.09 | D22: 3.01 | E22: 3.29 | F22: 3.33 | G22: 3.12 | H22: SD

Sheet PC04_Ind02. Percentatge d’ocu
B1: Torna a l'índex
B3: #VALUE! | E3: Fitxa de seguiment de l'indicador
B5: 1. Codi del l'indicador | D5: =Índex!A38 -> PC04_Ind02. | F5: 2. Nom de l'indicador | H5: =Índex!B38 -> Percentatge d'ocupabilitat, funcions específiques i IQO dels Graus (Enquesta d'Inserció Laboral AQU)
B6: 3. Objectiu | D6: =Índex!E38 -> Superior a la mitjana de l’àmbit, en cada indicador | F6: 4. Freqüència de la medició | H6: Anual
B7: 5. Propietat | D7: =Índex!C38 -> Vicedeganat d'Alumnat, Ocupabilitat i Comunicació | F7: 6. Responsabilitat | H7: =Índex!D38 -> Gestió de qualitat
B8: 7. Processos als que afecta | D8: =Índex!G38 -> PC04. Orientació a l'estudiant | F8: 8. Font obtenció de dades | H8: No tenim dades actualment, ja que aquesta enquesta la realitza l'AQU cada 3 anys. L'últim cop va ser l'any 2023, pel que no serà fins l'any 2026 quan tornem a disposar de dades actualitzades en relació a aquest indicador
A11: Enquesta d'inserció laboral d'AQU
A12: Grau 2020 | B12: Estatus Ocupat % | C12: Funcions específiques i/o Universitàries % | D12: IQO1
A13: Biologia2 | B13: 0.955 | C13: 0.864 | D13: 0.4926
A14: Biologia Ambiental2 | B14: 0.706 | C14: 0.647 | D14: 0.4331
A15: Bioquímica | B15: 0.831 | C15: 0.667 | D15: 0.618
A16: Biotecnologia | B16: 0.813 | C16: 0.857 | D16: 0.639
A17: Ciències Biomèdiques | B17: 0.741 | C17: 0.84 | D17: 0.56
A18: Genètica | B18: 0.864 | C18: 0.773 | D18: 0.422
A19: Microbiologia | B19: 0.852 | C19: 0.899 | D19: 0.52
A21: Enquesta d'inserció laboral d'AQU
A22: Grau 2023 | B22: Estatus Ocupat % | C22: Funcions específiques i/o Universitàries % | D22: IQO1
A23: Biologia (Biologia Ambiental) | B23: 0.851 | C23: 0.758 | D23: 0.615
A24: Bioquímica | B24: 0.868 | C24: 0.891 | D24: 0.654
A25: Biotecnologia | B25: 0.902 | C25: 0.897 | D25: 0.679
A26: Ciències Biomèdiques | B26: 0.82 | C26: 0.914 | D26: 0.681
A27: Genètica | B27: 0.9 | C27: 0.8 | D27: 0.647
A28: Microbiologia | B28: 0.9 | C28: 0.782 | D28: 0.658

Sheet PC04_Ind03. Número d'accions 
B1: Torna a l'índex
B3: #VALUE! | E3: Fitxa de seguiment de l'indicador
B5: 1. Codi del l'indicador | D5: =Índex!A39 -> PC04_Ind03. | F5: 2. Nom de l'indicador | H5: =Índex!B39 -> Número d'accions d'acompanyament, a necessitats especifiques, realitzades
B6: 3. Objectiu | D6: =Índex!E39 -> Mínim 3 | F6: 4. Freqüència de la medició | H6: Anual
B7: 5. Propietat | D7: =Índex!C39 -> Vicedeganat d'Alumnat, Ocupabilitat i Comunicació | F7: 6. Responsabilitat | H7: =Índex!D39 -> Secretari o Secretaria del Deganat
B8: 7. Processos als que afecta | D8: =Índex!G39 -> PC04. Orientació a l'estudiant | F8: 8. Font obtenció de dades
A12: Número d'accions d'acompanyament, a necessitats especifiques, realitzades
A13: 2020/2021 | B13: 2021/2022 | C13: 2022/2023 | D13: 2023/2024 | E13: 2024/2025
A14: 3 | B14: 1 | C14: 2 | D14: 5

Sheet PC04_Ind04. Número de reunion
B1: Torna a l'índex
B3: #VALUE! | E3: Fitxa de seguiment de l'indicador
B5: 1. Codi del l'indicador | D5: =Índex!A40 -> Pc04_Ind04. | F5: 2. Nom de l'indicador | H5: =Índex!B40 -> Número de reunions fetes amb els òrgans estudiantils de la Facultat
B6: 3. Objectiu | D6: =Índex!E40 -> Mínim 5/any | F6: 4. Freqüència de la medició | H6: Anual
B7: 5. Propietat | D7: =Índex!C40 -> Vicedeganat d'Alumnat, Ocupabilitat i Comunicació | F7: 6. Responsabilitat | H7: =Índex!D40 -> Secretari o Secretaria del Deganat
B8: 7. Processos als que afecta | D8: =Índex!G40 -> PC04. Orientació a l'estudiant | F8: 8. Font obtenció de dades
A12: Número de reunions fetes amb els òrgans estudiantils de la Facultat
A13: 2020/2021 | B13: 2021/2022 | C13: 2022/2023 | D13: 2023/2024 | E13: 2024/2025
A14: 7 | B14: 5 | C14: 5 | D14: 11

Sheet PC04_Ind05. Número d’activita
B1: Torna a l'índex
B3: #VALUE! | E3: Fitxa de seguiment de l'indicador
B5: 1. Codi del l'indicador | D5: =Índex!A41 -> Pc04_Ind05. | F5: 2. Nom de l'indicador | H5: =Índex!B41 -> Número d’activitats anuals per enfortir les relacions amb l’Ensenyament Secundari
B6: 3. Objectiu | D6: =Índex!E41 -> Almenys 1 de cada tipologia | F6: 4. Freqüència de la medició | H6: Anual
B7: 5. Propietat | D7: =Índex!C41 -> Vicedeganat d'Alumnat, Ocupabilitat i Comunicació | F7: 6. Responsabilitat | H7: =Índex!D41 -> Secretari o Secretaria del Deganat
B8: 7. Processos als que afecta | D8: =Índex!G41 -> PC04. Orientació a l'estudiant | F8: 8. Font obtenció de dades
A11: Número d'activitats anuals per enfortir les relacions amb l'Ensenyament Secundari
A12: Activitats programa Argo | B12: 2023/2024 | C12: Detall de les activitats
A13: Tallers adreçats a alumnat | B13: 2 | C13: Micromón; Adapta't
A14: Cursos d'estiu per a estudiants de secundària | B14: 4 | C14: CSI a la UAB; Els microbis i jo; Què podem fer per reduir la resistència als antibiòtics; Adapta't: la nostra història evolutiva llegida en el genoma
A15: Jornades i cursos adreçats a professorat | B15: 1 | C15: Curs per professorat d'ensenyament secundari sobre bioseguretat
A16: Altres activitats no vinculades al programa Argó de la UAB | B16: 3 | C16: Olimpíades de Biologia de Catalunya; Olimpiada Científica Juvenil Española; Shere Rom
A19: Número d'activitats anuals per enfortir les relacions amb l'Ensenyament Secundari
A20: Activitats programa Argo | B20: 2024/2025 | C20: Detall de les activitats
A21: Tallers adreçats a alumnat | C21: Micromón; Adapta't
A22: Cursos d'estiu per a estudiants de secundària | C22: CSI a la UAB; Els microbis i jo; Què podem fer per reduir la resistència als antibiòtics; Adapta't: la nostra història evolutiva llegida en el genoma
A23: Jornades i cursos adreçats a professorat | C23: Curs per professorat d'ensenyament secundari sobre bioseguretat
A24: Altres activitats no vinculades al programa Argó de la UAB | C24: Olimpíades de Biologia de Catalunya; Olimpiada Científica Juvenil Española; Shere Rom

Sheet PC05_Ind01. Taxa d’abandonament
B1: Torna a l'índex
B3: #VALUE! | E3: Fitxa de seguiment de l'indicador
B5: 1. Codi del l'indicador | D5: =Índex!A42 -> PC05_Ind01. | F5: 2. Nom de l'indicador | H5: =Índex!B42 -> Taxa d’abandonament per titulacions
B6: 3. Objectiu | D6: =Índex!E42 -> Valor inferior a la taxa d’abandonament Verificada | F6: 4. Freqüència de la medició | H6: Anual
B7: 5. Propietat | D7: =Índex!C42 -> Vicedeganat d'Estudis i Programació | F7: 6. Responsabilitat | H7: =Índex!D42 -> OQD
B8: 7. Processos als que afecta | D8: =Índex!G42 -> PC05. Avaluació de l'estudiant | F8: 8. Font obtenció de dades | H8: Dades extretes de la base de dades DATADASH amb data 02/10/2025: https://datax.uab.es/Publisher2/
A12: Taxa d'abandonament per titulacions
A13: Grau | B13: 2019/2020 | C13: 2020/2021 | D13: 2021/2022 | E13: 2022/2023 | F13: 2023/2024 | G13: 2024/2025 | H13: Taxa Verificada
B14: 2015/2016 | C14: 2016/2017 | D14: 2017/2018 | E14: 2018/2019 | F14: 2019/2020 | G14: 2020/2021
A15: Biologia | B15: 0.19 | C15: 0.28 | D15: 0.16 | E15: 0.11 | F15: 0.15 | G15: 0.12 | H15: 0.12
A16: Biologia Ambiental | B16: 0.11 | C16: 0.06 | D16: 0.1 | E16: 0.09 | F16: 0.14 | G16: 0.15 | H16: 0.13
A17: Bioquímica | B17: 0.15 | C17: 0.11 | D17: 0.21 | E17: 0.06 | F17: 0.14 | G17: 0.11 | H17: 0.11
A18: Biotecnologia | B18: 0.14 | C18: 0.23 | D18: 0.12 | E18: 0.13 | F18: 0.14 | G18: 0.13 | H18: 0.13
A19: Ciències Biomèdiques | B19: 0.28 | C19: 0.11 | D19: 0.33 | E19: 0.29 | F19: 0.12 | G19: 0.17 | H19: 0.17
A20: Genètica | B20: 0.17 | C20: 0.1 | D20: 0.17 | E20: 0.2 | F20: 0.12 | G20: 0.07 | H20: 0.07
A21: Microbiologia | B21: 0.15 | C21: 0.12 | D21: 0.26 | E21: 0.22 | F21: 0.12 | G21: 0.11 | H21: 0.11
A24: Taxa d'abandonament per titulacions
A25: Màster | B25: 2019/2020 | C25: 2020/2021 | D25: 2021/2022 | E25: 2022/2023 | F25: 2023/2024 | G25: 2024/2025 | H25: Taxa verificada
B26: 2018/2019 | C26: 2019/2020 | D26: 2020/2021 | E26: 2021/2022 | F26: 2022/2023 | G26: 2023/2024
A27: Bioinformàtica | B27: 0 | C27: 0.03 | D27: 0.07 | E27: 0 | F27: 0.03 | H27: 0.03
A28: Biologia, Genòmica i Biotecnologia Vegetals | B28: 0 | C28: 0 | D28: 0 | E28: 0 | F28: 0 | H28: 0
A29: Bioquímica, Biologia Molecular i Biomedicina | B29: 0 | C29: 0.03 | D29: 0 | E29: 0 | F29: 0 | H29: 0.03
A30: Biotecnologia Avançada | B30: 0 | C30: 0.04 | D30: 0.04 | E30: 0.04 | F30: 0 | H30: 0.03
A31: Citogenètica i Biologia de la Reproducció | B31: 0 | C31: 0.04 | D31: 0 | E31: 0.04 | F31: 0 | H31: 0
A32: Ecologia Terrestre i Gestió de la Biodiversitat | B32: 0.06 | C32: 0.07 | D32: 0 | E32: 0.21 | F32: 0.04 | H32: 0
A33: Genètica Avançada | B33: 0.04 | C33: 0.09 | D33: 0 | E33: 0.04 | F33: 0 | H33: 0
A34: Microbiologia Aplicada | B34: 0 | C34: 0 | D34: 0 | E34: 0 | F34: 0 | H34: 0
A35: Neurociències | B35: 0 | C35: 0.05 | D35: 0.06 | E35: 0.08 | F35: 0.11 | H35: 0.03

Sheet PC05_Ind02. Nombre d’estudian
B1: Torna a l'índex
B3: #VALUE! | E3: Fitxa de seguiment de l'indicador
B5: 1. Codi del l'indicador | D5: =Índex!A43 -> PC05_Ind02. | F5: 2. Nom de l'indicador | H5: =Índex!B43 -> Nombre d’estudiants que sol·liciten l’apte per compensació, desglossat per titulacions
B6: 3. Objectiu | D6: =Índex!E43 -> <10% de l’alumnat | F6: 4. Freqüència de la medició | H6: Anual
B7: 5. Propietat | D7: =Índex!C43 -> Vicedeganat d'Estudis i Programació | F7: 6. Responsabilitat | H7: =Índex!D43 -> Responsable Gestió acadèmica
B8: 7. Processos als que afecta | D8: =Índex!G43 -> PC05. Avaluació de l'estudiant | F8: 8. Font obtenció de dades | H8: Dades extretes de l'arxiu de la Gestió acadèmica amb data 03/10/2025
A12: Nombre d’estudiants que sol·liciten l’apte per compensació, desglossat per titulacions
A13: Grau | B13: 2019/2020 | C13: 2020/2021 | D13: 2021/2022 | E13: 2022/2023 | F13: 2023/2024 | G13: 2024/2025 | J13: format condicional fer alumnes a ull? Per exemple dir que son 240 per tituñació? 60*4
A14: Biologia | B14: 1 | C14: 8 | D14: 6 | E14: 3 | F14: 4 | G14: 7
A15: Biologia Ambiental | B15: 3 | C15: 3 | D15: 3 | E15: 1 | F15: 3 | G15: 2
A16: Bioquímica | B16: 5 | C16: 6 | D16: 3 | E16: 12 | F16: 4 | G16: 2
A17: Biotecnologia | B17: 3 | C17: 1 | D17: 3 | E17: 4 | F17: 5 | G17: 5
A18: Ciències Biomèdiques | B18: 0 | C18: 1 | D18: 2 | E18: 8 | F18: 1 | G18: 0
A19: Genètica | B19: 4 | C19: 1 | D19: 3 | E19: 8 | F19: 2 | G19: 4
A20: Microbiologia | B20: 2 | C20: 2 | D20: 3 | E20: 3 | F20: 6 | G20: 2
A21: Total | B21: =SUM(B14:B20) -> 18 | C21: =SUM(C14:C20) -> 22 | D21: =SUM(D14:D20) -> 23 | E21: =SUM(E14:E20) -> 39 | F21: =SUM(F14:F20) -> 25 | G21: =SUM(G14:G20) -> 22

Sheet PC05_Ind03. Puntuació mitjana
B1: Torna a l'índex
B3: #VALUE! | E3: Fitxa de seguiment de l'indicador
B5: 1. Codi del l'indicador | D5: =Índex!A44 -> PC05_Ind03. | F5: 2. Nom de l'indicador | H5: =Índex!B44 -> Puntuació mitjana a l’afirmació “El sistema d’avaluació s’explica clarament a la Guia Docent de l’assignatura” de l’enquesta de satisfacció d’assignatura dels graus i de mòdul dels màsters
B6: 3. Objectiu | D6: =Índex!E44 -> ≥ mitjana de la UAB | F6: 4. Freqüència de la medició | H6: Anual
B7: 5. Propietat | D7: =Índex!C44 -> Vicedeganat d'Estudis i Programació | F7: 6. Responsabilitat | H7: =Índex!D44 -> Gestió de qualitat
B8: 7. Processos als que afecta | D8: =Índex!G44 -> PC05. Avaluació de l'estudiant | F8: 8. Font obtenció de dades | H8: Dades extretes de les enquestes del grau de satisfacció de les persones titulades amb data 02/10/2025: https://www.uab.cat/web/estudis/qualitat-docent/persones-graduades-1345665543247.html
A12: Valoració mitjana a l’afirmació “El sistema d’avaluació s’explica clarament a la Guia Docent de l’assignatura”
A13: Grau | B13: 2019/2020 | C13: 2020/2021 | D13: 2021/2022 | E13: 2022/2023 | F13: 2023/2024 | G13: 2024/2025
A14: Biologia | B14: 3.5 | C14: 3.56 | D14: 3.39 | E14: 3.57 | F14: 3.6 | G14: 3.64
A15: Biologia Ambiental | B15: 3.52 | C15: 3.47 | D15: 3.71 | E15: 3.59 | F15: 3.72 | G15: 3.69
A16: Bioquímica | B16: 3.44 | C16: 3.5 | D16: 3.58 | E16: 3.53 | F16: 3.59 | G16: 3.58
A17: Biotecnologia | B17: 3.59 | C17: 3.6 | D17: 3.62 | E17: 3.53 | F17: 3.6 | G17: 3.57
A18: Ciències Biomèdiques | B18: 3.55 | C18: 3.57 | D18: 3.45 | E18: 3.59 | F18: 3.5 | G18: 3.63
A19: Genètica | B19: 3.51 | C19: 3.55 | D19: 3.54 | E19: 3.55 | F19: 3.77 | G19: 3.64
A20: Microbiologia | B20: 3.44 | C20: 3.61 | D20: 3.59 | E20: 3.63 | F20: 3.7 | G20: 3.66
A21: Graus Biociències | B21: 3.51 | C21: 3.55 | D21: 3.55 | E21: 3.57 | F21: 3.63 | G21: 3.63
A22: Graus UAB | B22: 3.42 | C22: 3.44 | D22: 3.49 | E22: 3.46 | F22: 3.5 | G22: 3.49

Sheet PC05_Ind04. Puntuació mitja a
B1: Torna a l'índex
B3: #VALUE! | E3: Fitxa de seguiment de l'indicador
B5: 1. Codi del l'indicador | D5: =Índex!A45 -> PC05_Ind04. | F5: 2. Nom de l'indicador | H5: =Índex!B45 -> Puntuació mitja a l’afirmació “Els continguts de les proves i altres activitats d’avaluació es corresponen amb els continguts del curs i també amb el temps que el professorat va dedicar a cada tema” de l’enquesta de satisfacció d’assignatura dels graus i de mòdul dels màsters
B6: 3. Objectiu | D6: =Índex!E45 -> ≥ mitjana de la UAB | F6: 4. Freqüència de la medició | H6: Anual
B7: 5. Propietat | D7: =Índex!C45 -> Vicedeganat d'Estudis i Programació | F7: 6. Responsabilitat | H7: =Índex!D45 -> Gestió de qualitat
B8: 7. Processos als que afecta | D8: =Índex!G45 -> PC05. Avaluació de l'estudiant | F8: 8. Font obtenció de dades | H8: Dades extretes de les enquestes d'avaluació de les assignatures de grau i de màster amb data 02/10/2025: https://www.uab.cat/web/estudiar/qualitat-docent/avaluacio-de-les-assignatures/moduls-de-grau-i-master-universitari-1345665543141.html
A12: Valoració mitjana a l’afirmació “Els continguts de les proves i altres activitats d’avaluació es corresponen amb els continguts del curs i també amb el temps que el professorat va dedicar a cada tema”
A13: Grau | B13: 2019/2020 | C13: 2020/2021 | D13: 2021/2022 | E13: 2022/2023 | F13: 2023/2024 | G13: 2024/2025
A14: Biologia | B14: 3.14 | C14: 3.13 | D14: 3.14 | E14: 3.16 | F14: 3.23 | G14: 3.31
A15: Biologia Ambiental | B15: 3.19 | C15: 3.15 | D15: 3.28 | E15: 3.38 | F15: 3.34 | G15: 3.38
A16: Bioquímica | B16: 2.95 | C16: 3.13 | D16: 3.16 | E16: 3.17 | F16: 3.25 | G16: 3.34
A17: Biotecnologia | B17: 3.34 | C17: 3.18 | D17: 3.19 | E17: 3.06 | F17: 3.02 | G17: 3.08
A18: Ciències Biomèdiques | B18: 3.15 | C18: 3.13 | D18: 3.02 | E18: 3.24 | F18: 3.15 | G18: 3.32
A19: Genètica | B19: 3.15 | C19: 3.35 | D19: 3.11 | E19: 3.16 | F19: 3.45 | G19: 3.37
A20: Microbiologia | B20: 3.08 | C20: 3.13 | D20: 3.27 | E20: 3.25 | F20: 3.21 | G20: 3.32
A21: Graus Biociències | B21: 3.15 | C21: 3.17 | D21: 3.17 | E21: 3.2 | F21: 3.23 | G21: 3.29
A22: Graus UAB | B22: 3.14 | C22: 3.17 | D22: 3.21 | E22: 3.22 | F22: 3.24 | G22: 3.24

Sheet PC05_Ind05. Notes mitjanes per 
B1: Torna a l'índex
B3: #VALUE! | E3: Fitxa de seguiment de l'indicador
B5: 1. Codi del l'indicador | D5: =Índex!A46 -> PC05_Ind05. | F5: 2. Nom de l'indicador | H5: =Índex!B46 -> Notes mitjanes per promoció i grau
B6: 3. Objectiu | D6: =Índex!E46 -> Tendència constant de les qualificacions | F6: 4. Freqüència de la medició | H6: Anual
B7: 5. Propietat | D7: =Índex!C46 -> Vicedeganat d'Estudis i Programació | F7: 6. Responsabilitat | H7: =Índex!D46 -> Responsable Gestió acadèmica
B8: 7. Processos als que afecta | D8: =Índex!G46 -> PC05. Avaluació de l'estudiant | F8: 8. Font obtenció de dades | H8: Dades extretes de l'aplicatiu sigma amb data 03/10/2025: https://sia.uab.es/
A12: Nota mitjana de la titulació
A13: Grau | B13: 2021/2022 | C13: 2022/2023 | D13: 2023/2024 | E13: 2024/2025
A14: Biologia | B14: 7.4 | C14: 7.51 | D14: 7.52 | E14: 7.57
A15: Biologia Ambiental | B15: 7.59 | C15: 7.75 | D15: 7.67 | E15: 7.68
A16: Bioquímica | B16: 7.53 | C16: 7.57 | D16: 7.64 | E16: 7.51
A17: Biotecnologia | B17: 7.55 | C17: 7.42 | D17: 7.45 | E17: 7.59
A18: Ciències Biomèdiques | B18: 7.92 | C18: 7.94 | D18: 7.89 | E18: 7.99
A19: Genètica | B19: 7.66 | C19: 7.89 | D19: 7.65 | E19: 7.73
A20: Microbiologia | B20: 7.54 | C20: 7.57 | D20: 7.49 | E20: 7.98
A21: Graus Biociències | B21: =AVERAGE(B14:B20) -> 7.5985714 | C21: =AVERAGE(C14:C20) -> 7.6642857 | D21: =AVERAGE(D14:D20) -> 7.6157143 | E21: =AVERAGE(E14:E20) -> 7.7214286
A24: Percentatge d’estudiants amb una nota superior a 8
A25: Grau | B25: 2021/2022 | C25: 2022/2023 | D25: 2023/2024 | E25: 2024/2025
A26: Biologia | B26: 0.169 | C26: 0.2 | D26: 0.23 | E26: 0.2632
A27: Biologia Ambiental | B27: 0.164 | C27: 0.333 | D27: 0.288 | E27: 0.2727
A28: Bioquímica | B28: 0.25 | C28: 0.212 | D28: 0.235 | E28: 0.2203
A29: Biotecnologia | B29: 0.243 | C29: 0.161 | D29: 0.205 | E29: 0.2344
A30: Ciències Biomèdiques | B30: 0.518 | C30: 0.479 | D30: 0.491 | E30: 0.5098
A31: Genètica | B31: 0.222 | C31: 0.38 | D31: 0.34 | E31: 0.386
A32: Microbiologia | B32: 0.227 | C32: 0.227 | D32: 0.219 | E32: 0.5094
A33: Graus Biociències | B33: 0.245 | C33: 0.275 | D33: 0.277 | E33: 0.3325

Sheet PC05_Ind06. Rendiment acadèmic 
B1: Torna a l'índex
B3: #VALUE! | E3: Fitxa de seguiment de l'indicador
B5: 1. Codi del l'indicador | D5: =Índex!A47 -> PC05_Ind06. | F5: 2. Nom de l'indicador | H5: =Índex!B47 -> Rendiment acadèmic de les sol·licituds d’avaluació única
B6: 3. Objectiu | D6: =Índex!E47 -> Rendiment igual al del grau | F6: 4. Freqüència de la medició | H6: Anual
B7: 5. Propietat | D7: =Índex!C47 -> Vicedeganat d'Estudis i Programació | F7: 6. Responsabilitat | H7: =Índex!D47 -> Responsable Gestió acadèmica
B8: 7. Processos als que afecta | D8: =Índex!G47 -> PC05. Avaluació de l'estudiant | F8: 8. Font obtenció de dades | H8: Dades extretes de l'arxiu de la Gestió acadèmica amb data 03/10/2025
A12: Rendiment acadèmic de les sol·licituds d'avaluació única 2023/2024
A13: Grau | B13: Rendiment grau (objectiu) | C13: Estudiants | D13: Assignatures | E13: Assignatures Superades | F13: Rendiment
A14: Biologia | B14: 0.923 | C14: 3 | D14: 4 | E14: 1 | F14: =E14/D14 -> 0.25
A15: Biologia Ambiental | B15: 0.945 | C15: 1 | D15: 2 | E15: 2 | F15: =E15/D15 -> 1
A16: Bioquímica | B16: 0.947 | C16: 2 | D16: 3 | E16: 2 | F16: =E16/D16 -> 0.66666667
A17: Biotecnologia | C17: 0 | D17: 0 | E17: 0 | F17: -
A18: Ciències Biomèdiques | B18: 0.917 | C18: 3 | D18: 8 | E18: 6 | F18: =E18/D18 -> 0.75
A19: Genètica | C19: 0 | D19: 0 | E19: 0 | F19: -
A20: Microbiologia | B20: 0.947 | C20: 1 | D20: 13 | E20: 0 | F20: =E20/D20 -> 0
A23: Rendiment acadèmic de les sol·licituds d'avaluació única 2024/2025
A24: Grau | B24: Rendiment grau (objectiu) | C24: Estudiants | D24: Assignatures | E24: Assig.Superades | F24: Rendiment
A25: Biologia | B25: 0.923 | C25: 3 | D25: 7 | E25: 4 | F25: =E25/D25 -> 0.57142857
A26: Biologia Ambiental | B26: 0.945 | C26: 2 | D26: 2 | E26: 1 | F26: =E26/D26 -> 0.5
A27: Bioquímica | B27: 0.947 | C27: 3 | D27: 17 | E27: 3 | F27: =E27/D27 -> 0.17647059
A28: Biotecnologia | C28: 0 | D28: 0 | E28: 0 | F28: -
A29: Ciències Biomèdiques | B29: 0.917 | C29: 1 | D29: 2 | E29: 2 | F29: =E29/D29 -> 1
A30: Genètica | C30: 5 | D30: 11 | E30: 4 | F30: =E30/D30 -> 0.36363636
A31: Microbiologia | B31: 0.947 | C31: 1 | D31: 3 | E31: 0 | F31: =E31/D31 -> 0

Sheet PC06_Ind01. Nombre d’alumnat 
B1: Torna a l'índex
B3: #VALUE! | E3: Fitxa de seguiment de l'indicador
B5: 1. Codi del l'indicador | D5: =Índex!A48 -> PC06_Ind01. | F5: 2. Nom de l'indicador | H5: =Índex!B48 -> Nombre d’alumnat participant en un programa de mobilitat en un curs acadèmic (estudiants OUT i IN)
B6: 3. Objectiu | D6: =Índex!E48 -> Mantenir o augmentar el nombre d’alumnat IN i OUT en el nostre programa de mobilitat | F6: 4. Freqüència de la medició | H6: Anual
B7: 5. Propietat | D7: =Índex!C48 -> Vicedeganat de Mobilitat, Pràctiques i Promoció | F7: 6. Responsabilitat | H7: =Índex!D48 -> Gestió d'intercanvis
B8: 7. Processos als que afecta | D8: =Índex!G48 -> PC06. Gestió de la mobilitat de l’alumnat, PTGAS i PDI | F8: 8. Font obtenció de dades | H8: Dades extretes de l'arxiu de la Gestió acadèmica amb data 03/10/2025
A11: Nombre d'alumnat matriculat participant en un programa de mobilitat en un curs acadèmic
B12: 2019/2020 | C12: 2020/2021 | D12: 2021/2022 | E12: 2022/2023 | F12: 2023/2024 | G12: 2024/2025
A13: Grau | B13: Alumnes OUT | C13: Alumnes OUT | D13: Alumnes OUT | E13: Alumnes OUT | F13: Alumnes OUT | G13: Alumnes OUT
A14: Biologia | B14: 8 | C14: 17 | D14: 20 | E14: 16 | F14: 22 | G14: 24
A15: Biologia Ambiental | B15: 34 | C15: 15 | D15: 26 | E15: 31 | F15: 29 | G15: 25
A16: Bioquímica | B16: 11 | C16: 8 | D16: 23 | E16: 13 | F16: 6 | G16: 12
A17: Biotecnologia | B17: 15 | C17: 8 | D17: 18 | E17: 18 | F17: 22 | G17: 30
A18: Ciències Biomèdiques | B18: 21 | C18: 12 | D18: 30 | E18: 23 | F18: 27 | G18: 27
A19: Genètica | B19: 17 | C19: 8 | D19: 12 | E19: 16 | F19: 18 | G19: 17
A20: Microbiologia | B20: 9 | C20: 7 | D20: 6 | E20: 10 | F20: 9 | G20: 13
A21: Total | B21: =SUM(B14:B20) -> 115 | C21: =SUM(C14:C20) -> 75 | D21: =SUM(D14:D20) -> 135 | E21: =SUM(E14:E20) -> 127 | F21: =SUM(F14:F20) -> 133 | G21: =SUM(G14:G20) -> 148

Sheet PC06_Ind02. Nombre de conveni
B1: Torna a l'índex
B3: #VALUE! | E3: Fitxa de seguiment de l'indicador
B5: 1. Codi del l'indicador | D5: =Índex!A49 -> PC06_Ind02. | F5: 2. Nom de l'indicador | H5: =Índex!B49 -> Nombre de convenis de col·laboració interuniversitaris de mobilitat generals (UAB) i específics (Facultat de Biociències)
B6: 3. Objectiu | D6: =Índex!E49 -> Mantenir o augmentar la oferta de mobilitat | F6: 4. Freqüència de la medició | H6: Anual
B7: 5. Propietat | D7: =Índex!C49 -> Vicedeganat de Mobilitat, Pràctiques i Promoció | F7: 6. Responsabilitat | H7: =Índex!D49 -> Gestió d'intercanvis
B8: 7. Processos als que afecta | D8: =Índex!G49 -> PC06. Gestió de la mobilitat de l’alumnat, PTGAS i PDI | F8: 8. Font obtenció de dades
B11: Nombre de convenis de col·laboració interuniversitaris de mobilitat generals (UAB) i específics (Facultat Biociències)
B12: 2020/2021 | C12: 2021/2022 | D12: 2022/23 | E12: 2023/2024 | F12: 2024/2025
A13: EU | B13: 69 | C13: 71 | D13: 67 | E13: 66
A14: Resta | B14: 78 | C14: 80 | D14: 82 | E14: 86
A15: TOTAL | B15: =SUM(B13:B14) -> 147 | C15: =SUM(C13:C14) -> 151 | D15: =SUM(D13:D14) -> 149 | E15: =SUM(E13:E14) -> 152 | F15: =SUM(F13:F14) -> 0

Sheet PC06_Ind03. Valoració mitjana
B1: Torna a l'índex
B3: #VALUE! | E3: Fitxa de seguiment de l'indicador
B5: 1. Codi del l'indicador | D5: =Índex!A50 -> PC06_Ind03. | F5: 2. Nom de l'indicador | H5: =Índex!B50 -> Valoració mitjana a l’afirmació “Les accions de mobilitat que he realitzat han estat rellevants per al meu aprenentatge” (persones recent titulades)
B6: 3. Objectiu | D6: =Índex!E50 -> > a 3,75 i superior a la mitjana de la UAB | F6: 4. Freqüència de la medició | H6: Anual
B7: 5. Propietat | D7: =Índex!C50 -> Vicedeganat de Mobilitat, Pràctiques i Promoció | F7: 6. Responsabilitat | H7: =Índex!D50 -> Gestió de qualitat
B8: 7. Processos als que afecta | D8: =Índex!G50 -> PC06. Gestió de la mobilitat de l’alumnat, PTGAS i PDI | F8: 8. Font obtenció de dades | H8: Dades extretes de les enquestes del grau de satisfacció de les persones titulades amb data 02/10/2025: https://www.uab.cat/web/estudis/qualitat-docent/persones-graduades-1345665543247.html
A12: Valoració mitjana a l’afirmació “Les accions de mobilitat que he realitzat han estat rellevants per al meu aprenentatge”
A13: Grau | B13: 2017/2018 | C13: 2018/2019 | D13: 2019/2020 | E13: 2021/2022 | F13: 2022/2023 | G13: 2023/2024 | H13: 2024/2025
A14: Biologia | B14: 3.91 | C14: 3.5 | D14: 3.27 | E14: 3.5 | F14: 4.06 | G14: 4.8 | H14: SD
A15: Biologia Ambiental | B15: 4.67 | C15: 3 | D15: 3.75 | E15: 4.33 | F15: 4.5 | G15: 4.23 | H15: SD
A16: Bioquímica | B16: 3.57 | C16: 2.7 | D16: SD | E16: 4.44 | F16: 4.38 | G16: 3.83 | H16: SD
A17: Biotecnologia | B17: 3.22 | C17: 3.88 | D17: 3.89 | E17: 3.78 | F17: 3.72 | G17: 3.89 | H17: SD
A18: Ciències Biomèdiques | B18: 3.55 | C18: 3.82 | D18: 4.33 | E18: 3.92 | F18: 4 | G18: 4.07 | H18: SD
A19: Genètica | B19: 3.43 | C19: 3.2 | D19: 4.11 | E19: 3.67 | F19: 4.2 | G19: 3.85 | H19: SD
A20: Microbiologia | B20: 3.22 | C20: 3.3 | D20: 4.5 | E20: 3.35 | F20: 4.21 | G20: 3.67 | H20: SD
A21: Graus Biociències | B21: 3.64 | C21: 3.42 | D21: 3.84 | E21: 3.86 | F21: 4.11 | G21: 4 | H21: SD
A22: Graus UAB | B22: 3.23 | C22: 3.11 | D22: 3.22 | E22: 3.58 | F22: 3.77 | G22: 3.74 | H22: SD

Sheet PC06_Ind04.  Nombre d’alumnes
B1: Torna a l'índex
B3: #VALUE! | E3: Fitxa de seguiment de l'indicador
B5: 1. Codi del l'indicador | D5: =Índex!A51 -> PC06_Ind04. | F5: 2. Nom de l'indicador | H5: =Índex!B51 -> Nombre d’alumnes que han sol·licitat la International track
B6: 3. Objectiu | D6: =Índex!E51 -> Omplir les 5 places del Track cada curs, amb una altra demanda de sol·licituds | F6: 4. Freqüència de la medició | H6: Anual
B7: 5. Propietat | D7: =Índex!C51 -> Vicedeganat de Mobilitat, Pràctiques i Promoció | F7: 6. Responsabilitat | H7: =Índex!D51 -> Secretari o Secretaria del Deganat
B8: 7. Processos als que afecta | D8: =Índex!G51 -> PC06. Gestió de la mobilitat de l’alumnat, PTGAS i PDI | F8: 8. Font obtenció de dades
A12: Nombre d’alumnes que han sol·licitat la International Track
A13: 2023/2024 | B13: 2024/2025
A14: 1

Sheet PC06_Ind05.  Nombre de PDI i 
B1: Torna a l'índex
B3: #VALUE! | E3: Fitxa de seguiment de l'indicador
B5: 1. Codi del l'indicador | D5: =Índex!A52 -> PC06_Ind05. | F5: 2. Nom de l'indicador | H5: =Índex!B52 -> Nombre de PDI i PTGAS que han participat en programes de mobilitat
B6: 3. Objectiu | D6: =Índex!E52 -> Incentivar la mobilitat en aquests col·lectius | F6: 4. Freqüència de la medició | H6: Anual
B7: 5. Propietat | D7: =Índex!C52 -> Vicedeganat de Mobilitat, Pràctiques i Promoció | F7: 6. Responsabilitat | H7: =Índex!D52 -> Gestió d'intercanvis
B8: 7. Processos als que afecta | D8: =Índex!G52 -> PC06. Gestió de la mobilitat de l’alumnat, PTGAS i PDI | F8: 8. Font obtenció de dades
B12: Nombre de PDI i PTGAS que han participat en programes de mobilitat
B13: 2020/2021 | C13: 2021/2022 | D13: 2022/2023 | E13: 2023/2024 | F13: 2024/2025
A14: PDI | B14: 0 | C14: 1 | D14: 1 | E14: 0
A15: PTGAS | B15: 0 | C15: 0 | D15: 1 | E15: 2

Sheet PC06_Ind06.  Enquestes de sat
B1: Torna a l'índex
B3: #VALUE! | E3: Fitxa de seguiment de l'indicador
B5: 1. Codi del l'indicador | D5: =Índex!A53 -> PC06_Ind06. | F5: 2. Nom de l'indicador | H5: =Índex!B53 -> Enquestes satisfacció que realitza l’alumnat d’intercanvi
B6: 3. Objectiu | D6: =Índex!E53 -> Obtenir feedback de l’alumnat per millorar (si s’escau) l’experiència de la mobilitat de l’alumnat | F6: 4. Freqüència de la medició | H6: Anual
B7: 5. Propietat | D7: =Índex!C53 -> Vicedeganat de Mobilitat, Pràctiques i Promoció | F7: 6. Responsabilitat | H7: =Índex!D53 -> Gestió d'intercanvis
B8: 7. Processos als que afecta | D8: =Índex!G53 -> PC06. Gestió de la mobilitat de l’alumnat, PTGAS i PDI | F8: 8. Font obtenció de dades
B12: Enquestes de satisfacció que realitza l'alumnat d'intercanvi
B13: 2021/2022 | C13: 2022/2023 | D13: 2023/2024 | E13: 2024/2025
A14: Very satisfied | B14: 0.7114 | C14: 0.744 | D14: 0.735
A15: Very dissatisfied | B15: 0.015 | C15: 0 | D15: 0
A16: Rather satisfied | B16: 0.222 | C16: 0.222 | D16: 0.223
A17: Rather dissatisfied | B17: 0 | C17: 0.022 | D17: 0.008
A18: Neither satisfied nor dissatisfied | B18: 0.0476 | C18: 0.011 | D18: 0.033
A21: Enquestes de satisfacció que realitza l'alumnat d'intercanvi
A22: Curs acadèmic | B22: Grau | C22: Very satisfied | D22: Very dissatisfied | E22: Rather satisfied | F22: Rather dissatisfied | G22: Neither satisfied nor dissatisfied
A23: 2021/2022 | B23: Biologia | C23: 5 | D23: 1 | E23: 1 | G23: 2
B24: Biologia Ambiental | C24: 11 | E24: 1
B25: Bioquímica | C25: 12 | E25: 5
B26: Biotecnologia | C26: 5 | E26: 4
B27: Ciències Biomèdiques | C27: 11 | E27: 3 | G27: 1
B28: Genètica | C28: 1
B29: Microbiologia
A30: 2022/2023 | B30: Biologia | C30: 11 | E30: 2
B31: Biologia Ambiental | C31: 18 | E31: 8 | G31: 1
B32: Bioquímica | C32: 11 | E32: 2 | F32: 1
B33: Biotecnologia | C33: 13 | E33: 4 | G33: 1
B34: Ciències Biomèdiques | C34: 20 | E34: 3
B35: Genètica | C35: 11 | E35: 5
B36: Microbiologia | C36: 5 | E36: 2
A37: 2023/2024 | B37: Biologia | C37: 15 | E37: 2
B38: Biologia Ambiental | C38: 19 | E38: 5
B39: Bioquímica | C39: 5 | G39: 1
B40: Biotecnologia | C40: 15 | E40: 4 | F40: 1 | G40: 1
B41: Ciències Biomèdiques | C41: 20 | E41: 7
B42: Genètica | C42: 8 | E42: 7 | G42: 1
B43: Microbiologia | C43: 7 | E43: 2
A44: 2024/2025 | B44: Biologia
B45: Biologia Ambiental
B46: Bioquímica
B47: Biotecnologia
B48: Ciències Biomèdiques
B49: Genètica
B50: Microbiologia

Sheet PC07_Ind01. Valoració mitjana
B1: Torna a l'índex
B3: #VALUE! | E3: Fitxa de seguiment de l'indicador
B5: 1. Codi del l'indicador | D5: =Índex!A54 -> PC07_Ind01. | F5: 2. Nom de l'indicador | H5: =Índex!B54 -> Valoració mitjana a l’afirmació “Estic satisfet/a amb la titulació” (persones egressades)
B6: 3. Objectiu | D6: =Índex!E54 -> ≥ mitjana de la UAB | F6: 4. Freqüència de la medició | H6: Anual
B7: 5. Propietat | D7: =Índex!C54 -> Vicedeganat de Qualitat i Pla Estratègic | F7: 6. Responsabilitat | H7: =Índex!D54 -> Gestió de qualitat
B8: 7. Processos als que afecta | D8: =Índex!G54 -> PC07. Seguiment, avaluació i millora de les titulacions | F8: 8. Font obtenció de dades | H8: Dades extretes de les enquestes del grau de satisfacció de les persones titulades amb data 02/10/2025: https://www.uab.cat/web/estudis/qualitat-docent/persones-graduades-1345665543247.html
A12: Valoració mitjana a l’afirmació “Estic satisfet/a amb la titulació”
A13: Grau | B13: 2017/2018 | C13: 2018/2019 | D13: 2019/2020 | E13: 2021/2022 | F13: 2022/2023 | G13: 2023/2024 | H13: 2024/2025
A14: Biologia | B14: 3.82 | C14: 4.07 | D14: 4.17 | E14: 4.25 | F14: 3.89 | G14: 4.3 | H14: SD
A15: Biologia Ambiental | B15: 3.89 | C15: 4.71 | D15: 3.79 | E15: 4.3 | F15: 4.14 | G15: 4.24 | H15: SD
A16: Bioquímica | B16: 3.07 | C16: 3.45 | D16: SD | E16: 4.05 | F16: 3.62 | G16: 4.25 | H16: SD
A17: Biotecnologia | B17: 3.92 | C17: 4.28 | D17: 4.1 | E17: 4.15 | F17: 3.83 | G17: 4.08 | H17: SD
A18: Ciències Biomèdiques | B18: 3.52 | C18: 3.82 | D18: 4 | E18: 2.79 | F18: 4.1 | G18: 3.85 | H18: SD
A19: Genètica | B19: 4 | C19: 3.5 | D19: 4 | E19: 4.08 | F19: 4.13 | G19: 3.78 | H19: SD
A20: Microbiologia | B20: 4.22 | C20: 4.09 | D20: 4.2 | E20: 3.95 | F20: 4.24 | G20: 4.31 | H20: SD
A21: Graus Biociències | B21: 3.69 | C21: 3.99 | D21: 3.96 | E21: 3.94 | F21: 4.01 | G21: 4.08 | H21: SD
A22: Graus UAB | B22: 3.8 | C22: 3.76 | D22: 3.65 | E22: 3.88 | F22: 3.97 | G22: 3.89 | H22: SD
A25: Valoració mitjana a l’afirmació “Estic satisfet/a amb la titulació”
A26: Màster | B26: 2017/2018 | C26: 2018/2019 | D26: 2019/2020 | E26: 2021/2022 | F26: 2022/2023 | G26: 2023/2024 | H26: 2024/2025
A27: Bioinformàtica | B27: SD | C27: 4.3 | D27: 4.33 | E27: 3.62 | F27: 4.43 | G27: 3 | H27: SD
A28: Biologia, Genòmica i Biotecnologia Vegetals | B28: SD | C28: SD | D28: SD | E28: 4.22 | F28: 4 | G28: 4.17 | H28: SD
A29: Bioquímica, Biologia Molecular i Biomedicina | B29: 3 | C29: 3.8 | D29: SD | E29: 3.53 | F29: 4.35 | G29: 3.9 | H29: SD
A30: Biotecnologia Avançada | B30: SD | C30: SD | D30: SD | E30: 3 | F30: 4.13 | G30: 4.29 | H30: SD
A31: Citogenètica i Biologia de la Reproducció | B31: SD | C31: SD | D31: SD | E31: 4 | F31: 4.44 | G31: 3.75 | H31: SD
A32: Ecologia Terrestre i Gestió de la Biodiversitat | B32: SD | C32: SD | D32: SD | E32: 4 | F32: 3.8 | G32: 4 | H32: SD
A33: Genètica Avançada | B33: SD | C33: SD | D33: SD | E33: 3.17 | F33: SD | G33: 3.57 | H33: SD
A34: Microbiologia Aplicada | B34: SD | C34: 3 | D34: SD | E34: 3.91 | F34: SD | G34: 2.71 | H34: SD
A35: Neurociències | B35: SD | C35: SD | D35: 3.4 | E35: 3 | F35: 3.2 | G35: 3.89 | H35: SD
A36: Màsters Biociències | B36: SD | C36: 3.66 | D36: 3.77 | E36: 3.61 | F36: 4.01 | G36: 3.71 | H36: SD
A37: Màsters UAB | B37: SD | C37: 3.45 | D37: 3.56 | E37: 3.71 | F37: 3.66 | G37: 3.81 | H37: SD

Sheet PC07_Ind02. Valoració a l’afi
B1: Torna a l'índex
B3: #VALUE! | E3: Fitxa de seguiment de l'indicador
B5: 1. Codi del l'indicador | D5: =Índex!A55 -> PC07_Ind02. | F5: 2. Nom de l'indicador | H5: =Índex!B55 -> Valoració mitjana a l’afirmació “Tornaria a triar la mateixa titulació” (persones egressades)
B6: 3. Objectiu | D6: =Índex!E55 -> ≥ mitjana de la UAB | F6: 4. Freqüència de la medició | H6: Anual
B7: 5. Propietat | D7: =Índex!C55 -> Vicedeganat de Qualitat i Pla Estratègic | F7: 6. Responsabilitat | H7: =Índex!D55 -> Gestió de qualitat
B8: 7. Processos als que afecta | D8: =Índex!G55 -> PC07. Seguiment, avaluació i millora de les titulacions | F8: 8. Font obtenció de dades | H8: Dades extretes de les enquestes del grau de satisfacció de les persones titulades amb data 02/10/2025: https://www.uab.cat/web/estudis/qualitat-docent/persones-graduades-1345665543247.html
A12: Valoració mitjana a l’afirmació “Tornaria a triar la mateixa titulació”
A13: Grau | B13: 2017/2018 | C13: 2018/2019 | D13: 2019/2020 | E13: 2021/2022 | F13: 2022/2023 | G13: 2023/2024 | H13: 2024/2025
A14: Biologia | B14: 0.7273 | C14: 0.7333 | D14: 0.8333 | E14: 0.65 | F14: 0.8333 | G14: 0.6364 | H14: SD
A15: Biologia Ambiental | B15: 0.8889 | C15: 1 | D15: 0.7273 | E15: 0.9259 | F15: 0.8 | G15: 0.7647 | H15: SD
A16: Bioquímica | B16: 0.5 | C16: 0.8182 | D16: SD | E16: 0.7273 | F16: 0.6923 | G16: 0.6875 | H16: SD
A17: Biotecnologia | B17: 0.6923 | C17: 0.8333 | D17: 0.8 | E17: 0.8929 | F17: 0.6087 | G17: 0.7917 | H17: SD
A18: Ciències Biomèdiques | B18: 0.72 | C18: 0.7273 | D18: 0.6667 | E18: 0.5 | F18: 0.75 | G18: 0.9 | H18: SD
A19: Genètica | B19: 1 | C19: 0.5 | D19: 0.7 | E19: 0.8333 | F19: 0.8 | G19: 0.7222 | H19: SD
A20: Microbiologia | B20: 0.7778 | C20: 0.8182 | D20: 0.6 | E20: 0.6667 | F20: 0.76 | G20: 0.9231 | H20: SD
A21: Graus Biociències | B21: 0.7273 | C21: 0.7711 | D21: 0.7368 | E21: 0.753 | F21: 0.7442 | G21: 0.7815 | H21: SD
A22: Graus UAB | B22: 0.75 | C22: 0.7277 | D22: 0.7017 | E22: 0.73 | F22: 0.7319 | G22: 0.74 | H22: SD
A25: Valoració mitjana a l’afirmació “Tornaria a triar la mateixa titulació”
A26: Màster | B26: 2017/2018 | C26: 2018/2019 | D26: 2019/2020 | E26: 2021/2022 | F26: 2022/2023 | G26: 2023/2024 | H26: 2024/2025
A27: Bioinformàtica | B27: 1 | C27: 1 | D27: 0.5556 | E27: 0.8462 | F27: 0.8571 | G27: 0.6667 | H27: SD
A28: Biologia, Genòmica i Biotecnologia Vegetals | B28: 1 | C28: 0 | D28: 0.5 | E28: 0.6667 | F28: 0.6 | G28: 0.8333 | H28: SD
A29: Bioquímica, Biologia Molecular i Biomedicina | B29: 0.4 | C29: 0.8 | D29: 0.75 | E29: 0.5333 | F29: 0.8824 | G29: 0.6 | H29: SD
A30: Biotecnologia Avançada | B30: 0.75 | C30: 1 | D30: SD | E30: 0.6 | F30: 0.625 | G30: 0.8571 | H30: SD
A31: Citogenètica i Biologia de la Reproducció | B31: 1 | C31: 0 | D31: 1 | E31: 0.7 | F31: 1 | G31: 0.625 | H31: SD
A32: Ecologia Terrestre i Gestió de la Biodiversitat | B32: 1 | C32: 0.75 | D32: 0.6667 | E32: 0.875 | F32: 1 | G32: 0.6667 | H32: SD
A33: Genètica Avançada | B33: 0 | C33: SD | D33: 0.5 | E33: 0.3333 | F33: 0.25 | G33: 0.8571
A34: Microbiologia Aplicada | B34: 0.6667 | C34: 0.4 | D34: 1 | E34: 0.8182 | F34: 0.5 | G34: 0.2857 | H34: SD
A35: Neurociències | B35: 1 | C35: 0.75 | D35: 0.6 | E35: 0.5 | F35: 0.6 | G35: 0.8889 | H35: SD
A36: Màster Biociències | B36: 0.6842 | C36: 0.75 | D36: 0.6667 | E36: 0.6489 | F36: 0.7536 | G36: 0.6986 | H36: SD
A37: Màster UAB | B37: 0.6424 | C37: 0.7443 | D37: 0.6404 | E37: 0.7049 | F37: 0.7087 | G37: 0.7559 | H37: SD

Sheet PC07_Ind03. Valoració mitjan
B1: Torna a l'índex
B3: #VALUE! | E3: Fitxa de seguiment de l'indicador
B5: 1. Codi del l'indicador | D5: =Índex!A56 -> PC07_Ind03. | F5: 2. Nom de l'indicador | H5: =Índex!B56 -> Valoració mitjana a l’enquesta d’assignatures graus
B6: 3. Objectiu | D6: =Índex!E56 -> ≥ mitjana de la UAB | F6: 4. Freqüència de la medició | H6: Anual
B7: 5. Propietat | D7: =Índex!C56 -> Vicedeganat de Qualitat i Pla Estratègic | F7: 6. Responsabilitat | H7: =Índex!D56 -> Gestió de qualitat
B8: 7. Processos als que afecta | D8: =Índex!G56 -> PC07. Seguiment, avaluació i millora de les titulacions | F8: 8. Font obtenció de dades | H8: Dades extretes de les enquestes d'avaluació de les assignatures de grau i de màster amb data 02/10/2025: https://www.uab.cat/web/estudiar/qualitat-docent/avaluacio-de-les-assignatures/moduls-de-grau-i-master-universitari-1345665543141.html
A12: Valoració mitjana a l’enquesta d’assignatures graus
A13: Semestre | B13: Grau | C13: 2019/2020 | D13: 2020/2021 | E13: 2021/2022 | F13: 2022/2023 | G13: 2023/2024 | H13: 2024/2025
A14: Primer Semestre | B14: Biologia | C14: 3.22 | D14: 3.27 | E14: 3.28 | F14: 3.36 | G14: 3.35 | H14: 3.3
B15: Biologia Ambiental | C15: 3.28 | D15: 3.26 | E15: 3.34 | F15: 3.34 | G15: 3.41 | H15: 3.38
B16: Bioquímica | C16: 3.14 | D16: 3.26 | E16: 3.2 | F16: 3.3 | G16: 3.38 | H16: 3.37
B17: Biotecnologia | C17: 3.31 | D17: 3.31 | E17: 3.27 | F17: 3.17 | G17: 3.12 | H17: 3.13
B18: Ciències Biomèdiques | C18: 3.22 | D18: 3.28 | E18: 3.17 | F18: 3.38 | G18: 3.22 | H18: 3.38
B19: Genètica | C19: 3.22 | D19: 3.36 | E19: 3.41 | F19: 3.36 | G19: 3.52 | H19: 3.39
B20: Microbiologia | C20: 3.2 | D20: 3.3 | E20: 3.35 | F20: 3.29 | G20: 3.38 | H20: 3.36
B21: Graus Biociències | C21: 3.23 | D21: 3.29 | E21: 3.29 | F21: 3.31 | G21: 3.34 | H21: 3.33
B22: Graus UAB | C22: 3.2 | D22: 3.19 | E22: 3.26 | F22: 3.21 | G22: 3.26 | H22: 3.24
A23: Segon Semestre | B23: Biologia | E23: 3.18 | F23: 3.17 | G23: 3.27 | H23: 3.4
B24: Biologia Ambiental | E24: 3.4 | F24: 3.35 | G24: 3.31 | H24: 3.34
B25: Bioquímica | E25: 3.39 | F25: 3.26 | G25: 3.26 | H25: 3.44
B26: Biotecnologia | E26: 3.35 | F26: 3.31 | G26: 3.35 | H26: 3.42
B27: Ciències Biomèdiques | E27: 3.18 | F27: 3.28 | G27: 3.29 | H27: 3.42
B28: Genètica | E28: 3.16 | F28: 3.12 | G28: 3.47 | H28: 3.34
B29: Microbiologia | E29: 3.34 | F29: 3.35 | G29: 3.34 | H29: 3.48
B30: Graus Biociències | E30: 3.29 | F30: 3.26 | G30: 3.32 | H30: 3.41
B31: Graus UAB | E31: 3.22 | F31: 3.22 | G31: 3.25 | H31: 3.24

Sheet PC07_Ind04. Valoració mitjana
B1: Torna a l'índex
B3: #VALUE! | E3: Fitxa de seguiment de l'indicador
B5: 1. Codi del l'indicador | D5: =Índex!A57 -> PC07_Ind04. | F5: 2. Nom de l'indicador | H5: =Índex!B57 -> Valoració mitjana a l’enquesta de mòduls màster
B6: 3. Objectiu | D6: =Índex!E57 -> ≥ mitjana de la UAB | F6: 4. Freqüència de la medició | H6: Anual
B7: 5. Propietat | D7: =Índex!C57 -> Vicedeganat de Qualitat i Pla Estratègic | F7: 6. Responsabilitat | H7: =Índex!D57 -> Gestió de qualitat
B8: 7. Processos als que afecta | D8: =Índex!G57 -> PC07. Seguiment, avaluació i millora de les titulacions | F8: 8. Font obtenció de dades | H8: Dades extretes de les enquestes d'avaluació de les assignatures de grau i de màster amb data 02/10/2025: https://www.uab.cat/web/estudiar/qualitat-docent/avaluacio-de-les-assignatures/moduls-de-grau-i-master-universitari-1345665543141.html
A12: Valoració mitjana a l’enquesta d’assignatures/mòduls de màster
A13: Semestre | B13: Màster | C13: 2019/2020 | D13: 2020/2021 | E13: 2021/2022 | F13: 2022/2023 | G13: 2023/2024 | H13: 2024/2025
A14: Primer Semestre | B14: Bioinformàtica | C14: 3.12 | D14: 2.85 | E14: SD | F14: SD | G14: SD | H14: SD
B15: Biologia, Genòmica i Biotecnologia Vegetals | C15: 3.05 | D15: SD | E15: SD | F15: 2.91 | G15: SD | H15: 3.33
B16: Bioquímica, Biologia Molecular i Biomedicina | C16: 2.1 | D16: 2.69 | E16: 3 | F16: 2.37 | G16: 3.91 | H16: SD
B17: Biotecnologia Avançada | C17: SD | D17: 3.47 | E17: 2.23 | F17: SD | G17: 3.55 | H17: SD
B18: Citogenètica i Biologia de la Reproducció | C18: 3.43 | E18: SD | F18: SD | G18: 3.54 | H18: SD
D19: 3.37
B20: Ecologia Terrestre i Gestió de la Biodiversitat | C20: SD | D20: SD | E20: SD | F20: SD | G20: SD | H20: SD
B21: Genètica Avançada | C21: SD | D21: 3.56 | E21: 2.88 | F21: SD | G21: SD | H21: SD
B22: Microbiologia Aplicada | C22: SD | D22: SD | E22: SD | F22: SD | G22: SD | H22: SD
B23: Neurociències | C23: 2.54 | D23: 3.06 | E23: SD | F23: 2.83 | G23: 3.15 | H23: 3.19
B24: Màster universitari Biociències | C24: 3.07 | D24: 3.32 | E24: 3.03 | F24: 2.86 | G24: SD | H24: SD
B25: Màster universitari UAB | C25: 3.22 | D25: 3.33 | E25: 3.3 | F25: 3.25 | G25: 3.43 | H25: 3.39
A26: Segon Semestre | B26: Bioinformàtica | C26: SD | D26: SD | E26: SD | F26: SD | G26: SD | H26: SD
B27: Biologia, Genòmica i Biotecnologia Vegetals | C27: SD | D27: SD | E27: SD | F27: SD | G27: SD | H27: SD
B28: Bioquímica, Biologia Molecular i Biomedicina | C28: SD | D28: 3.49 | E28: SD | F28: 3.65 | G28: 3.38 | H28: 3.55
B29: Biotecnologia Avançada | C29: SD | D29: SD | E29: SD | F29: SD | G29: SD | H29: SD
B30: Citogenètica i Biologia de la Reproducció | C30: SD | D30: SD | E30: SD | F30: SD | G30: SD | H30: SD
B31: Ecologia Terrestre i Gestió de la Biodiversitat | C31: SD | D31: SD | E31: SD | F31: SD | G31: SD | H31: SD
B32: Genètica Avançada | C32: SD | D32: SD | E32: SD | F32: SD | G32: SD | H32: SD
B33: Microbiologia Aplicada | C33: SD | D33: SD | E33: 1.91 | F33: SD | G33: SD | H33: 3.19
B34: Neurociències | C34: SD | D34: 1.41 | E34: SD | F34: SD | G34: SD | H34: SD
B35: Màster universitari Biociències | C35: SD | D35: 2.89 | E35: 1.82 | F35: 2.25 | G35: SD | H35: 3.49
B36: Màster universitari UAB | C36: SD | D36: 3.15 | E36: 3.12 | F36: 3.05 | G36: 3.2 | H36: 3.31

Sheet PC08_Ind01. Percentatge de pr
B1: Torna a l'índex
B3: #VALUE! | E3: Fitxa de seguiment de l'indicador
B5: 1. Codi del l'indicador | D5: =Índex!A58 -> PC08_Ind01. | F5: 2. Nom de l'indicador | H5: =Índex!B58 -> Percentatge de propostes de modificació presentades a AQU amb informe favorable definitiu
B6: 3. Objectiu | D6: =Índex!E58 -> 1 | F6: 4. Freqüència de la medició | H6: Anual
B7: 5. Propietat | D7: =Índex!C58 -> Vicedeganat d'Estudis i Programació | F7: 6. Responsabilitat | H7: =Índex!D58 -> Gestió de qualitat
B8: 7. Processos als que afecta | D8: =Índex!G58 -> PC08. Modificació i extinció de titulacions | F8: 8. Font obtenció de dades | H8: Dades extretes de l'arxiu de la Gestió de Qualitat amb data 22/10/2025
A12: Percentatge de propostes de modificació presentades a AQU amb informe favorable definitiu
A13: 2019/2020 | B13: 2020/2021 | C13: 2021/2022 | D13: 2022/2023 | E13: 2023/2024 | F13: 2024/2025
A14: 1 | B14: - | C14: 1 | D14: 1 | E14: 1 | F14: 1

Sheet PC08_Ind02. “Percentatge de m
B1: Torna a l'índex
B3: #VALUE! | E3: Fitxa de seguiment de l'indicador
B5: 1. Codi del l'indicador | D5: =Índex!A59 -> PC08_Ind02. | F5: 2. Nom de l'indicador | H5: =Índex!B59 -> “Percentatge de modificacions aprovades per l’AQU i implementades que són degudes a l’adaptació del RD822/2021”
B6: 3. Objectiu | D6: =Índex!E59 -> 0.7 | F6: 4. Freqüència de la medició | H6: Anual
B7: 5. Propietat | D7: =Índex!C59 -> Vicedeganat d'Estudis i Programació | F7: 6. Responsabilitat | H7: =Índex!D59 -> Gestió de qualitat
B8: 7. Processos als que afecta | D8: =Índex!G59 -> PC08. Modificació i extinció de titulacions | F8: 8. Font obtenció de dades
A12: Percentatge de modificacions aprovades i implementades que són degudes a l’adaptació del RD822/2021
A13: 2021/2022 | B13: 2022/2023 | C13: 2023/2024 | D13: 2024/2025
A14: 0 | B14: 0 | C14: 1 | D14: 1

Sheet PC08_Ind03. “Informes definit
B1: Torna a l'índex
B3: #VALUE! | E3: Fitxa de seguiment de l'indicador
B5: 1. Codi del l'indicador | D5: =Índex!A60 -> PC08_Ind03. | F5: 2. Nom de l'indicador | H5: =Índex!B60 -> “Informes definitius de l’AQU amb valoració favorable i amb observacions susceptibles a generar propostes de millora de la titulació”
B6: 3. Objectiu | D6: =Índex!E60 -> 0.3 | F6: 4. Freqüència de la medició | H6: Anual
B7: 5. Propietat | D7: =Índex!C60 -> Vicedeganat d'Estudis i Programació | F7: 6. Responsabilitat | H7: =Índex!D60 -> Gestió de qualitat
B8: 7. Processos als que afecta | D8: =Índex!G60 -> PC08. Modificació i extinció de titulacions | F8: 8. Font obtenció de dades
A12: Informes definitius de l’AQU amb valoració favorable i amb observacions susceptibles a generar propostes de millora de la titulació
A13: 2021/2022 | B13: 2022/2023 | C13: 2023/2024 | D13: 2024/2025
A14: 1 | B14: Sense modificacions | C14: 0.75

Sheet PC09_Ind01. Nombre de titulac
B1: Torna a l'índex
B3: #VALUE! | E3: Fitxa de seguiment de l'indicador
B5: 1. Codi del l'indicador | D5: =Índex!A61 -> PC09_Ind01. | F5: 2. Nom de l'indicador | H5: =Índex!B61 -> Nombre de titulacions amb estructura d’arxiu uniforme.
B6: 3. Objectiu | D6: =Índex!E61 -> >95 % | F6: 4. Freqüència de la medició | H6: Anual
B7: 5. Propietat | D7: =Índex!C61 -> Vicedegenat de Qualitat i Pla Estratègic | F7: 6. Responsabilitat | H7: =Índex!D61 -> Gestió de qualitat
B8: 7. Processos als que afecta | D8: =Índex!G61 -> PC09. Gestió documental | F8: 8. Font obtenció de dades | H8: Dades extretes de l'arxiu de la Gestió de Qualitat amb data 22/10/2025
A12: Nombre de titulacions amb estructura d’arxiu uniforme
A13: Tipus de titulació | B13: 2023/2024 | C13: 2024/2025
A14: Graus | B14: 1 | C14: 1
A15: Màsters | B15: 1 | C15: 1

Sheet PC09_Ind02. Numero d’actes cent
B1: Torna a l'índex
B3: #VALUE! | E3: Fitxa de seguiment de l'indicador
B5: 1. Codi del l'indicador | D5: =Índex!A62 -> PC09_Ind02. | F5: 2. Nom de l'indicador | H5: =Índex!B62 -> Numero d’actes centralitzades de les comissions delegades
B6: 3. Objectiu | D6: =Índex!E62 -> >95 % | F6: 4. Freqüència de la medició | H6: Anual
B7: 5. Propietat | D7: =Índex!C62 -> Vicedegenat de Qualitat i Pla Estratègic | F7: 6. Responsabilitat | H7: =Índex!D62 -> Secretari o Secretaria del Deganat
B8: 7. Processos als que afecta | D8: =Índex!G62 -> PC09. Gestió documental | F8: 8. Font obtenció de dades
B12: Numero d’actes centralitzades de les comissions delegades
B13: 2023/2024 | C13: 2024/2025
A14: Nombre d’actes | B14: 152
A15: Percentatge d’actes centralitzades | B15: 1

Sheet PC10_Ind01. Percentatge de prop
B1: Torna a l'índex
B3: #VALUE! | E3: Fitxa de seguiment de l'indicador
B5: 1. Codi del l'indicador | D5: =Índex!A63 -> PC10_Ind01. | F5: 2. Nom de l'indicador | H5: =Índex!B63 -> Percentatge de propostes de millora indicades per la CAE assolides
B6: 3. Objectiu | D6: =Índex!E63 -> Objectiu global: 100% Objectiu anual: experimentar increment respecte l’anterior revisió SGIQ | F6: 4. Freqüència de la medició | H6: Anual
B7: 5. Propietat | D7: =Índex!C63 -> Vicedegenat de Qualitat i Pla Estratègic | F7: 6. Responsabilitat | H7: =Índex!D63 -> Gestió de qualitat
B8: 7. Processos als que afecta | D8: =Índex!G63 -> PC10. Certificació de la implantació del SGIQ i Acreditació de Centre | F8: 8. Font obtenció de dades
B12: Percentatge de propostes de millora indicades per la CAE assolides
B13: 2022/2023 | C13: 2023/2024 | D13: 2024/2025
A14: Nº Propostes de la CAE | B14: 17 | C14: 17
A15: Nº Propostes Finalitzades fins la data | B15: 12 | C15: 13
A16: % Propostes de millora de la CAE assolides | B16: =B15/B14 -> 0.70588235 | C16: =C15/C14 -> 0.76470588 | D16: =D15/D14 -> #DIV/0!

Sheet PS01_Ind01. Nombre de profess
B1: Torna a l'índex
B3: #VALUE! | E3: Fitxa de seguiment de l'indicador
B5: 1. Codi del l'indicador | D5: =Índex!A64 -> PS01_Ind01. | F5: 2. Nom de l'indicador | H5: =Índex!B64 -> Nombre de professorat de la Facultat que participa en cursos de formació per a personal docent de la UAB
B6: 3. Objectiu | D6: =Índex!E64 -> Observar un increment | F6: 4. Freqüència de la medició | H6: Anual
B7: 5. Propietat | D7: =Índex!C64 -> Degà/ana | F7: 6. Responsabilitat | H7: =Índex!D64 -> Secretari o Secretaria del Deganat
B8: 7. Processos als que afecta | D8: =Índex!G64 -> PS01. Formació del PDI, innovació docent i avaluació de l’activitat docent | F8: 8. Font obtenció de dades
A12: Nombre de professors/res assistents a cursos de formació
A13: 2018/2019 | B13: 2019/2020 | C13: 2020/2021 | D13: 2021/2022 | E13: 2022/2023 | F13: 2023/2024 | G13: 2024/2025
A14: 122 | B14: 99 | C14: 160 | D14: 155 | E14: 167 | F14: 264 | G14: SD | I14: càlculs formaicó PDI
A17: Nombre de professors/res assistents a cursos de formació per la millora de la docència
A18: 2018/2019 | B18: 2019/2020 | C18: 2020/2021 | D18: 2021/2022 | E18: 2022/2023 | F18: 2023/2024 | G18: 2024/2025
A19: 86 | B19: 67 | C19: 95 | D19: 66 | E19: 50 | F19: 98

Sheet PS01_Ind02. Nombre de project
B1: Torna a l'índex
B3: #VALUE! | E3: Fitxa de seguiment de l'indicador
B5: 1. Codi del l'indicador | D5: =Índex!A65 -> PS01_Ind02. | F5: 2. Nom de l'indicador | H5: =Índex!B65 -> Nombre de projectes de millora / innovació docent concedits respecte els demanats
B6: 3. Objectiu | D6: =Índex!E65 -> Èxit >75% | F6: 4. Freqüència de la medició | H6: Anual
B7: 5. Propietat | D7: =Índex!C65 -> Degà/ana | F7: 6. Responsabilitat | H7: =Índex!D65 -> Unitat de Formació Innovació Docent
B8: 7. Processos als que afecta | D8: =Índex!G65 -> PS01. Formació del PDI, innovació docent i avaluació de l’activitat docent | F8: 8. Font obtenció de dades
A12: Nombre de projectes de millora/innovació docent concedits, respecte els demanats
A13: 2019 | B13: 2020 | C13: 2021 | D13: 2022 | E13: 2023 | F13: 2024 | G13: 2025
A14: 7/8 | B14: 7/7 | C14: 2/2 | D14: 4/4 | E14: 1/1 | F14: 3/3

Sheet PS01_Ind03. Percentatge de pr
B1: Torna a l'índex
B3: #VALUE! | E3: Fitxa de seguiment de l'indicador
B5: 1. Codi del l'indicador | D5: =Índex!A66 -> PS01_Ind03. | F5: 2. Nom de l'indicador | H5: =Índex!B66 -> Percentatge de professorat avaluat favorablement en relació al total d’avaluats
B6: 3. Objectiu | D6: =Índex!E66 -> 1 | F6: 4. Freqüència de la medició | H6: Anual
B7: 5. Propietat | D7: =Índex!C66 -> Degà/ana | F7: 6. Responsabilitat | H7: =Índex!D66 -> Unitat de Formació Innovació Docent
B8: 7. Processos als que afecta | D8: =Índex!G66 -> PS01. Formació del PDI, innovació docent i avaluació de l’activitat docent | F8: 8. Font obtenció de dades
A12: Percentatge de professorat avaluat favorablement en relació al total d’avaluats
A13: 2019 | B13: 2020 | C13: 2021 | D13: 2022 | E13: 2023 | F13: 2024 | G13: 2025
A14: 0.96 | B14: 0.9756 | C14: 1 | D14: 1 | E14: 0.9459 | F14: 0.9412

Sheet PS01_Ind04. Realització de la
B1: Torna a l'índex
B3: #VALUE! | E3: Fitxa de seguiment de l'indicador
B5: 1. Codi del l'indicador | D5: =Índex!A67 -> PS01_Ind04. | F5: 2. Nom de l'indicador | H5: =Índex!B67 -> Realització de la Jornada d'Innovació docent de la Facultat
B6: 3. Objectiu | D6: =Índex!E67 -> Realització biennal | F6: 4. Freqüència de la medició | H6: Bienal
B7: 5. Propietat | D7: =Índex!C67 -> Degà/ana | F7: 6. Responsabilitat | H7: =Índex!D67 -> Secretari o secretària del Deganat
B8: 7. Processos als que afecta | D8: =Índex!G67 -> PS01. Formació del PDI, innovació docent i avaluació de l’activitat docent | F8: 8. Font obtenció de dades | H8: Dades extretes de l'arxiu del deganat amb data 21/10/2025
A12: Realització de la Jornada d'Innovació docent de la Facultat
A13: 2020 | B13: 2021 | C13: 2022 | D13: 2023 | E13: 2024 | F13: 2025
A14: Si | B14: Si | C14: Si | D14: - | E14: - | F14: SI

Sheet PS02_Ind01. Nombre de queixes
B1: Torna a l'índex
B3: #VALUE! | E3: Fitxa de seguiment de l'indicador
B5: 1. Codi del l'indicador | D5: =Índex!A68 -> PS02_Ind01. | F5: 2. Nom de l'indicador | H5: =Índex!B68 -> Nombre de queixes rebudes relacionades amb els serveis
B6: 3. Objectiu | D6: =Índex!E68 -> < Que el curs anterior | F6: 4. Freqüència de la medició | H6: Anual
B7: 5. Propietat | D7: =Índex!C68 -> Vicedeganat d'Economia, d'Infraestructures i de Formació Permanent | F7: 6. Responsabilitat | H7: =Índex!D68 -> Administració de Centre
B8: 7. Processos als que afecta | D8: =Índex!G68 -> PS02. Gestió de Serveis | F8: 8. Font obtenció de dades | H8: Dades obtingudes de l'arxiu de l'administració de centre amb data 22/10/2025
B11: Nombre de queixes rebudes relacionades amb els serveis
B12: 2019/2020 | C12: 2020/2021 | D12: 2021/2022 | E12: 2022/2023 | F12: 2023/2024 | G12: 2024/2025
G13: 3

Sheet PS02_Ind02. L’ús del campus v
B1: Torna a l'índex
B3: #VALUE! | E3: Fitxa de seguiment de l'indicador
B5: 1. Codi del l'indicador | D5: =Índex!A69 -> PS02_Ind02. | F5: 2. Nom de l'indicador | H5: =Índex!B69 -> L’ús del Campus Virtual ha facilitat el meu aprenentatge (Enquestes sobre el grau de satisfacció de les persones egressades)
B6: 3. Objectiu | D6: =Índex!E69 -> ≥ Mitjana graus UAB | F6: 4. Freqüència de la medició | H6: Anual
B7: 5. Propietat | D7: =Índex!C69 -> Vicedeganat d'Economia, d'Infraestructures i de Formació Permanent | F7: 6. Responsabilitat | H7: =Índex!D69 -> Gestió de qualitat
B8: 7. Processos als que afecta | D8: =Índex!G69 -> PS02. Gestió de Serveis | F8: 8. Font obtenció de dades | H8: Dades extretes de les enquestes del grau de satisfacció de les persones titulades amb data 02/10/2025: https://www.uab.cat/web/estudis/qualitat-docent/persones-graduades-1345665543247.html
A12: Valoració mitjana a l’afirmació "L’ús del campus virtual ha facilitat el meu aprenentatge"
A13: Grau | B13: 2017/2018 | C13: 2018/2019 | D13: 2019/2020 | E13: 2021/2022 | F13: 2022/2023 | G13: 2023/2024 | H13: 2024/2025
A14: Biologia | B14: 4 | C14: 3.73 | D14: 4.17 | E14: 3.95 | F14: 3.89 | G14: 3.82 | H14: SD
A15: Biologia Ambiental | B15: 3.89 | C15: 3.57 | D15: 3.73 | E15: 3.96 | F15: 3.47 | G15: 3.71 | H15: SD
A16: Bioquímica | B16: 4.07 | C16: 3.64 | D16: NA | E16: 4.18 | F16: 4.23 | G16: 4.07 | H16: SD
A17: Biotecnologia | B17: 3.77 | C17: 4.17 | D17: 4.2 | E17: 4.39 | F17: 4 | G17: 4.13 | H17: SD
A18: Ciències Biomèdiques | B18: 4.12 | C18: 4.09 | D18: 4 | E18: 4 | F18: 4.4 | G18: 3.85 | H18: SD
A19: Genètica | B19: 3.71 | C19: 4.4 | D19: 4 | E19: 4.33 | F19: 4.6 | G19: 3.89 | H19: SD
A20: Microbiologia | B20: 4.11 | C20: 4.36 | D20: 4.4 | E20: 4.19 | F20: 4.16 | G20: 3.85 | H20: SD
A21: Graus Biociències | B21: 3.99 | C21: 4.01 | D21: 3.96 | E21: 4.15 | F21: 4.11 | G21: 3.92 | H21: SD
A22: Graus UAB | B22: 3.72 | C22: 3.78 | D22: 3.67 | E22: 3.97 | F22: 4.05 | G22: 3.73 | H22: SD

Sheet PS02_Ind03 Els recursos facil
B1: Torna a l'índex
B3: #VALUE! | E3: Fitxa de seguiment de l'indicador
B5: 1. Codi del l'indicador | D5: =Índex!A70 -> PS02_Ind03. | F5: 2. Nom de l'indicador | H5: =Índex!B70 -> Els recursos facilitats pels serveis de biblioteca i de suport a la docència han respost a les meves necessitats (Enquestes sobre el grau de satisfacció de les persones egressades)
B6: 3. Objectiu | D6: =Índex!E70 -> ≥ Mitjana graus UAB | F6: 4. Freqüència de la medició | H6: Anual
B7: 5. Propietat | D7: =Índex!C70 -> Vicedeganat d'Economia, d'Infraestructures i de Formació Permanent | F7: 6. Responsabilitat | H7: =Índex!D70 -> Gestió de qualitat
B8: 7. Processos als que afecta | D8: =Índex!G70 -> PS02. Gestió de Serveis | F8: 8. Font obtenció de dades | H8: Dades extretes de les enquestes del grau de satisfacció de les persones titulades amb data 02/10/2025: https://www.uab.cat/web/estudis/qualitat-docent/persones-graduades-1345665543247.html
A12: Valoració mitjana a l’afirmació "Els recursos facilitats pels serveis de biblioteca i de suport a la docència han respost a les meves necessitats"
A13: Grau | B13: 2017/2018 | C13: 2018/2019 | D13: 2019/2020 | E13: 2021/2022 | F13: 2022/2023 | G13: 2023/2024 | H13: 2024/2025
A14: Biologia | B14: 4.45 | C14: 4.27 | D14: 4.25 | E14: 4.05 | F14: 4.22 | G14: 4.55 | H14: SD
A15: Biologia Ambiental | B15: 3.89 | C15: 4 | D15: 3.97 | E15: 4.07 | F15: 4.14 | G15: 4 | H15: SD
A16: Bioquímica | B16: 4.07 | C16: 3.73 | D16: -- | E16: 4.09 | F16: 4.15 | G16: 4 | H16: SD
A17: Biotecnologia | B17: 4 | C17: 4.39 | D17: 3.7 | E17: 4.08 | F17: 4.26 | G17: 4.04 | H17: SD
A18: Ciències Biomèdiques | B18: 4.28 | C18: 3.91 | D18: 4.67 | E18: 4.04 | F18: 4.33 | G18: 4.05 | H18: SD
A19: Genètica | B19: 4.29 | C19: 4.2 | D19: 3.8 | E19: 4.25 | F19: 4.2 | G19: 3.94 | H19: SD
A20: Microbiologia | B20: 4.33 | C20: 4 | D20: 4.4 | E20: 4.29 | F20: 4.08 | G20: 4.38 | H20: SD
A21: Graus Biociències | B21: 4.19 | C21: 4.11 | D21: 4.04 | E21: 4.12 | F21: 4.2 | G21: 4.1 | H21: SD
A22: Graus UAB | B22: 3.97 | C22: 3.89 | D22: 3.86 | E22: 4.05 | F22: 4.06 | G22: 3.82 | H22: SD

Sheet PS03_Ind01. Nombre de queixes
B1: Torna a l'índex
B3: #VALUE! | E3: Fitxa de seguiment de l'indicador
B5: 1. Codi del l'indicador | D5: =Índex!A71 -> PS03_Ind01. | F5: 2. Nom de l'indicador | H5: =Índex!B71 -> Nombre de queixes rebudes relacionades amb els recursos materials
B6: 3. Objectiu | D6: =Índex!E71 -> < Curs anterior | F6: 4. Freqüència de la medició | H6: Anual
B7: 5. Propietat | D7: =Índex!C71 -> Vicedeganat d'Economia, d'Infraestructures i de Formació Permanent | F7: 6. Responsabilitat | H7: =Índex!D71 -> Administració de Centre
B8: 7. Processos als que afecta | D8: =Índex!G71 -> PS03. Gestió de Recursos econòmics i materials | F8: 8. Font obtenció de dades | H8: Dades obtingudes de l'arxiu de l'administració de centre amb data 22/10/2025
A12: Nombre de queixes i de suggeriments rebuts relacionats amb els recursos materials
A13: 2018/2019 | B13: 2019/2020 | C13: 2020/2021 | D13: 2021/2022 | E13: 2022/2023 | F13: 2023/2024 | G13: 2024/2025
A14: 12 | B14: 9 | C14: 4 | D14: 2 | E14: 7 | F14: 9 | G14: 19

Sheet PS03_Ind02. Mitjana de la pre
B1: Torna a l'índex
B3: #VALUE! | E3: Fitxa de seguiment de l'indicador
B5: 1. Codi del l'indicador | D5: =Índex!A72 -> PS03_Ind02. | F5: 2. Nom de l'indicador | H5: =Índex!B72 -> Mitjana de la pregunta “Les instal·lacions (aules i espais docents) han estat adequades per afavorir el meu aprenentatge” (enquesta egressats i egressades)
B6: 3. Objectiu | D6: =Índex!E72 -> ≥ Mitjana graus UAB | F6: 4. Freqüència de la medició | H6: Anual
B7: 5. Propietat | D7: =Índex!C72 -> Vicedeganat d'Economia, d'Infraestructures i de Formació Permanent | F7: 6. Responsabilitat | H7: =Índex!D72 -> Gestió de qualitat
B8: 7. Processos als que afecta | D8: =Índex!G72 -> PS03. Gestió de Recursos econòmics i materials | F8: 8. Font obtenció de dades | H8: Dades extretes de les enquestes del grau de satisfacció de les persones titulades amb data 02/10/2025: https://www.uab.cat/web/estudis/qualitat-docent/persones-graduades-1345665543247.html
A12: Valoració mitjana a l’afirmació “Les instal·lacions (aules i espais docents) han estat adequades per afavorir el meu aprenentatge”
A13: Grau | B13: 2017/2018 | C13: 2018/2019 | D13: 2019/2020 | E13: 2021/2022 | F13: 2022/2023 | G13: 2023/2024 | H13: 2024/2025
A14: Biologia | B14: 3.64 | C14: 3.73 | D14: 3.42 | E14: 3.85 | F14: 3.72 | G14: 4.55 | H14: SD
A15: Biologia Ambiental | B15: 2.89 | C15: 3.86 | D15: 3.88 | E15: 3.74 | F15: 4.33 | G15: 4 | H15: SD
A16: Bioquímica | B16: 3.21 | C16: 3.27 | E16: 3.91 | F16: 3.85 | G16: 4 | H16: SD
A17: Biotecnologia | B17: 3.77 | C17: 3.89 | D17: 3.7 | E17: 3.75 | F17: 4.22 | G17: 4.04 | H17: SD
A18: Ciències Biomèdiques | B18: 3.68 | C18: 3.55 | D18: 4.17 | E18: 3.67 | F18: 4.1 | G18: 4.05 | H18: SD
A19: Genètica | B19: 3.57 | C19: 3.7 | D19: 3.5 | E19: 3.38 | F19: 3.93 | G19: 3.94 | H19: SD
A20: Microbiologia | B20: 3.33 | C20: 4.27 | D20: 3.6 | E20: 3.67 | F20: 3.68 | G20: 4.38 | H20: SD
A21: Graus Biociències | B21: 3.49 | C21: 3.76 | D21: 3.74 | E21: 3.7 | F21: 3.97 | G21: 4.1 | H21: SD
A22: Graus UAB | B22: 3.55 | C22: 3.43 | D22: 3.53 | E22: 3.69 | F22: 3.78 | G22: 3.82 | H22: SD

Sheet PS03_Ind03. Mitjana de la pre
B1: Torna a l'índex
B3: #VALUE! | E3: Fitxa de seguiment de l'indicador
B5: 1. Codi del l'indicador | D5: =Índex!A73 -> PS03_Ind03. | F5: 2. Nom de l'indicador | H5: =Índex!B73 -> Mitjana de la pregunta "Els recursos facilitats pels serveis de biblioteca i de suport a la docència han respost a les meves necessitats” (enquesta egressats i egressades)
B6: 3. Objectiu | D6: =Índex!E73 -> ≥ Mitjana graus UAB | F6: 4. Freqüència de la medició | H6: Anual
B7: 5. Propietat | D7: =Índex!C73 -> Vicedeganat d'Economia, d'Infraestructures i de Formació Permanent | F7: 6. Responsabilitat | H7: =Índex!D73 -> Gestió de qualitat
B8: 7. Processos als que afecta | D8: =Índex!G73 -> PS03. Gestió de Recursos econòmics i materials | F8: 8. Font obtenció de dades | H8: Dades extretes de les enquestes del grau de satisfacció de les persones titulades amb data 02/10/2025: https://www.uab.cat/web/estudis/qualitat-docent/persones-graduades-1345665543247.html
A12: Valoració mitjana a l’afirmació "Els recursos facilitats pels serveis de biblioteca i de suport a la docència han respost a les meves necessitats”
A13: Grau | B13: 2017/2018 | C13: 2018/2019 | D13: 2019/2020 | E13: 2021/2022 | F13: 2022/2023 | G13: 2023/2024 | H13: 2024/2025
A14: Biologia | B14: 4.45 | C14: 4.27 | D14: 4.25 | E14: 4.05 | F14: 4.22 | G14: 4.55 | H14: SD
A15: Biologia Ambiental | B15: 3.89 | C15: 4 | D15: 3.97 | E15: 4.07 | F15: 4.14 | G15: 4 | H15: SD
A16: Bioquímica | B16: 4.07 | C16: 3.73 | E16: 4.09 | F16: 4.15 | G16: 4 | H16: SD
A17: Biotecnologia | B17: 4 | C17: 4.39 | D17: 3.7 | E17: 4.08 | F17: 4.26 | G17: 4.04 | H17: SD
A18: Ciències Biomèdiques | B18: 4.28 | C18: 3.91 | D18: 4.67 | E18: 4.04 | F18: 4.33 | G18: 4.05 | H18: SD
A19: Genètica | B19: 4.29 | C19: 4.2 | D19: 3.8 | E19: 4.25 | F19: 4.2 | G19: 3.94 | H19: SD
A20: Microbiologia | B20: 4.33 | C20: 4 | D20: 4.4 | E20: 4.29 | F20: 4.08 | G20: 4.38 | H20: SD
A21: Graus Biociències | B21: 4.19 | C21: 4.11 | D21: 4.04 | E21: 4.12 | F21: 4.2 | G21: 4.1 | H21: SD
A22: Graus UAB | B22: 3.97 | C22: 3.89 | D22: 3.86 | E22: 4.05 | F22: 4.06 | G22: 3.82 | H22: SD

Sheet PS03_Ind04. Inversió realitza
B1: Torna a l'índex
B3: #VALUE! | E3: Fitxa de seguiment de l'indicador
B5: 1. Codi del l'indicador | D5: =Índex!A74 -> PS03_Ind04. | F5: 2. Nom de l'indicador | H5: =Índex!B74 -> Inversió realitzada en l’adquisició i la renovació d’equipament de laboratoris i altres espais docents especialitzats
B6: 3. Objectiu | D6: =Índex!E74 -> ≥ 40.000 | F6: 4. Freqüència de la medició | H6: Anual
B7: 5. Propietat | D7: =Índex!C74 -> Vicedeganat d'Economia, d'Infraestructures i de Formació Permanent | F7: 6. Responsabilitat | H7: =Índex!D74 -> Administració de Centre
B8: 7. Processos als que afecta | D8: =Índex!G74 -> PS03. Gestió de Recursos econòmics i materials | F8: 8. Font obtenció de dades | H8: Dades obtingudes de l'arxiu de l'administració de centre amb data 22/10/2025
A12: Inversió realitzada en l’adquisició i la renovació d’equipament de laboratoris i altres espais docents especialitzats
A13: 2020 | B13: 2021 | C13: 2022 | D13: 2023 | E13: 2024 | F13: 2025
A14: 46543 | B14: 4380 | C14: 39304 | D14: 124405 | E14: 71290 | F14: 68943.75

Sheet PS03_Ind05. Inversió destinad
B1: Torna a l'índex
B3: #VALUE! | E3: Fitxa de seguiment de l'indicador
B5: 1. Codi del l'indicador | D5: =Índex!A75 -> PS03_Ind05. | F5: 2. Nom de l'indicador | H5: =Índex!B75 -> Inversió destinada a millorar la prevenció de riscos als laboratoris docents
B6: 3. Objectiu | D6: =Índex!E75 -> ≥ 7.000 | F6: 4. Freqüència de la medició | H6: Anual
B7: 5. Propietat | D7: =Índex!C75 -> Vicedeganat d'Economia, d'Infraestructures i de Formació Permanent | F7: 6. Responsabilitat | H7: =Índex!D75 -> Administració de Centre
B8: 7. Processos als que afecta | D8: =Índex!G75 -> PS03. Gestió de Recursos econòmics i materials | F8: 8. Font obtenció de dades | H8: Dades obtingudes de l'arxiu de l'administració de centre amb data 22/10/2025
A12: Inversió destinada a millorar la prevenció de riscos als laboratoris docents
A13: 2019 | B13: 2020 | C13: 2021 | D13: 2022 | E13: 2023 | F13: 2024 | G13: 2025
A14: 12683 | B14: 7579 | C14: 15515 | D14: 7498 | E14: 15785 | F14: 16662 | G14: 9404.31

Sheet PS04_Ind01. Valoració mitjana
B1: Torna a l'índex
B3: #VALUE! | E3: Fitxa de seguiment de l'indicador
B5: 1. Codi del l'indicador | D5: =Índex!A76 -> PS04_Ind01. | F5: 2. Nom de l'indicador | H5: =Índex!B76 -> Valoració mitjana de la pregunta “Els serveis de suport a l’estudiant (informació, matriculació, tràmits acadèmics, beques, orientació, etc.) m’han ofert un bon assessorament i atenció”
B6: 3. Objectiu | D6: =Índex!E76 -> ≥ mitjana de la UAB | F6: 4. Freqüència de la medició | H6: Anual
B7: 5. Propietat | D7: =Índex!C76 -> Vicedeganat d’Estudis i Programació | F7: 6. Responsabilitat | H7: =Índex!D76 -> Responsable Gestió acadèmica
B8: 7. Processos als que afecta | D8: =Índex!G76 -> PS04. Organització acadèmica | F8: 8. Font obtenció de dades | H8: Dades extretes de les enquestes del grau de satisfacció de les persones titulades amb data 02/10/2025: https://www.uab.cat/web/estudis/qualitat-docent/persones-graduades-1345665543247.html
A12: Valoració mitjana a l’afirmació “Els serveis de suport a l’estudiant (informació, matriculació, tràmits acadèmics, beques, orientació, etc.) m’han ofert un bon assessorament i atenció”
A13: Grau | B13: 2018/2019 | C13: 2019/2020 | D13: 2021/2022 | E13: 2022/2023 | F13: 2023/2024 | G13: 2024/2025
A14: Biologia | B14: 3.8 | C14: 3.67 | D14: 3.75 | E14: 3.56 | F14: 4 | G14: SD
A15: Biologia Ambiental | B15: 3.67 | C15: 3.73 | D15: 3.11 | E15: 3.4 | F15: 3.35 | G15: SD
A16: Bioquímica | B16: 3.18 | C16: SD | D16: 3.5 | E16: 3.62 | F16: 3.69 | G16: SD
A17: Biotecnologia | B17: 3.83 | C17: 3.4 | D17: 3.44 | E17: 3.7 | F17: 3.46 | G17: SD
A18: Ciències Biomèdiques | B18: 3.64 | C18: 4.33 | D18: 3.63 | E18: 4.21 | F18: 3.6 | G18: SD
A19: Genètica | B19: 3.6 | C19: 3.5 | D19: 3.71 | E19: 3.73 | F19: 3.47 | G19: SD
A20: Microbiologia | B20: 3.27 | C20: 3 | D20: 3.62 | E20: 3.63 | F20: 3.69 | G20: SD
A21: Graus Biociències | B21: 3.6 | C21: 3.64 | D21: 3.52 | E21: 3.7 | F21: 3.57 | G21: SD
A22: Graus UAB | B22: 3.38 | C22: 3.3 | D22: 3.48 | E22: 3.44 | F22: 3.38 | G22: SD

Sheet PS05_Ind01. Temps mitjà de re
B1: Torna a l'índex
B3: #VALUE! | E3: Fitxa de seguiment de l'indicador
B5: 1. Codi del l'indicador | D5: =Índex!A77 -> PS05_Ind01. | F5: 2. Nom de l'indicador | H5: =Índex!B77 -> Temps mitjà de resposta (15 dies hàbils)
B6: 3. Objectiu | D6: =Índex!E77 -> <15 dies | F6: 4. Freqüència de la medició | H6: Anual
B7: 5. Propietat | D7: =Índex!C77 -> Degà/ana | F7: 6. Responsabilitat | H7: =Índex!D77 -> Administració de Centre
B8: 7. Processos als que afecta | D8: =Índex!G77 -> PS05. Gestió de queixes, suggeriments i felicitacions | F8: 8. Font obtenció de dades | H8: Dades extretes de la plataforma opina amb data 21/10/2025
A12: Temps mitjà de resposta a queixes i suggeriments del servei OPINA
A13: 2018/2019 | B13: 2019/2020 | C13: 2020/2021 | D13: 2021/2022 | E13: 2022/2023 | F13: 2023/2024 | G13: 2024/2025
A14: 10.2 | B14: 10.44 | C14: 7.03 | D14: 12.5 | E14: 3.8 | F14: 7.9 | G14: 6.11
G16: càlculs opina

Sheet PS05_Ind02. Taxa d’eficàcia  
B1: Torna a l'índex
B3: #VALUE! | E3: Fitxa de seguiment de l'indicador
B5: 1. Codi del l'indicador | D5: =Índex!A78 -> PS05_Ind02. | F5: 2. Nom de l'indicador | H5: =Índex!B78 -> Taxa d’eficàcia: percentatge de suggeriments i queixes respostes dins del termini establert (15 dies hàbils)
B6: 3. Objectiu | D6: =Índex!E78 -> 1 | F6: 4. Freqüència de la medició | H6: Anual
B7: 5. Propietat | D7: =Índex!C78 -> Degà/ana | F7: 6. Responsabilitat | H7: =Índex!D78 -> OQD
B8: 7. Processos als que afecta | D8: =Índex!G78 -> PS05. Gestió de queixes, suggeriments i felicitacions | F8: 8. Font obtenció de dades
A12: Taxa d’eficàcia: percentatge de suggeriments i queixes respostes dins del termini establert (15 dies hàbils)
A13: 2018/2019 | B13: 2019/2020 | C13: 2020/2021 | D13: 2021/2022 | E13: 2022/2023 | F13: 2023/2024 | G13: 2024/2025
A14: 0.917 | B14: 0.87 | C14: 0.983 | D14: 1 | E14: 1 | F14: 1

Sheet PS05_Ind03. Valoració mitjana
B1: Torna a l'índex
B3: #VALUE! | E3: Fitxa de seguiment de l'indicador
B5: 1. Codi del l'indicador | D5: =Índex!A79 -> PS05_Ind03. | F5: 2. Nom de l'indicador | H5: =Índex!B79 -> Valoració mitjana a la pregunta “He rebut resposta adequada a les meves queixes i suggeriments”
B6: 3. Objectiu | D6: =Índex!E79 -> ≥3 | F6: 4. Freqüència de la medició | H6: Anual
B7: 5. Propietat | D7: =Índex!C79 -> Degà/ana | F7: 6. Responsabilitat | H7: =Índex!D79 -> OQD
B8: 7. Processos als que afecta | D8: =Índex!G79 -> PS05. Gestió de queixes, suggeriments i felicitacions | F8: 8. Font obtenció de dades | H8: Dades extretes de les enquestes del grau de satisfacció de les persones titulades amb data 02/10/2025: https://www.uab.cat/web/estudis/qualitat-docent/persones-graduades-1345665543247.html
A12: Valoració mitjana a l’afirmació “He rebut resposta adequada a les meves queixes i suggeriments”
A13: Grau | B13: 2017/18 | C13: 2018/19 | D13: 2019/20 | E13: 2021/22 | F13: 2022/23 | G13: 2023/24 | H13: 2024/25
A14: Biologia | B14: 3.3 | C14: 3.27 | D14: 3.17 | E14: 3.06 | F14: 3.27 | G14: 4.5 | H14: SD
A15: Biologia Ambiental | B15: 3.67 | C15: 3.43 | D15: 3.22 | E15: 3.26 | F15: 3.31 | G15: 3.33 | H15: SD
A16: Bioquímica | B16: 2.36 | C16: 3 | D16: NA | E16: 3.12 | F16: 3.22 | G16: 2.92 | H16: SD
A17: Biotecnologia | B17: 3.23 | C17: 3.22 | D17: 3.2 | E17: 3.26 | F17: 3.61 | G17: 3.41 | H17: SD
A18: Ciències Biomèdiques | B18: 2.68 | C18: 2.73 | D18: 3.83 | E18: 2.71 | F18: 3.4 | G18: 3.11 | H18: SD
A19: Genètica | B19: 3.14 | C19: 2.7 | D19: 3.2 | E19: 3.23 | F19: 3.57 | G19: 2.93 | H19: SD
A20: Microbiologia | B20: 2.89 | C20: 2.73 | D20: 2.2 | E20: 3.55 | F20: 3.24 | G20: 3.18 | H20: SD
A21: Graus Biociències | B21: 2.94 | C21: 3.02 | D21: 3.19 | E21: 3.17 | F21: 3.39 | G21: 3.23 | H21: SD
A22: Graus UAB | B22: 3.08 | C22: 3 | D22: 3.01 | E22: 3.18 | F22: 3.18 | G22: 3.09 | H22: SD

Sheet PS06_Ind01. Índex de particip
B1: Torna a l'índex
B3: #VALUE! | E3: Fitxa de seguiment de l'indicador
B5: 1. Codi del l'indicador | D5: =Índex!A80 -> PS06_Ind01. | F5: 2. Nom de l'indicador | H5: =Índex!B80 -> Índex de participació en les enquestes d'assignatures
B6: 3. Objectiu | D6: =Índex!E80 -> > Mitjana de la UAB | F6: 4. Freqüència de la medició | H6: Anual
B7: 5. Propietat | D7: =Índex!C80 -> Vicedegenat de Qualitat i Pla Estratègic | F7: 6. Responsabilitat | H7: =Índex!D80 -> Gestió de qualitat
B8: 7. Processos als que afecta | D8: =Índex!G80 -> PS06. Satisfacció dels grups d'interès | F8: 8. Font obtenció de dades | H8: Dades extretes de les enquestes d'avaluació de les assignatures de grau i de màster amb data 02/10/2025: https://www.uab.cat/web/estudiar/qualitat-docent/avaluacio-de-les-assignatures/moduls-de-grau-i-master-universitari-1345665543141.html
A12: Índex de participació en les enquestes d'assignatures de grau
A13: Semestre | B13: Grau | C13: 2019/2020 | D13: 2020/2021 | E13: 2021/2022 | F13: 2022/2023 | G13: 2023/2024 | H13: 2024/2025
A14: Primer Semestre | B14: Biologia | C14: 0.301 | D14: 0.4166 | E14: 0.2273 | F14: 0.2957 | G14: 0.2781 | H14: 0.3695
B15: Biologia Ambiental | C15: 0.2505 | D15: 0.2136 | E15: 0.0716 | F15: 0.2434 | G15: 0.167 | H15: 0.2129
B16: Bioquímica | C16: 0.3174 | D16: 0.3245 | E16: 0.25 | F16: 0.3112 | G16: 0.4154 | H16: 0.4209
B17: Biotecnologia | C17: 0.3391 | D17: 0.3068 | E17: 0.1026 | F17: 0.247 | G17: 0.2381 | H17: 0.2851
B18: Ciències Biomèdiques | C18: 0.4383 | D18: 0.2547 | E18: 0.2057 | F18: 0.4511 | G18: 0.3959 | H18: 0.3884
B19: Genètica | C19: 0.3897 | D19: 0.3246 | E19: 0.2626 | F19: 0.3922 | G19: 0.3709 | H19: 0.3657
B20: Microbiologia | C20: 0.2402 | D20: 0.3146 | E20: 0.1992 | F20: 0.404 | G20: 0.2823 | H20: 0.3053
B21: Graus Biociències | C21: 0.3198 | D21: 0.3153 | E21: 0.1868 | F21: 0.3255 | G21: 0.302 | H21: 0.3342
B22: Graus UAB | C22: 0.2591 | D22: 0.276 | E22: 0.2174 | F22: 0.3018 | G22: 0.3055 | H22: 0.355
A23: Segon Semestre | B23: Biologia | C23: SD | D23: 0.2161 | E23: 0.2007 | F23: 0.2023 | G23: 0.2901 | H23: 0.2729
B24: Biologia Ambiental | C24: SD | D24: 0.0876 | E24: 0.099 | F24: 0.1163 | G24: 0.1792 | H24: 0.1812
B25: Bioquímica | C25: SD | D25: 0.2738 | E25: 0.1901 | F25: 0.2262 | G25: 0.4174 | H25: 0.3468
B26: Biotecnologia | C26: SD | D26: 0.1575 | E26: 0.1306 | F26: 0.0816 | G26: 0.1582 | H26: 0.1988
B27: Ciències Biomèdiques | C27: SD | D27: 0.2089 | E27: 0.2152 | F27: 0.2063 | G27: 0.2877 | H27: 0.3048
B28: Genètica | C28: SD | D28: 0.1044 | E28: 0.1584 | F28: 0.2227 | G28: 0.2568 | H28: 0.3556
B29: Microbiologia | C29: SD | D29: 0.1608 | E29: 0.2534 | F29: 0.3811 | G29: 0.2592 | H29: 0.3426
B30: Graus Biociències | C30: SD | D30: 0.1744 | E30: 0.1764 | F30: 0.1992 | G30: 0.2601 | H30: 0.2815
B31: Graus UAB | C31: SD | D31: 0.2329 | E31: 0.2221 | F31: 0.2428 | G31: 0.2511 | H31: 0.2888
A34: Índex de participació en les enquestes d'assignatures/mòduls de màster
A35: Semestre | B35: Màster | C35: 2019/2020 | D35: 2020/2021 | E35: 2021/2022 | F35: 2022/2023 | G35: 2023/2024 | H35: 2024/2025
A36: Primer Semestre | B36: Bioinformàtica | C36: 0.2083 | D36: 0.3333 | E36: 0.0889 | F36: 0.0339 | G36: 0.0682 | H36: 0.0222
B37: Biologia, Genòmica i Biotecnologia Vegetals | C37: 0.2609 | D37: 0.0568 | E37: 0.0818 | F37: 0.1724 | G37: 0.0603 | H37: 0.1613
B38: Bioquímica, Biologia Molecular i Biomedicina | C38: 0.4324 | D38: 0.3256 | E38: 0.1111 | F38: 0.175 | G38: 0.1282 | H38: 0.0714
B39: Biotecnologia Avançada | C39: 0.0476 | D39: 0.2 | E39: 0.1389 | F39: 0.0909 | G39: 27.74 | H39: 0.0652
B40: Citogenètica i Biologia de la Reproducció | C40: 0.75 | D40: 0.5405 | E40: 0.0748 | F40: 0.34 | G40: 0.1316 | H40: 0.0833
B41: Ecologia Terrestre i Gestió de la Biodiversitat | C41: SD | D41: 0.097 | E41: 0.029 | F41: 0.0902 | G41: SD | H41: 0
B42: Erasmus Mundus en Educació Internacional en Vacunes | C42: SD | D42: 0 | E42: 0 | F42: 0 | G42: SD | H42: 0
B43: Erasmus Mundus en Sanitat Aqüícola | C43: SD | D43: SD | E43: SD | F43: 0 | G43: 0.1667 | H43: 0
B44: Genètica Avançada | C44: 0.0781 | D44: 0.1391 | E44: 0.3106 | F44: 0 | G44: SD | H44: 0.0606
B45: Microbiologia Aplicada | C45: 0.12 | D45: 0.08 | E45: 0.0714 | F45: 0 | G45: 0.0612 | H45: 0.0267
B46: Neurociències | C46: 0.3871 | D46: 0.1532 | E46: 0.0435 | F46: 0.2542 | G46: 0.1944 | H46: 0.2984
B47: Màster universitari Biociències | C47: 0.3605 | D47: 0.1745 | E47: 0.089 | F47: 0.1174 | G47: 0.0793 | H47: 0.082
B48: Màster universitari UAB | C48: 0.3001 | D48: 0.2065 | E48: 0.232 | F48: 0.3217 | G48: 0.3008 | H48: 0.3009
A49: Segon Semestre | B49: Bioinformàtica | C49: SD | D49: SD | E49: 0 | F49: 0 | G49: SD | H49: SD
B50: Biologia, Genòmica i Biotecnologia Vegetals | C50: SD | D50: SD | E50: 0 | F50: 0 | G50: 0.0833 | H50: 0
B51: Bioquímica, Biologia Molecular i Biomedicina | C51: SD | D51: SD | E51: 0.0654 | F51: 0.2358 | G51: 0.2177 | H51: 0.4845
B52: Biotecnologia Avançada | C52: SD | D52: SD | E52: 0.0513 | F52: 0 | G52: SD | H52: 0.0435
B53: Citogenètica i Biologia de la Reproducció | C53: SD | D53: SD | E53: 0 | F53: 0 | G53: SD | H53: 0.0952
B54: Ecologia Terrestre i Gestió de la Biodiversitat | C54: SD | D54: SD | E54: 0 | F54: 0 | G54: SD | H54: SD
B55: Erasmus Mundus en Educació Internacional en Vacunes | C55: SD | D55: SD | E55: SD | F55: SD | G55: SD | H55: 0
B56: Erasmus Mundus en Sanitat Aqüícola | C56: SD | D56: SD | E56: SD | F56: 0 | G56: SD | H56: 0
B57: Genètica Avançada | C57: SD | D57: SD | E57: 0 | F57: 0 | G57: SD | H57: SD
B58: Microbiologia Aplicada | C58: SD | D58: SD | E58: 0.1429 | F58: 0 | G58: SD | H58: 0.72
B59: Neurociències | C59: SD | D59: SD | E59: 0.0115 | F59: 0.0132 | G59: SD | H59: 0.058
B60: Màster universitari Biociències | C60: SD | D60: SD | E60: 0.0421 | F60: 0.0784 | G60: 0.0939 | H60: 0.2869
B61: Màster universitari UAB | C61: SD | D61: SD | E61: 0.1667 | F61: 0.1794 | G61: 0.2308 | H61: 0.2527

Sheet PS06_Ind02. Índex de particip
B1: Torna a l'índex
B3: #VALUE! | E3: Fitxa de seguiment de l'indicador
B5: 1. Codi del l'indicador | D5: =Índex!A81 -> PS06_Ind02. | F5: 2. Nom de l'indicador | H5: =Índex!B81 -> Índex de participació en les enquestes de persones recent titulades
B6: 3. Objectiu | D6: =Índex!E81 -> > Mitjana de la UAB | F6: 4. Freqüència de la medició | H6: Anual
B7: 5. Propietat | D7: =Índex!C81 -> Vicedegenat de Qualitat i Pla Estratègic | F7: 6. Responsabilitat | H7: =Índex!D81 -> Gestió de qualitat
B8: 7. Processos als que afecta | D8: =Índex!G81 -> PS06. Satisfacció dels grups d'interès | F8: 8. Font obtenció de dades | H8: Dades extretes de les enquestes del grau de satisfacció de les persones titulades amb data 02/10/2025: https://www.uab.cat/web/estudis/qualitat-docent/persones-graduades-1345665543247.html
A12: Índex de participació (%) en les enquestes de persones recent titulades - grau
A13: Graus | B13: 2017/2018 | C13: 2018/2019 | D13: 2019/2020 | E13: 2021/2022 | F13: 2022/2023 | G13: 2023/2024 | H13: 2024/2025
A14: Biologia | B14: 0.1746 | C14: 0.1724 | D14: 0.2143 | E14: 0.2532 | F14: 0.3 | G14: 0.1486 | H14: SD
A15: Biologia Ambiental | B15: 0.1698 | C15: 0.1014 | D15: 0.5593 | E15: 0.4154 | F15: 0.2941 | G15: 0.3269 | H15: SD
A16: Bioquímica | B16: 0.2414 | C16: 0.2037 | D16: 0 | E16: 0.3492 | F16: 0.26 | G16: 0.3137 | H16: SD
A17: Biotecnologia | B17: 0.1857 | C17: 0.24 | D17: 0.1493 | E17: 0.3733 | F17: 0.371 | G17: 0.3077 | H17: SD
A18: Ciències Biomèdiques | B18: 0.5 | C18: 0.2683 | D18: 0.1333 | E18: 0.4286 | F18: 0.4167 | G18: 0.3774 | H18: SD
A19: Genètica | B19: 0.1429 | C19: 0.1923 | D19: 0.2 | E19: 0.4364 | F19: 0.3 | G19: 0.36 | H19: SD
A20: Microbiologia | B20: 0.1731 | C20: 0.2115 | D20: 0.0877 | E20: 0.4773 | F20: 0.3788 | G20: 0.2031 | H20: SD
A21: Graus Biociències | B21: 0.2228 | C21: 0.193 | D21: 0.1929 | E21: 0.3799 | F21: 0.3333 | G21: 0.282 | H21: SD
A22: Graus UAB | B22: 0.1887 | C22: 0.1786 | D22: 0.1781 | E22: 0.2913 | F22: 0.2637 | G22: 0.1698 | H22: SD
A25: Índex de participació (%) en les enquestes de persones recent titulades - màster
A26: Màsters | B26: 2017/2018 | C26: 2018/2019 | D26: 2019/2020 | E26: 2021/2022 | F26: 2022/2023 | G26: 2023/2024
A27: Bioinformàtica | B27: 0.0345 | C27: 0.3571 | D27: 0.3103 | E27: 0.4333 | F27: 0.3333 | G27: SD
A28: Biologia, Genòmica i Biotecnologia Vegetals | B28: 0.0909 | C28: 0.0526 | D28: 0.1 | E28: 0.3462 | F28: 0.3158 | G28: SD
A29: Bioquímica, Biologia Molecular i Biomedicina | B29: 0.1429 | C29: 0.1351 | D29: 0.1081 | E29: 0.3659 | F29: 0.2857 | G29: SD
A30: Biotecnologia Avançada | B30: 0.16 | C30: 0.0952 | D30: 0 | E30: 0.5263 | F30: 0.2963 | G30: SD
A31: Citogenètica i Biologia de la Reproducció | B31: 0.0417 | C31: 0.0435 | D31: 0.0909 | E31: 0.4348 | F31: 0.32 | G31: SD
A32: Ecologia Terrestre i Gestió de la Biodiversitat | B32: 0.0313 | C32: 0.1481 | D32: 0.1 | E32: 0.381 | F32: 0.36 | G32: SD
A33: Genètica Avançada | B33: 0.0435 | C33: SD | D33: 0.1053 | E33: 0.5217 | F33: 0.28 | G33: SD
A34: Màster Universitari Erasmus Mundus en Educació Internacional en Vacunes | B34: SD | C34: SD | D34: SD | E34: SD | F34: 0.0455 | G34: SD
A35: Microbiologia Aplicada | B35: 0.1579 | C35: 0.2 | D35: 0.1071 | E35: 0.2895 | F35: 0.2917 | G35: SD
A36: Neurociències | B36: 0.0286 | C36: 0.1081 | D36: 0.122 | E36: 0.1935 | F36: 0.3 | G36: SD
A37: Màster Biociències | B37: 0.0779 | C37: 0.1317 | D37: 0.1224 | E37: 0.373 | F37: 0.2857 | G37: SD
A38: Màster UAB | B38: 0.0782 | C38: 0.1479 | D38: 0.1229 | E38: 0.3143 | F38: 0.2393 | G38: SD

Sheet PS07_Ind1. Nombre d’activitat
B1: Torna a l'índex
B3: #VALUE! | E3: Fitxa de seguiment de l'indicador
B5: 1. Codi del l'indicador | D5: =Índex!A82 -> PS07_Ind01. | F5: 2. Nom de l'indicador | H5: =Índex!B82 -> Nombre d’activitats d'inserció laboral
B6: 3. Objectiu | D6: =Índex!E82 -> Mínim 7 per curs acadèmic | F6: 4. Freqüència de la medició | H6: Anual
B7: 5. Propietat | D7: =Índex!C82 -> Vicedeganat d'Alumnat, Ocupabilitat i Comunicació | F7: 6. Responsabilitat | H7: =Índex!D82 -> Secretari o secretària del Deganat
B8: 7. Processos als que afecta | D8: =Índex!G82 -> PS07. Inserció laboral dels titulats | F8: 8. Font obtenció de dades
A12: Nombre d’activitats d'inserció laboral
A13: Grau | B13: 2022/2023 | C13: 2023/2024 | D13: 2024/2025
A14: Adreçat a tots els graus | B14: 8 | C14: 4
A15: Grau Biologia | B15: 1 | C15: 1
A16: Grau Biologia Ambiental | B16: 1 | C16: 1
A17: Grau Genètica | B17: 1 | C17: 0
A18: Grau Bioquímica | B18: 1 | C18: 1
A19: Grau Ciències Biomèdiques | B19: 0 | C19: 1
A20: Total | B20: =SUM(B14:B19) -> 12 | C20: =SUM(C14:C19) -> 8 | D20: =SUM(D14:D19) -> 0

Sheet PS07_Ind2. Nombre de titulats
B1: Torna a l'índex
B3: #VALUE! | E3: Fitxa de seguiment de l'indicador
B5: 1. Codi del l'indicador | D5: =Índex!A83 -> PS07_Ind02. | F5: 2. Nom de l'indicador | H5: =Índex!B83 -> Nombre de titulats que integren el grup #Bio-alumni_UAB dins la xarxa LinkedIn
B6: 3. Objectiu | D6: =Índex!E83 -> Mínim 600 | F6: 4. Freqüència de la medició | H6: Anual
B7: 5. Propietat | D7: =Índex!C83 -> Vicedeganat d'Alumnat, Ocupabilitat i Comunicació | F7: 6. Responsabilitat | H7: =Índex!D83 -> Secretari o secretària del Deganat
B8: 7. Processos als que afecta | D8: =Índex!G83 -> PS07. Inserció laboral dels titulats | F8: 8. Font obtenció de dades
A12: Nombre de titulats que integren el grup #Bio-alumni_UAB dins la xarxa LinkedIn
A13: 2022/2023 | B13: 2023/2024 | C13: 2024/2025
A14: 642 | B14: 656

Sheet PS08_Ind01. La informació ref
B1: Torna a l'índex
B3: #VALUE! | E3: Fitxa de seguiment de l'indicador
B5: 1. Codi del l'indicador | D5: =Índex!A84 -> PS08_Ind01. | F5: 2. Nom de l'indicador | H5: =Índex!B84 -> La informació referent a la titulació al web és accessible i m’ha resultat útil (Enquestes UAB sobre el grau de satisfacció dels titulats)
B6: 3. Objectiu | D6: =Índex!E84 -> ≥ a la mitjana de la UAB | F6: 4. Freqüència de la medició | H6: Anual
B7: 5. Propietat | D7: =Índex!C84 -> Degà/ana | F7: 6. Responsabilitat | H7: =Índex!D84 -> Gestió de qualitat
B8: 7. Processos als que afecta | D8: =Índex!G84 -> PS08. Informació pública i rendició de comptes | F8: 8. Font obtenció de dades | H8: Dades extretes de les enquestes del grau de satisfacció de les persones titulades amb data 02/10/2025: https://www.uab.cat/web/estudis/qualitat-docent/persones-graduades-1345665543247.html
A12: Valoració mitjana a l’afirmació "La informació referent a la titulació al web és accessible i m’ha resultat útil (enquesta egressats)"
A13: Grau | B13: 2017/2018 | C13: 2018/2019 | D13: 2019/2020 | E13: 2021/2022 | F13: 2022/2023 | G13: 2023/2024 | H13: 2024/2025
A14: Biologia | B14: 4.18 | C14: 3.8 | D14: 3.83 | E14: 4.15 | F14: 4.11 | G14: 4.64 | H14: SD
A15: Biologia Ambiental | B15: 4.44 | C15: 4 | D15: 4.03 | E15: 4.19 | F15: 4 | G15: 3.88 | H15: SD
A16: Bioquímica | B16: 3.43 | C16: 3.55 | D16: SD | E16: 4.33 | F16: 4.17 | G16: 4.4 | H16: SD
A17: Biotecnologia | B17: 3.92 | C17: 4.11 | D17: 3.7 | E17: 4.22 | F17: 4.13 | G17: 4.29 | H17: SD
A18: Ciències Biomèdiques | B18: 4 | C18: 4 | D18: 4 | E18: 3.58 | F18: 4.21 | G18: 4.16 | H18: SD
A19: Genètica | B19: 4 | C19: 4.4 | D19: 4 | E19: 4.38 | F19: 4.27 | G19: 3.78 | H19: SD
A20: Microbiologia | B20: 3.89 | C20: 4.18 | D20: 4.4 | E20: 4.33 | F20: 4.12 | G20: 4.54 | H20: SD
A21: Graus Biociències | B21: 3.95 | C21: 4 | D21: 3.97 | E21: 4.16 | F21: 4.14 | G21: 4.21 | H21: SD
A22: Graus UAB | B22: 3.73 | C22: 3.73 | D22: 3.62 | E22: 3.88 | F22: 3.91 | G22: 3.96 | H22: SD
A25: Valoració mitjana a l’afirmació "La informació referent a la titulació al web és accessible i m’ha resultat útil (enquesta egressats)"
A26: Màster | B26: 2017/2018 | C26: 2018/2019 | D26: 2019/2020 | E26: 2021/2022 | F26: 2022/2023 | G26: 2023/2024 | H26: 2024/2025
A28: Bioinformàtica | B28: 3 | C28: 4.3 | D28: 4.22 | E28: 4.23 | F28: 4.43 | G28: 3.67 | H28: SD
A29: Biologia, Genòmica i Biotecnologia Vegetals | B29: 2 | C29: 4 | D29: 4.5 | E29: 4 | F29: 4.2 | G29: 3.83 | H29: SD
A30: Bioquímica, Biologia Molecular i Biomedicina | B30: 3.6 | C30: 4 | D30: 4 | E30: 3.87 | F30: 4.65 | G30: 4.3 | H30: SD
A31: Biotecnologia Avançada | B31: 4.75 | C31: 4 | D31: SD | E31: 3.4 | F31: 3.88 | G31: 4.13 | H31: SD
A32: Citogenètica i Biologia de la Reproducció | B32: 5 | C32: 4 | D32: 4 | E32: 4.3 | F32: 4.78 | G32: 4.25 | H32: SD
A33: Ecologia Terrestre i Gestió de la Biodiversitat | B33: 4 | C33: 3.75 | D33: 4.33 | E33: 4.25 | F33: 4.5 | G33: 4.56 | H33: SD
A34: Genètica Avançada | B34: 4 | C34: SD | D34: 3.5 | E34: 4.42 | F34: 3.25 | G34: 4.57 | H34: SD
A35: Màster Universitari Erasmus Mundus en Educació Internacional en Vacunes | B35: SD | C35: SD | D35: SD | E35: SD | F35: SD | G35: SD | H35: SD
A36: Microbiologia Aplicada | B36: 3 | C36: 3.4 | D36: 3.33 | E36: 4.27 | F36: 4.75 | G36: 4.29 | H36: SD
A37: Neurociències | B37: 4 | C37: 3.5 | D37: 4.2 | E37: 3.33 | F37: 3.4 | G37: 3.67 | H37: SD
A38: Màster Biociències | B38: 3.68 | C38: 3.91 | D38: 4.07 | E38: 4.04 | F38: 4.25 | G38: 4.15 | H38: SD
A39: Màster UAB | B39: 3.76 | C39: 3.91 | D39: 3.97 | E39: 4.03 | F39: 4.05 | G39: 4.11 | H39: SD

Sheet PS08_Ind02. Accés públic als ac
B1: Torna a l'índex
B3: #VALUE! | E3: Fitxa de seguiment de l'indicador
B5: 1. Codi del l'indicador | D5: =Índex!A85 -> PS08_Ind02. | F5: 2. Nom de l'indicador | H5: =Índex!B85 -> Accés públic als acords de les comissions i grups de treball
B6: 3. Objectiu | D6: =Índex!E85 -> Mínim 1/any Comissió delegada | F6: 4. Freqüència de la medició | H6: Anual
B7: 5. Propietat | D7: =Índex!C85 -> Degà/ana | F7: 6. Responsabilitat | H7: =Índex!D85 -> Secretari o secretària del Deganat
B8: 7. Processos als que afecta | D8: =Índex!G85 -> PS08. Informació pública i rendició de comptes | F8: 8. Font obtenció de dades
A12: Accés públic als acords de les comissions i grups de treball
B13: 2024 | C13: 2025
A14: Reunions/acords disponibles | B14: 152
A15: Percentatge d’assoliment | B15: 1 | C15: =C14/1 -> 0
