Workbook
Name _Hlk37260845: 'PC05_Ind01. Taxa d’abandonament'!$A$31
Name index: #REF!
Name indicadors: #REF!
Name Indivadors2: #REF!

Sheet Índex
A2: #VALUE! | C2: Quadre de comandaments
A5: Codi SGIQ | B5: Nom | C5: Propietat | D5: Responsable | E5: Objectiu | F5: Compliment | G5: Procés vinculat
A6: PE01_Ind01. | B6: Percentatge d’objectius assolits del pla estratègic de la Facultat de Biociències | C6: Degà/ana | D6: Gestió de qualitat | E6: ≥ 75% | G6: PE.01. Definició de la política i objectius de qualitat
A7: PE01_Ind02. | B7: Número de reunions amb els vicerectorats | C7: Degà/ana | D7: Secretari o Secretaria del Deganat | E7: ≥ 3 l’any | G7: PE.01. Definició de la política i objectius de qualitat
A8: PE01_Ind03. | B8: Número de reunions de la comissió de igualtat | C8: Degà/ana | D8: Secretari o Secretaria del Deganat | E8: ≥ 1 l’any | G8: PE.01. Definició de la política i objectius de qualitat
A9: PE01_Ind04. | B9: Número de reunions de la comissió de sostenibilitat | C9: Degà/ana | D9: Secretari o Secretaria del Deganat | E9: ≥ 1 l’any | G9: PE.01. Definició de la política i objectius de qualitat
A10: PE01_Ind05. | B10: Número d’actes i esdeveniments organitzats per la facultat | C10: Degà/ana | D10: Secretari o Secretaria del Deganat | E10: ≥1 l’any | G10: PE.01. Definició de la política i objectius de qualitat
A11: PE02_Ind01. | B11: Percentatge de propostes de millora implementades per curs acadèmic (no motivades per la CAE) | C11: Vicedeganat de Qualitat i Pla Estratègic | D11: Gestió de qualitat | E11: ≥80% | G11: PE02. Definició, desplegament i seguiment del Sistema de Garantia Intern
A12: PE02_Ind02. | B12: Percentatge de processos actualitzats | C12: Vicedeganat de Qualitat i Pla Estratègic | D12: Gestió de qualitat | E12: 1 | G12: PE02. Definició, desplegament i seguiment del Sistema de Garantia Intern
A13: PE02_Ind03. | B13: Percentatge de propostes de millora indicades per la CAE assolides | C13: Vicedeganat de Qualitat i Pla Estratègic | D13: Gestió de qualitat | E13: Objectiu global: 100% Objectiu anual: experimentar increment respecte l’anterior revisió SGIQ | G13: PE02. Definició, desplegament i seguiment del Sistema de Garantia Intern
A14: PE03_Ind01. | B14: Percentatge de propostes de titulacions implantades respecte a les aprovades pel Centre | C14: Vicedeganat de Qualitat i Pla Estratègic | D14: Gestió de qualitat | E14: 1 | G14: PE03. Creació i disseny de noves titulacions. Mapa de titulacions
A15: PE04_Ind01. | B15: Percentatge Hores d’Impartició Docent a l'Aula (HIDA) de professorat permanent en els graus | C15: Degà/ana | D15: Gestió de qualitat | E15: >65% | G15: PE04. Definició de la política del PDI
A16: PE04_Ind02. | B16: Valoració mitjana a l’afirmació “Estic satisfet/a amb el professorat” (Grau/Màster) | C16: Degà/ana | D16: Gestió de qualitat | E16: > Mitjana de la UAB | G16: PE04. Definició de la política del PDI
A17: PE04_Ind03. | B17: Nou indicador: Número de cursos a mida proposats per la facultat | C17: Degà/ana | D17: Secretari o Secretaria del Deganat | E17: Mínim 1/any | G17: PE04. Definició de la política del PDI
A18: PE05_Ind01. | B18: Percentatge de Taules de Mesures Correctores (TMC) retornades derivades de les avaluacions de riscos laborals respecte del total de rebudes | C18: Degà/ana | D18: Administració de Centre | E18: 1 | G18: PE05. Política i Gestió del PTGAS
A19: PE05_Ind02. | B19: Nombre d’informes d’avaluació retornats respecte del total rebuts | C19: Degà/ana | D19: Administració de Centre | E19: 1 | G19: PE05. Política i Gestió del PTGAS
A20: PE05_Ind03. | B20: Nombre d’informes de vigilància de la Salut retornats respecte dels rebuts | C20: Degà/ana | D20: Administració de Centre | E20: 1 | G20: PE05. Política i Gestió del PTGAS
A21: PE05_Ind04. | B21: Percentatge d’hores de formació realitzades respecte el curs anterior | C21: Degà/ana | D21: Unitat de Formació | E21: 1 | G21: PE05. Política i Gestió del PTGAS
A22: PC01_Ind01. | B22: Ràtio de Sol·licituds de nou accés respecte a la oferta de places als Graus | C22: Vicedeganat d'Estudis i Programació | D22: Responsable Gestió acadèmica | E22: Ràtio de sol·licituds vs places ≥10 | G22: PC01. Definició de perfils d'ingrés, graduació i accés als estudis
A23: PC01_Ind02. | B23: Notes de tall d’entrada de l’alumnat de nou accés als Graus | C23: Vicedeganat d'Estudis i Programació | D23: Responsable Gestió acadèmica | E23: >11 | G23: PC01. Definició de perfils d'ingrés, graduació i accés als estudis
A24: PC01_Ind03 | B24: Sol·licituds de nou accés respecte a la oferta de places (Màsters) | C24: Vicedeganat d'Estudis i Programació | D24: Responsable Gestió acadèmica | E24: Doble de sol·licituds o més respecte al número de places | G24: PC01. Definició de perfils d'ingrés, graduació i accés als estudis
A25: PC01_Ind04. | B25: Valoració mitjana a l’afirmació “La formació rebuda m’ha permès millorar les capacitats per a l’activitat professional” | C25: Vicedeganat d'Estudis i Programació | D25: Gestió de qualitat | E25: ≥Mitjana UAB | G25: PC01. Definició de perfils d'ingrés, graduació i accés als estudis
A26: PC01_Ind05. | B26: Valoració mitjana a les afirmacions “Tornaria a triar la mateixa titulació” i “Tornaria a triar la mateixa Universitat” | C26: Vicedeganat d'Estudis i Programació | D26: Gestió de qualitat | E26: ≥Mitjana UAB | G26: PC01. Definició de perfils d'ingrés, graduació i accés als estudis
A27: PC02_Ind01. | B27: Nombre d’assignatures que imparteixen docència en anglès | C27: Vicedeganat d'Estudis i Programació | D27: Gestió de programació docent | E27: Observar un increment | G27: PC02. Planificació i Programació docent de les assignatures.
A28: PC02_Ind02. | B28: Ràtio programada de les titulacions de grau vs. ràtio teòrica | C28: Vicedeganat d'Estudis i Programació | D28: Gestió de programació docent | E28: Ràtio de 13 | G28: PC02. Planificació i Programació docent de les assignatures.
A29: PC02_Ind03. | B29: Valoració mitjana a l’afirmació “Fins ara s’ha seguit la programació de l’assignatura que s’explica a la guia docent dels Graus”(Enquesta assignatura/mòdul) | C29: Vicedeganat d'Estudis i Programació | D29: Gestió de qualitat | E29: ≥ Mitjana UAB | G29: PC02. Planificació i Programació docent de les assignatures.
A30: PC02_Ind04. | B30: Valoració mitjana a l’afirmació “Fins ara s’ha seguit la programació de l’assignatura que s’explica a la guia docent dels Màsters” (Enquesta assignatura/mòdul) | C30: Vicedeganat d'Estudis i Programació | D30: Gestió de qualitat | E30: ≥ Mitjana UAB | G30: PC02. Planificació i Programació docent de les assignatures.
A31: PC02_Ind05. | B31: Valoració mitjana a la pregunta “Hi ha hagut una bona coordinació en els continguts de les assignatures per evitar solapaments” (Enquesta assignatura/mòdul) | C31: Vicedeganat d'Estudis i Programació | D31: Gestió de qualitat | E31: ≥ Mitjana UAB | G31: PC02. Planificació i Programació docent de les assignatures.
A32: PC03.1_Ind01. | B32: Percentatge d’alumnat graduat que ha realitzat les PAE | C32: Vicedeganat de Mobilitat, Pràctiques i Promoció | D32: Gestió de pràctiques | E32: >90% Valorar l’interès de l’alumnat per fer PAE | G32: PC03.1.Gestió de les Pràctiques Externes
A33: PC03.1_Ind02. | B33: Nombre d’alumnat de Grau matriculat desglossat per lloc de pràctiques (UAB, Extern i Extern estranger) | C33: Vicedeganat de Mobilitat, Pràctiques i Promoció | D33: Gestió de pràctiques | E33: >60% Valorar l’interès de l’alumnat per fer les pràctiques en centres externs | G33: PC03.1.Gestió de les Pràctiques Externes
... A57: PC07_Ind04. | B57: Valoració mitjana a l’enquesta de mòduls màster | C57: Vicedeganat de Qualitat i Pla Estratègic | D57: Gestió de qualitat | E57: ≥ mitjana de la UAB | G57: PC07. Seguiment, avaluació i millora de les titulacions
A58: PC08_Ind01. | B58: Percentatge de propostes de modificació presentades a AQU amb informe favorable definitiu | C58: Vicedeganat d'Estudis i Programació | D58: Gestió de qualitat | E58: 1 | G58: PC08. Modificació i extinció de titulacions
A59: PC08_Ind02. | B59: “Percentatge de modificacions aprovades per l’AQU i implementades que són degudes a l’adaptació del RD822/2021” | C59: Vicedeganat d'Estudis i Programació | D59: Gestió de qualitat | E59: 0.7 | G59: PC08. Modificació i extinció de titulacions
A60: PC08_Ind03. | B60: “Informes definitius de l’AQU amb valoració favorable i amb observacions susceptibles a generar propostes de millora de la titulació” | C60: Vicedeganat d'Estudis i Programació | D60: Gestió de qualitat | E60: 0.3 | G60: PC08. Modificació i extinció de titulacions
A61: PC09_Ind01. | B61: Nombre de titulacions amb estructura d’arxiu uniforme. | C61: Vicedegenat de Qualitat i Pla Estratègic | D61: Gestió de qualitat | E61: >95 % | G61: PC09. Gestió documental
A62: PC09_Ind02. | B62: Numero d’actes centralitzades de les comissions delegades | C62: Vicedegenat de Qualitat i Pla Estratègic | D62: Secretari o Secretaria del Deganat | E62: >95 % | G62: PC09. Gestió documental
A63: PC10_Ind01. | B63: Percentatge de propostes de millora indicades per la CAE assolides | C63: Vicedegenat de Qualitat i Pla Estratègic | D63: Gestió de qualitat | E63: Objectiu global: 100% Objectiu anual: experimentar increment respecte l’anterior revisió SGIQ | G63: PC10. Certificació de la implantació del SGIQ i Acreditació de Centre
A64: PS01_Ind01. | B64: Nombre de professorat de la Facultat que participa en cursos de formació per a personal docent de la UAB | C64: Degà/ana | D64: Secretari o Secretaria del Deganat | E64: Observar un increment | G64: PS01. Formació del PDI, innovació docent i avaluació de l’activitat docent
A65: PS01_Ind02. | B65: Nombre de projectes de millora / innovació docent concedits respecte els demanats | C65: Degà/ana | D65: Unitat de Formació Innovació Docent | E65: Èxit >75% | G65: PS01. Formació del PDI, innovació docent i avaluació de l’activitat docent
A66: PS01_Ind03. | B66: Percentatge de professorat avaluat favorablement en relació al total d’avaluats | C66: Degà/ana | D66: Unitat de Formació Innovació Docent | E66: 1 | G66: PS01. Formació del PDI, innovació docent i avaluació de l’activitat docent
...

Sheet Quadre de comandament
A1: PC08_Ind01. | B1: Percentatge de propostes de modificació presentades a AQU amb informe favorable definitiu | C1: Vicedeganat d'Estudis i Programació | D1: Gestió de qualitat | E1: 1 | G1: PC08. Modificació i extinció de titulacions
A2: PC03.1_Ind04. | B2: Valoració de l'alumnat per part dels tutors externs i tutores externes de pràctiques externes | C2: Vicedeganat de Mobilitat, Pràctiques i Promoció | D2: Gestió de pràctiques | E2: Valoració notable o superior | G2: PC03.1.Gestió de les Pràctiques Externes
A3: PS01_Ind04. | B3: Realització de la Jornada d'Innovació docent de la Facultat | C3: Degà/ana | D3: Secretari o secretària del Deganat | E3: Realització biennal | G3: PS01. Formació del PDI, innovació docent i avaluació de l’activitat docent
A4: PS01_Ind02. | B4: Nombre de projectes de millora / innovació docent concedits respecte els demanats | C4: Degà/ana | D4: Unitat de Formació Innovació Docent | E4: Èxit >75% | G4: PS01. Formació del PDI, innovació docent i avaluació de l’activitat docent
A5: PS01_Ind01. | B5: Nombre de professorat de la Facultat que participa en cursos de formació per a personal docent de la UAB | C5: Degà/ana | D5: Secretari o Secretaria del Deganat | E5: Observar un increment | G5: PS01. Formació del PDI, innovació docent i avaluació de l’activitat docent
A6: PE04_Ind03. | B6: Nou indicador: Número de cursos a mida proposats per la facultat | C6: Degà/ana | D6: Secretari o Secretaria del Deganat | E6: Mínim 1/any | G6: PE04. Definició de la política del PDI
A7: PE04_Ind01. | B7: Percentatge Hores d’Impartició Docent a l'Aula (HIDA) de professorat permanent en els graus | C7: Degà/ana | D7: Gestió de qualitat | E7: >65% | G7: PE04. Definició de la política del PDI
A8: PE04_Ind02. | B8: Valoració mitjana a l’afirmació “Estic satisfet/a amb el professorat” (Grau/Màster) | C8: Degà/ana | D8: Gestió de qualitat | E8: > Mitjana de la UAB | G8: PE04. Definició de la política del PDI
A9: PS06_Ind01. | B9: Índex de participació en les enquestes d'assignatures | C9: Vicedegenat de Qualitat i Pla Estratègic | D9: Gestió de qualitat | E9: > Mitjana de la UAB | G9: PS06. Satisfacció dels grups d'interès
A10: PE02_Ind01. | B10: Percentatge de propostes de millora implementades per curs acadèmic (no motivades per la CAE) | C10: Vicedeganat de Qualitat i Pla Estratègic | D10: Gestió de qualitat | E10: ≥80% | G10: PE02. Definició, desplegament i seguiment del Sistema de Garantia Intern
A11: Pc04_Ind05. | B11: Número d’activitats anuals per enfortir les relacions amb l’Ensenyament Secundari | C11: Vicedeganat d'Alumnat, Ocupabilitat i Comunicació | D11: Secretari o Secretaria del Deganat | E11: Almenys 1 de cada tipologia | G11: PC04. Orientació a l'estudiant
A12: PC03.1_Ind01. | B12: Percentatge d’alumnat graduat que ha realitzat les PAE | C12: Vicedeganat de Mobilitat, Pràctiques i Promoció | D12: Gestió de pràctiques | E12: >90% Valorar l’interès de l’alumnat per fer PAE | G12: PC03.1.Gestió de les Pràctiques Externes
A13: PC04_Ind03. | B13: Número d'accions d'acompanyament, a necessitats especifiques, realitzades | C13: Vicedeganat d'Alumnat, Ocupabilitat i Comunicació | D13: Secretari o Secretaria del Deganat | E13: Mínim 3 | G13: PC04. Orientació a l'estudiant
... A22: PS08_Ind02. | B22: Accés públic als acords de les comissions i grups de treball | C22: Degà/ana | D22: Secretari o secretària del Deganat | E22: Mínim 1/any Comissió delegada | G22: PS08. Informació pública i rendició de comptes
A23: PE02_Ind02. | B23: Percentatge de processos actualitzats | C23: Vicedeganat de Qualitat i Pla Estratègic | D23: Gestió de qualitat | E23: 1 | G23: PE02. Definició, desplegament i seguiment del Sistema de Garantia Intern
A24: PC02_Ind01. | B24: Nombre d’assignatures que imparteixen docència en anglès | C24: Vicedeganat d'Estudis i Programació | D24: Gestió de programació docent | E24: Observar un increment | G24: PC02. Planificació i Programació docent de les assignatures.
A25: PC06_Ind01. | B25: Nombre d’alumnat participant en un programa de mobilitat en un curs acadèmic (estudiants OUT i IN) | C25: Vicedeganat de Mobilitat, Pràctiques i Promoció | D25: Gestió d'intercanvis | E25: Mantenir o augmentar el nombre d’alumnat IN i OUT en el nostre programa de mobilitat | G25: PC06. Gestió de la mobilitat de l’alumnat, PTGAS i PDI
A26: PC06_Ind03. | B26: Valoració mitjana a l’afirmació “Les accions de mobilitat que he realitzat han estat rellevants per al meu aprenentatge” (persones recent titulades) | C26: Vicedeganat de Mobilitat, Pràctiques i Promoció | D26: Gestió de qualitat | E26: > a 3,75 i superior a la mitjana de la UAB | G26: PC06. Gestió de la mobilitat de l’alumnat, PTGAS i PDI

Sheet PE01_Ind01. Percentatge d’obj
B1: Torna a l'índex
B3: #VALUE! | E3: Fitxa de seguiment de l'indicador
B5: 1. Codi del l'indicador | D5: =Índex!A6 -> PE01_Ind01. | F5: 2. Nom de l'indicador | H5: =Índex!B6 -> Percentatge d’objectius assolits del pla estratègic de la Facultat de Biociències
B6: 3. Objectiu | D6: =Índex!E6 -> ≥ 75% | F6: 4. Freqüència de la medició | H6: Anual
B7: 5. Propietat | D7: =Índex!C6 -> Degà/ana | F7: 6. Responsabilitat | H7: =Índex!D6 -> Gestió de qualitat
B8: 7. Processos als que afecta | D8: =Índex!G6 -> PE.01. Definició de la política i objectius de qualitat | F8: 8. Font obtenció de dades
B12: Percentatge d’objectius assolits del pla estratègic de la Facultat de Biociències
B13: 2019/2020 | C13: 2020/2021 | D13: 2021/2022 | E13: 2022/2023 | F13: 2023/2024 | G13: 2024/2025 | I13: CURS | J13: Percentatge d'objectius assolits del pla estratègic
B14: 0.7741 | C14: 0.8333 | D14: 0.8333 | E14: 0.8519 | F14: 0.8333 | I14: 2019/2020 | J14: 77.41
I15: 2020/2021 | J15: 83.33
I16: 2021/2022 | J16: 83.33
I17: 2022/2023 | J17: 85.19
I18: 2023/2024 | J18: 83.33
I19: 2024/2025

Sheet PE01_Ind02. Número de reunion
B1: Torna a l'índex
B3: #VALUE! | E3: Fitxa de seguiment de l'indicador
B5: 1. Codi del l'indicador | D5: =Índex!A7 -> PE01_Ind02. | F5: 2. Nom de l'indicador | H5: =Índex!B7 -> Número de reunions amb els vicerectorats
B6: 3. Objectiu | D6: =Índex!E7 -> ≥ 3 l’any | F6: 4. Freqüència de la medició | H6: Anual
B7: 5. Propietat | D7: =Índex!C7 -> Degà/ana | F7: 6. Responsabilitat | H7: =Índex!D7 -> Secretari o Secretaria del Deganat
B8: 7. Processos als que afecta | D8: =Índex!G7 -> PE.01. Definició de la política i objectius de qualitat | F8: 8. Font obtenció de dades | H8: Dades obtingudes de l'arxiu del deganat amb data 22/10/2025
B10: Número de reunions amb els vicerectorats
B11: 2021 | C11: 2022 | D11: 2023 | E11: 2024 | F11: 2025
B12: 6 | C12: 15 | D12: 16 | E12: 10 | F12: 8

Sheet PE01_Ind03. Número de reunion
B1: Torna a l'índex
B3: #VALUE! | E3: Fitxa de seguiment de l'indicador
B5: 1. Codi del l'indicador | D5: =Índex!A8 -> PE01_Ind03. | F5: 2. Nom de l'indicador | H5: =Índex!B8 -> Número de reunions de la comissió de igualtat
B6: 3. Objectiu | D6: =Índex!E8 -> ≥ 1 l’any | F6: 4. Freqüència de la medició | H6: Anual
B7: 5. Propietat | D7: =Índex!C8 -> Degà/ana | F7: 6. Responsabilitat | H7: =Índex!D8 -> Secretari o Secretaria del Deganat
B8: 7. Processos als que afecta | D8: =Índex!G8 -> PE.01. Definició de la política i objectius de qualitat | F8: 8. Font obtenció de dades | H8: Dades obtingudes de l'arxiu del deganat amb data 22/10/2025
A12: Número de reunions de la comissió de igualtat
A13: 2022 | B13: 2023 | C13: 2024 | D13: 2025
A14: 1 | B14: 1 | C14: 1 | D14: 0

Sheet PE01_Ind04. Número de reunion
B1: Torna a l'índex
B3: #VALUE! | E3: Fitxa de seguiment de l'indicador
B5: 1. Codi del l'indicador | D5: =Índex!A9 -> PE01_Ind04. | F5: 2. Nom de l'indicador | H5: =Índex!B9 -> Número de reunions de la comissió de sostenibilitat
B6: 3. Objectiu | D6: =Índex!E9 -> ≥ 1 l’any | F6: 4. Freqüència de la medició | H6: Anual
B7: 5. Propietat | D7: =Índex!C9 -> Degà/ana | F7: 6. Responsabilitat | H7: =Índex!D9 -> Secretari o Secretaria del Deganat
B8: 7. Processos als que afecta | D8: =Índex!G9 -> PE.01. Definició de la política i objectius de qualitat | F8: 8. Font obtenció de dades | H8: Dades obtingudes de l'arxiu del deganat amb data 22/10/2025
A12: Número de reunions de la comissió de sostenibilitat
A13: 2023 | B13: 2024 | C13: 2025
A14: 1 | B14: 4 | C14: 1

Sheet PE01_Ind05. Número d'actes i 
B1: Torna a l'índex
B3: #VALUE! | E3: Fitxa de seguiment de l'indicador
B5: 1. Codi del l'indicador | D5: =Índex!A10 -> PE01_Ind05. | F5: 2. Nom de l'indicador | H5: =Índex!B10 -> Número d’actes i esdeveniments organitzats per la facultat
B6: 3. Objectiu | D6: =Índex!E10 -> ≥1 l’any | F6: 4. Freqüència de la medició | H6: Anual
B7: 5. Propietat | D7: =Índex!C10 -> Degà/ana | F7: 6. Responsabilitat | H7: =Índex!D10 -> Secretari o Secretaria del Deganat
B8: 7. Processos als que afecta | D8: =Índex!G10 -> PE.01. Definició de la política i objectius de qualitat | F8: 8. Font obtenció de dades | H8: Dades obtingudes de l'arxiu del deganat amb data 22/10/2025
A12: Número d'actes i esdeveniments organitzats per la facultat
A13: 2022/2023 | B13: 2023/2024 | C13: 2024/2025
A14: 2 (Sant Albert, Premis Nobel) | B14: 3 (Sant Albert, Inauguració del curs, Homenatge al DR. Josep Vendrell) | C14: 4 (Inauguració del curs, Sant Albert, Nit Europea de la recerca, PremisNobel)

Sheet PE02_Ind01. Percentatge de pr
B1: Torna a l'índex
B3: #VALUE! | E3: Fitxa de seguiment de l'indicador
B5: 1. Codi del l'indicador | D5: =Índex!A11 -> PE02_Ind01. | F5: 2. Nom de l'indicador | H5: =Índex!B11 -> Percentatge de propostes de millora implementades per curs acadèmic (no motivades per la CAE)
B6: 3. Objectiu | D6: =Índex!E11 -> ≥80% | F6: 4. Freqüència de la medició | H6: Anual
B7: 5. Propietat | D7: =Índex!C11 -> Vicedeganat de Qualitat i Pla Estratègic | F7: 6. Responsabilitat | H7: =Índex!D11 -> Gestió de qualitat
B8: 7. Processos als que afecta | D8: =Índex!G11 -> PE02. Definició, desplegament i seguiment del Sistema de Garantia Intern | F8: 8. Font obtenció de dades
A12: Percentatge de propostes de millora implementades per curs acadèmic no motivades per la CAE
A13: 2023/2024 | B13: 2024/2025
A14: 0.3671

Sheet PE02_Ind02. Percentatge de pr
B1: Torna a l'índex
B3: #VALUE! | E3: Fitxa de seguiment de l'indicador
B5: 1. Codi del l'indicador | D5: =Índex!A12 -> PE02_Ind02. | F5: 2. Nom de l'indicador | H5: =Índex!B12 -> Percentatge de processos actualitzats
B6: 3. Objectiu | D6: =Índex!E12 -> 1 | F6: 4. Freqüència de la medició | H6: Anual
B7: 5. Propietat | D7: =Índex!C12 -> Vicedeganat de Qualitat i Pla Estratègic | F7: 6. Responsabilitat | H7: =Índex!D12 -> Gestió de qualitat
B8: 7. Processos als que afecta | D8: =Índex!G12 -> PE02. Definició, desplegament i seguiment del Sistema de Garantia Intern | F8: 8. Font obtenció de dades
A12: Percentatge de processos actualitzats
A13: 2019/2020 | B13: 2020/2021 | C13: 2021/2022 | D13: 2022/2023 | E13: 2023/2024 | F13: 2024/2025
A14: 1 | B14: 1 | C14: 1 | D14: 1 | E14: 1

Sheet PE02_Ind03. Percentatge de pr
B1: Torna a l'índex
B3: #VALUE! | E3: Fitxa de seguiment de l'indicador
B5: 1. Codi del l'indicador | D5: =Índex!A13 -> PE02_Ind03. | F5: 2. Nom de l'indicador | H5: =Índex!B13 -> Percentatge de propostes de millora indicades per la CAE assolides
B6: 3. Objectiu | D6: =Índex!E13 -> Objectiu global: 100% Objectiu anual: experimentar increment respecte l’anterior revisió SGIQ | F6: 4. Freqüència de la medició | H6: Anual
B7: 5. Propietat | D7: =Índex!C13 -> Vicedeganat de Qualitat i Pla Estratègic | F7: 6. Responsabilitat | H7: =Índex!D13 -> Gestió de qualitat
B8: 7. Processos als que afecta | D8: =Índex!G13 -> PE02. Definició, desplegament i seguiment del Sistema de Garantia Intern | F8: 8. Font obtenció de dades
A12: Percentatge de propostes de millora indicades per la CAE assolides
A13: Nº Propostes de la CAE | B13: 2022/2023 | C13: 2023/2024 | D13: 2024/2025
B14: 17 | C14: 17
A15: Nº Propostes Finalitzades fins la data | B15: 12 | C15: 13
A16: % Propostes de millora de la CAE assolides | B16: =B15/B14 -> 0.70588235 | C16: =C15/C14 -> 0.76470588 | D16: =D15/D14 -> #DIV/0!

Sheet PE03_Ind01. Percentatge de pr
B1: Tornar a l'índex
B3: #VALUE! | E3: Fitxa de seguiment de l'indicador
B5: 1. Codi del l'indicador | D5: =Índex!A14 -> PE03_Ind01. | F5: 2. Nom de l'indicador | H5: =Índex!B14 -> Percentatge de propostes de titulacions implantades respecte a les aprovades pel Centre
B6: 3. Objectiu | D6: =Índex!E14 -> 1 | F6: 4. Freqüència de la medició | H6: Anual
B7: 5. Propietat | D7: =Índex!C14 -> Vicedeganat de Qualitat i Pla Estratègic | F7: 6. Responsabilitat | H7: =Índex!D14 -> Gestió de qualitat
B8: 7. Processos als que afecta | D8: =Índex!G14 -> PE03. Creació i disseny de noves titulacions. Mapa de titulacions | F8: 8. Font obtenció de dades | H8: Dades extretes de l'arxiu de la Gestió de Qualitat amb data 30/10/2025
A12: Percentatge de propostes de titulacions implantades respecte a les aprovades pel Centre
A13: 2019/2020 | B13: 2020/2021 | C13: 2021/2022 | D13: 2022/2023 | E13: 2023/2024 | F13: 2024/2025
A14: 1 | B14: 1 | C14: 1 | D14: - | E14: - | F14: 1

Sheet PE04_Ind01. Percentatge Hores
B1: Torna a l'índex
B3: #VALUE! | E3: Fitxa de seguiment de l'indicador
B5: 1. Codi del l'indicador | D5: =Índex!A15 -> PE04_Ind01. | F5: 2. Nom de l'indicador | H5: =Índex!B15 -> Percentatge Hores d’Impartició Docent a l'Aula (HIDA) de professorat permanent en els graus
B6: 3. Objectiu | D6: =Índex!E15 -> >65% | F6: 4. Freqüència de la medició | H6: Anual
B7: 5. Propietat | D7: =Índex!C15 -> Degà/ana | F7: 6. Responsabilitat | H7: =Índex!D15 -> Gestió de qualitat
B8: 7. Processos als que afecta | D8: =Índex!G15 -> PE04. Definició de la política del PDI | F8: 8. Font obtenció de dades | H8: Dades extretes de la base de dades DATADASH amb data 02/10/2025: https://datax.uab.es/Publisher2/
A12: Percentatge Hores d’Impartició Docent a l'Aula (HIDA) de professorat permanent en els graus
A13: Curs/Grau | B13: Biologia | D13: Biologia Ambiental | F13: Bioquímica | H13: Biotecnologia | J13: Ciències Biomédiques | L13: Genètica | N13: Microbiologia
B14: Per. | C14: Alt. | D14: Per. | E14: Alt. | F14: Per. | G14: Alt. | H14: Per. | I14: Alt. | J14: Per. | K14: Alt. | L14: Per. | M14: Alt. | N14: Per. | O14: Alt.
A15: 2009/2010 | B15: 0.75 | C15: 0.26 | D15: 0.64 | E15: 0.36 | F15: 0.77 | G15: 0.24 | H15: 0.73 | I15: 0.27 | J15: 0.61 | K15: 0.39 | L15: 0.62 | M15: 0.38 | N15: 0.7 | O15: 0.3
A16: 2010/2011 | B16: 0.69 | C16: 0.31 | D16: 0.77 | E16: 0.24 | F16: 0.72 | G16: 0.28 | H16: 0.62 | I16: 0.38 | J16: 0.67 | K16: 0.33 | L16: 0.63 | M16: 0.37 | N16: 0.75 | O16: 0.24
A17: 2011/2012 | B17: 0.64 | C17: 0.36 | D17: 0.74 | E17: 0.26 | F17: 0.77 | G17: 0.23 | H17: 0.63 | I17: 0.37 | J17: 0.57 | K17: 0.43 | L17: 0.62 | M17: 0.39 | N17: 0.73 | O17: 0.28
A18: 2012/2013 | B18: 0.7 | C18: 0.31 | D18: 0.74 | E18: 0.27 | F18: 0.74 | G18: 0.26 | H18: 0.67 | I18: 0.33 | J18: 0.66 | K18: 0.34 | L18: 0.66 | M18: 0.33 | N18: 0.72 | O18: 0.28
A19: 2013/2014 | B19: 0.69 | C19: 0.3 | D19: 0.66 | E19: 0.33 | F19: 0.76 | G19: 0.24 | H19: 0.71 | I19: 0.28 | J19: 0.6 | K19: 0.4 | L19: 0.71 | M19: 0.29 | N19: 0.69 | O19: 0.3
A20: 2014/2015 | B20: 0.66 | C20: 0.34 | D20: 0.62 | E20: 0.38 | F20: 0.73 | G20: 0.27 | H20: 0.61 | I20: 0.38 | J20: 0.59 | K20: 0.41 | L20: 0.62 | M20: 0.36 | N20: 0.67 | O20: 0.33
A21: 2015/2016 | B21: 0.62 | C21: 0.38 | D21: 0.59 | E21: 0.41 | F21: 0.73 | G21: 0.26 | H21: 0.57 | I21: 0.44 | J21: 0.61 | K21: 0.39 | L21: 0.63 | M21: 0.38 | N21: 0.7 | O21: 0.29
A22: 2016/2017 | B22: 0.6 | C22: 0.39 | D22: 0.59 | E22: 0.4 | F22: 0.69 | G22: 0.31 | H22: 0.6 | I22: 0.4 | J22: 0.56 | K22: 0.44 | L22: 0.56 | M22: 0.43 | N22: 0.7 | O22: 0.3
A23: 2017/2018 | B23: 0.6 | C23: 0.41 | D23: 0.63 | E23: 0.37 | F23: 0.62 | G23: 0.39 | H23: 0.53 | I23: 0.47 | J23: 0.55 | K23: 0.44 | L23: 0.55 | M23: 0.45 | N23: 0.59 | O23: 0.41
A24: 2018/2019 | B24: 0.54 | C24: 0.45 | D24: 0.58 | E24: 0.42 | F24: 0.62 | G24: 0.39 | H24: 0.54 | I24: 0.46 | J24: 0.52 | K24: 0.48 | L24: 0.49 | M24: 0.52 | N24: 0.63 | O24: 0.36
A25: 2019/2020 | B25: 0.56 | C25: 0.44 | D25: 0.59 | E25: 0.41 | F25: 0.6 | G25: 0.4 | H25: 0.51 | I25: 0.48 | J25: 0.49 | K25: 0.51 | L25: 0.52 | M25: 0.48 | N25: 0.61 | O25: 0.38
A26: 2020/2021 | B26: 0.52 | C26: 0.48 | D26: 0.55 | E26: 0.45 | F26: 0.62 | G26: 0.38 | H26: 0.49 | I26: 0.51 | J26: 0.51 | K26: 0.49 | L26: 0.51 | M26: 0.48 | N26: 0.61 | O26: 0.38
... A30: 2024/2025 | B30: 0.6 | C30: 0.4 | D30: 0.68 | E30: 0.32 | F30: 0.73 | G30: 0.27 | H30: 0.65 | I30: 0.35 | J30: 0.67 | K30: 0.33 | L30: 0.63 | M30: 0.37 | N30: 0.66 | O30: 0.34
A34: Per.- Professorat Permanent: Catedràtic/Titular/Agregat/Lector
A35: Alt.- Altres: Associats/Substituts/PIF/...

Sheet PE04_Ind02. Valoració mitjana
B1: Torna a l'índex
B3: #VALUE! | E3: Fitxa de seguiment de l'indicador
B5: 1. Codi del l'indicador | D5: =Índex!A16 -> PE04_Ind02. | F5: 2. Nom de l'indicador | H5: =Índex!B16 -> Valoració mitjana a l’afirmació “Estic satisfet/a amb el professorat” (Grau/Màster)
B6: 3. Objectiu | D6: =Índex!E16 -> > Mitjana de la UAB | F6: 4. Freqüència de la medició | H6: Anual
B7: 5. Propietat | D7: =Índex!C16 -> Degà/ana | F7: 6. Responsabilitat | H7: =Índex!D16 -> Gestió de qualitat
B8: 7. Processos als que afecta | D8: =Índex!G16 -> PE04. Definició de la política del PDI | F8: 8. Font obtenció de dades | H8: Dades extretes de les enquestes del grau de satisfacció de les persones titulades amb data 02/10/2025: https://www.uab.cat/web/estudis/qualitat-docent/persones-graduades-1345665543247.html
A12: Valoració mitjana a l’afirmació “Estic satisfet/a amb el professorat”
A13: Grau | B13: 2017/2018 | C13: 2018/2019 | D13: 2019/2020 | E13: 2021/2022 | F13: 2022/2023 | G13: 2023/2024 | H13: 2024/2025
A14: Biologia | B14: 4 | C14: 3.6 | D14: 4 | E14: 3.9 | F14: 3.78 | G14: 4.18 | H14: SD
A15: Biologia Ambiental | B15: 3.56 | C15: 4.29 | D15: 3.82 | E15: 4.37 | F15: 4.07 | G15: 4.24 | H15: SD
A16: Bioquímica | B16: 3.07 | C16: 3.45 | D16: SD | E16: 3.5 | F16: 3.69 | G16: 4.06 | H16: SD
A17: Biotecnologia | B17: 4.15 | C17: 4 | D17: 3.7 | E17: 3.68 | F17: 3.78 | G17: 3.79 | H17: SD
A18: Ciències Biomèdiques | B18: 3.28 | C18: 3.6 | D18: 3.33 | E18: 3.29 | F18: 3.7 | G18: 3.45 | H18: SD
A19: Genètica | B19: 4 | C19: 3.2 | D19: 3.6 | E19: 3.58 | F19: 3.93 | G19: 3.33 | H19: SD
A20: Microbiologia | B20: 3.89 | C20: 4.09 | D20: 3.8 | E20: 4 | F20: 4.2 | G20: 4.08 | H20: SD
A21: Graus Biociències | B21: 3.61 | C21: 3.74 | D21: 3.76 | E21: 3.77 | F21: 3.89 | G21: 3.83 | H21: SD
A22: Graus UAB | B22: 3.58 | C22: 3.51 | D22: 3.44 | E22: 3.68 | F22: 3.67 | G22: 3.73 | H22: SD
A25: Valoració mitjana a l’afirmació “Estic satisfet/a amb el professorat”
A26: Màster | B26: 2017/2018 | C26: 2018/2019 | D26: 2019/2020 | E26: 2021/2022 | F26: 2022/2023 | G26: 2023/2024 | H26: 2024/2025
A27: Bioinformàtica | B27: 4 | C27: 3.5 | D27: 4 | E27: 3.54 | F27: 4 | G27: 2.56 | H27: SD
A28: Biologia, Genòmica i Biotecnologia Vegetals | B28: 4 | C28: 3 | D28: 3.5 | E28: 4 | F28: 4 | G28: 4.17 | H28: SD
A29: Bioquímica, Biologia Molecular i Biomedicina | B29: 3 | C29: 3.8 | D29: 2.5 | E29: 3.93 | F29: 4.18 | G29: 4.2 | H29: SD
A30: Biotecnologia Avançada | B30: 4.75 | C30: 3.5 | D30: SD | E30: 3.2 | F30: 4.13 | G30: 4.14 | H30: SD
A31: Citogenètica i Biologia de la Reproducció | B31: 3 | C31: 4 | D31: 5 | E31: 4.1 | F31: 4.67 | G31: 4.25 | H31: SD
A32: Ecologia Terrestre i Gestió de la Biodiversitat | B32: 4 | C32: 4 | D32: 3.67 | E32: 4 | F32: 4.4 | G32: 4.44 | H32: SD
A33: Genètica Avançada | B33: 4 | C33: SD | D33: 3 | E33: 2.75 | F33: 3.25 | G33: 3.43 | H33: SD
A34: Erasmus Mundus en Educació Internacional en Vacunes | B34: SD | C34: SD | D34: SD | E34: SD | F34: SD | G34: SD | H34: SD
A35: Microbiologia Aplicada | B35: 4 | C35: 3 | D35: 4 | E35: 3.91 | F35: 4.25 | G35: 3.43 | H35: SD
A36: Neurociències | B36: 3 | C36: 2.75 | D36: 3.5 | E36: 2.83 | F36: 2.7 | G36: 3.78 | H36: SD
A37: Màsters Biociències | B37: 3.79 | C37: 3.44 | D37: 3.66 | E37: 3.61 | F37: 3.96 | G37: 3.82 | H37: SD
A38: Màsters UAB | B38: 3.54 | C38: 3.47 | D38: 3.72 | E38: 3.81 | F38: 3.81 | G38: 3.92 | H38: SD

Sheet PE04_Ind03. Número de cursos 
B1: Torna a l'índex
B3: #VALUE! | E3: Fitxa de seguiment de l'indicador
B5: 1. Codi del l'indicador | D5: =Índex!A17 -> PE04_Ind03. | F5: 2. Nom de l'indicador | H5: =Índex!B17 -> Nou indicador: Número de cursos a mida proposats per la facultat
B6: 3. Objectiu | D6: =Índex!E17 -> Mínim 1/any | F6: 4. Freqüència de la medició | H6: Anual
B7: 5. Propietat | D7: =Índex!C17 -> Degà/ana | F7: 6. Responsabilitat | H7: =Índex!D17 -> Secretari o Secretaria del Deganat
B8: 7. Processos als que afecta | D8: =Índex!G17 -> PE04. Definició de la política del PDI | F8: 8. Font obtenció de dades
A12: Número de cursos a mida proposats per la facultat
A13: 2020/2021 | B13: 2021/2022 | C13: 2022/2023 | D13: 2023/2024 | E13: 2024/2025
A14: 2 | B14: 1 | C14: 1 | D14: 4

Sheet PE05_Ind01. Percentatge de Ta
B1: Torna a l'índex
B3: #VALUE! | E3: Fitxa de seguiment de l'indicador
B5: 1. Codi del l'indicador | D5: =Índex!A18 -> PE05_Ind01. | F5: 2. Nom de l'indicador | H5: =Índex!B18 -> Percentatge de Taules de Mesures Correctores (TMC) retornades derivades de les avaluacions de riscos laborals respecte del total de rebudes
B6: 3. Objectiu | D6: =Índex!E18 -> 1 | F6: 4. Freqüència de la medició | H6: Anual
B7: 5. Propietat | D7: =Índex!C18 -> Degà/ana | F7: 6. Responsabilitat | H7: =Índex!D18 -> Administració de Centre
B8: 7. Processos als que afecta | D8: =Índex!G18 -> PE05. Política i Gestió del PTGAS | F8: 8. Font obtenció de dades | H8: Dades obtingudes de l'arxiu de l'administració de centre amb data 22/10/2025
B12: Percentatge de Taules de Mesures Correctores (TMC) retornades derivades de les avaluacions de riscos laborals respecte del total rebudes
B13: 2018/2019 | C13: 2019/2020 | D13: 2020/2021 | E13: 2021/2022 | F13: 2022/2023 | G13: 2023/2024 | H13: 2024/2025
A14: Rebudes | B14: 11 | C14: 11 | D14: 2 | E14: 7 | F14: 6 | G14: 7 | H14: 5
A15: Retornades | B15: 11 | C15: 11 | D15: 2 | E15: 6 | F15: 6 | G15: 7 | H15: 5
A16: % Compliment | B16: =B15/B14 -> 1 | C16: =C15/C14 -> 1 | D16: =D15/D14 -> 1 | E16: =E15/E14 -> 0.85714286 | F16: =F15/F14 -> 1 | G16: =G15/G14 -> 1 | H16: =H15/H14 -> 1

Sheet PE05_Ind02. Nombre d’informes
B1: Torna a l'índex
B3: #VALUE! | E3: Fitxa de seguiment de l'indicador
B5: 1. Codi del l'indicador | D5: =Índex!A19 -> PE05_Ind02. | F5: 2. Nom de l'indicador | H5: =Índex!B19 -> Nombre d’informes d’avaluació retornats respecte del total rebuts
B6: 3. Objectiu | D6: =Índex!E19 -> 1 | F6: 4. Freqüència de la medició | H6: Anual
B7: 5. Propietat | D7: =Índex!C19 -> Degà/ana | F7: 6. Responsabilitat | H7: =Índex!D19 -> Administració de Centre
B8: 7. Processos als que afecta | D8: =Índex!G19 -> PE05. Política i Gestió del PTGAS | F8: 8. Font obtenció de dades | H8: Dades obtingudes de l'arxiu de l'administració de centre amb data 22/10/2025
B12: Nombre d’informes d’avaluació retornats respecte del total rebuts
B13: 2018/2019 | C13: 2019/2020 | D13: 2020/2021 | E13: 2021/2022 | F13: 2022/2023 | G13: 2023/2024 | H13: 2024/2025
A14: Rebuts | B14: 13 | C14: 9 | D14: 7 | E14: 15 | F14: 18 | G14: 9 | H14: 12
A15: Retornats | B15: 13 | C15: 9 | D15: 7 | E15: 12 | F15: 17 | G15: 9 | H15: 11
A16: % Compliment | B16: =B15/B14 -> 1 | C16: =C15/C14 -> 1 | D16: =D15/D14 -> 1 | E16: =E15/E14 -> 0.8 | F16: =F15/F14 -> 0.94444444 | G16: =G15/G14 -> 1 | H16: =H15/H14 -> 0.91666667

Sheet PE05_Ind03. Nombre d’informes
B1: Torna a l'índex
B3: #VALUE! | E3: Fitxa de seguiment de l'indicador
B5: 1. Codi del l'indicador | D5: =Índex!A20 -> PE05_Ind03. | F5: 2. Nom de l'indicador | H5: =Índex!B20 -> Nombre d’informes de vigilància de la Salut retornats respecte dels rebuts
B6: 3. Objectiu | D6: =Índex!E20 -> 1 | F6: 4. Freqüència de la medició | H6: Anual
B7: 5. Propietat | D7: =Índex!C20 -> Degà/ana | F7: 6. Responsabilitat | H7: =Índex!D20 -> Administració de Centre
B8: 7. Processos als que afecta | D8: =Índex!G20 -> PE05. Política i Gestió del PTGAS | F8: 8. Font obtenció de dades | H8: Dades obtingudes de l'arxiu de l'administració de centre amb data 22/10/2025
B12: Nombre d’informes de vigilància de la salut retornats respecte del total rebuts
B13: 2022/2023 | C13: 2023/2024 | D13: 2024/2025
A14: Rebuts | B14: 3 | C14: 5 | D14: 11
A15: Retornats | B15: 3 | C15: 5 | D15: 11
A16: % Compliment | B16: =B15/B14 -> 1 | C16: =C15/C14 -> 1 | D16: =D15/D14 -> 1

Sheet PE05_Ind04. Percentatge d’hor
B1: Torna a l'índex
B3: #VALUE! | E3: Fitxa de seguiment de l'indicador
B5: 1. Codi del l'indicador | D5: =Índex!A21 -> PE05_Ind04. | F5: 2. Nom de l'indicador | H5: =Índex!B21 -> Percentatge d’hores de formació realitzades respecte el curs anterior
B6: 3. Objectiu | D6: =Índex!E21 -> 1 | F6: 4. Freqüència de la medició | H6: Anual
B7: 5. Propietat | D7: =Índex!C21 -> Degà/ana | F7: 6. Responsabilitat | H7: =Índex!D21 -> Unitat de Formació
B8: 7. Processos als que afecta | D8: =Índex!G21 -> PE05. Política i Gestió del PTGAS | F8: 8. Font obtenció de dades
B12: Percentatge d’hores de formació realitzades respecte el curs anterior
B13: 2018/2019 | C13: 2019/2020 | D13: 2020/2021 | E13: 2021/2022 | F13: 2022/2023 | G13: 2023/2024 | H13: 2024/2025
A14: Nombre participants | B14: 761 | C14: 649 | D14: 515 | E14: 582 | F14: 599 | G14: 521
A15: Mitjana hores per participant | B15: 8 | C15: 10 | D15: 10 | E15: 8 | F15: 9 | G15: 8
A16: Total hores realitzades | B16: 6363 | C16: 6325 | D16: 5027 | E16: 4525 | F16: 5667 | G16: 4307

Sheet PC01_Ind01. Sol·licituds de n
B1: Torna a l'índex
B3: #VALUE! | E3: Fitxa de seguiment de l'indicador
B5: 1. Codi del l'indicador | D5: =Índex!A22 -> PC01_Ind01. | F5: 2. Nom de l'indicador | H5: =Índex!B22 -> Ràtio de Sol·licituds de nou accés respecte a la oferta de places als Graus
B6: 3. Objectiu | D6: =Índex!E22 -> Ràtio de sol·licituds vs places ≥10 | F6: 4. Freqüència de la medició | H6: Anual
B7: 5. Propietat | D7: =Índex!C22 -> Vicedeganat d'Estudis i Programació | F7: 6. Responsabilitat | H7: =Índex!D22 -> Responsable Gestió acadèmica
B8: 7. Processos als que afecta | D8: =Índex!G22 -> PC01. Definició de perfils d'ingrés, graduació i accés als estudis | F8: 8. Font obtenció de dades | H8: Dades extretes de la base de dades DATADASH amb data 02/10/2025: https://datax.uab.es/Publisher2/
A12: Taula 1. Places i total de sol·licituds desglossat per grau
A13: Grau | B13: 2019/2020 | C13: 2020/2021 | D13: 2021/2022 | E13: 2022/2023 | F13: 2023/2024 | G13: 2024/2025
A14: Biologia | B14: 1063 | C14: 1326 | D14: 1384 | E14: 1297 | F14: 1231 | G14: 1405
A15: Biologia Ambiental | B15: 516 | C15: 579 | D15: 539 | E15: 538 | F15: 450 | G15: 484
A16: Bioquímica | B16: 638 | C16: 718 | D16: 885 | E16: 797 | F16: 750 | G16: 953
A17: Biotecnologia | B17: 687 | C17: 866 | D17: 990 | E17: 896 | F17: 840 | G17: 830
A18: Ciències Biomèdiques | B18: 800 | C18: 942 | D18: 1159 | E18: 1099 | F18: 904 | G18: 1112
A19: Genètica | B19: 647 | C19: 668 | D19: 714 | E19: 734 | F19: 582 | G19: 648
A20: Microbiologia | B20: 781 | C20: 787 | D20: 897 | E20: 801 | F20: 717 | G20: 812
A21: Total general | B21: =SUM(B14:B20) -> 5132 | C21: =SUM(C14:C20) -> 5886 | D21: =SUM(D14:D20) -> 6568 | E21: =SUM(E14:E20) -> 6162 | F21: =SUM(F14:F20) -> 5474 | G21: =SUM(G14:G20) -> 6244
A24: Taula 2. Ràtio de sol·licituds vs places pels diferents graus de la facultat
A25: Grau | B25: Objectiu | C25: 2019/2020 | D25: 2020/2021 | E25: 2021/2022 | F25: 2022/2023 | G25: 2023/2024 | H25: 2024/2025
A26: Biologia | B26: 10 | C26: 13.29 | D26: 16.58 | E26: 17.3 | F26: 16.21 | G26: 15.39 | H26: 17.6
A27: Biologia Ambiental | B27: 10 | C27: 8.6 | D27: 9.65 | E27: 8.98 | F27: 8.97 | G27: 7.5 | H27: 8.1
A28: Bioquímica | B28: 10 | C28: 10.63 | D28: 11.97 | E28: 14.75 | F28: 13.28 | G28: 12.5 | H28: 15.9
A29: Biotecnologia | B29: 10 | C29: 8.59 | D29: 10.83 | E29: 12.38 | F29: 11.2 | G29: 10.5 | H29: 10.4
A30: Ciències Biomèdiques | B30: 10 | C30: 13.33 | D30: 15.7 | E30: 19.32 | F30: 18.32 | G30: 15.07 | H30: 18.5
A31: Genètica | B31: 10 | C31: 10.78 | D31: 11.13 | E31: 11.9 | F31: 12.23 | G31: 9.7 | H31: 10.8
A32: Microbiologia | B32: 10 | C32: 13.02 | D32: 13.12 | E32: 14.95 | F32: 13.35 | G32: 11.95 | H32: 13.5
A35: Taula 3. Ràtio de sol·licituds en 1a opció vs places pels diferents graus de la facultat
A36: Grau | B36: Objectiu | C36: 2019/2020 | D36: 2020/2021 | E36: 2021/2022 | F36: 2022/2023 | G36: 2023/2024 | H36: 2024/2025
A37: Biologia | B37: 1 | C37: 1.49 | D37: 1.68 | E37: 1.79 | F37: 1.38 | G37: 1.31 | H37: 1.5
A38: Biologia Ambiental | B38: 1 | C38: 2.07 | D38: 2.37 | E38: 2.33 | F38: 2.02 | G38: 1.82 | H38: 1.9
A39: Bioquímica | B39: 1 | C39: 1.13 | D39: 1.22 | E39: 1.92 | F39: 1.13 | G39: 0.87 | H39: 1.8
A40: Biotecnologia | B40: 1 | C40: 1.24 | D40: 1.41 | E40: 1.93 | F40: 1.26 | G40: 1.2 | H40: 1.2
A41: Ciències Biomèdiques | B41: 1 | C41: 2.53 | D41: 2.83 | E41: 3.48 | F41: 3.22 | G41: 2.5 | H41: 3.4
A42: Genètica | B42: 1 | C42: 2.58 | D42: 2.35 | E42: 2.75 | F42: 2.28 | G42: 2.23 | H42: 2.3
A43: Microbiologia | B43: 1 | C43: 1.68 | D43: 1.72 | E43: 1.67 | F43: 1.38 | G43: 1.32 | H43: 1.4

Sheet PC01_Ind02. Notes de tall d’e
B1: Torna a l'índex
B3: #VALUE! | E3: Fitxa de seguiment de l'indicador
B5: 1. Codi del l'indicador | D5: =Índex!A23 -> PC01_Ind02. | F5: 2. Nom de l'indicador | H5: =Índex!B23 -> Notes de tall d’entrada de l’alumnat de nou accés als Graus
B6: 3. Objectiu | D6: =Índex!E23 -> >11 | F6: 4. Freqüència de la medició | H6: Anual
B7: 5. Propietat | D7: =Índex!C23 -> Vicedeganat d'Estudis i Programació | F7: 6. Responsabilitat | H7: =Índex!D23 -> Responsable Gestió acadèmica
B8: 7. Processos als que afecta | D8: =Índex!G23 -> PC01. Definició de perfils d'ingrés, graduació i accés als estudis | F8: 8. Font obtenció de dades | H8: Dades extretes de la base de dades DATADASH amb data 02/10/2025: https://datax.uab.es/Publisher2/
A12: Evolució de les notes d’accés en els diferents graus de la facultat
A13: Grau | B13: Objectiu | C13: 2019/2020 | D13: 2020/2021 | E13: 2021/2022 | F13: 2022/2023 | G13: 2023/2024 | H13: 2024/2025
A14: Biologia | B14: 11 | C14: 10.76 | D14: 11.24 | E14: 11.4 | F14: 11.37 | G14: 10.95 | H14: 10.94
A15: Biologia Ambiental | B15: 11 | C15: 10.61 | D15: 11.04 | E15: 11.15 | F15: 11.35 | G15: 10.76 | H15: 10.74
A16: Bioquímica | B16: 11 | C16: 11.33 | D16: 11.55 | E16: 11.88 | F16: 11.88 | G16: 11.36 | H16: 11.34
A17: Biotecnologia | B17: 11 | C17: 11.13 | D17: 11.5 | E17: 11.87 | F17: 11.83 | G17: 11.53 | H17: 11.41
A18: Ciències Biomèdiques | B18: 11 | C18: 12.39 | D18: 12.7 | E18: 12.79 | F18: 12.78 | G18: 12.41 | H18: 12.43
A19: Genètica | B19: 11 | C19: 11.87 | D19: 12.11 | E19: 12.29 | F19: 12.35 | G19: 11.95 | H19: 11.74
A20: Microbiologia | B20: 11 | C20: 11.18 | D20: 11.48 | E20: 11.76 | F20: 11.73 | G20: 11.27 | H20: 11.02

Sheet PC01_Ind03. Sol·licituds de n
B1: Torna a l'índex
B3: #VALUE! | E3: Fitxa de seguiment de l'indicador
B5: 1. Codi del l'indicador | D5: =Índex!A24 -> PC01_Ind03 | F5: 2. Nom de l'indicador | H5: =Índex!B24 -> Sol·licituds de nou accés respecte a la oferta de places (Màsters)
B6: 3. Objectiu | D6: =Índex!E24 -> Doble de sol·licituds o més respecte al número de places | F6: 4. Freqüència de la medició | H6: Anual
B7: 5. Propietat | D7: =Índex!C24 -> Vicedeganat d'Estudis i Programació | F7: 6. Responsabilitat | H7: =Índex!D24 -> Responsable Gestió acadèmica
B8: 7. Processos als que afecta | D8: =Índex!G24 -> PC01. Definició de perfils d'ingrés, graduació i accés als estudis | F8: 8. Font obtenció de dades | H8: Dades extretes de la base de dades DATADASH amb data 02/10/2025: https://datax.uab.es/Publisher2/
A12: Sol·licituds i places per cada màster de la facultat
A13: Titulació Màster | B13: 2019/2020 | D13: 2020/2021 | F13: 2021/2022 | H13: 2022/2023 | J13: 2023/2024 | L13: 2024/2025
B14: Places | C14: Sol·licituds | D14: Places | E14: Sol·licituds | F14: Places | G14: Sol·licituds | H14: Places | I14: Sol·licituds | J14: Places | K14: Sol·licituds | L14: Places | M14: Sol·licituds
A15: Bioinformàtica | B15: 24 | C15: 141 | D15: 24 | E15: 112 | F15: 24 | G15: 146 | H15: 24 | I15: 138 | J15: 26 | K15: 181 | L15: 26 | M15: 157
A16: Biologia, Genòmica i Biotecnologia Vegetal | B16: 25 | C16: 80 | D16: 25 | E16: 80 | F16: 25 | G16: 85 | H16: 25 | I16: 78 | J16: 25 | K16: 69 | L16: 25 | M16: 95
A17: Bioquímica, Biologia Molecular i Biomedicina | B17: 40 | C17: 121 | D17: 40 | E17: 154 | F17: 40 | G17: 175 | H17: 40 | I17: 134 | J17: 40 | K17: 129 | L17: 40 | M17: 146
A18: Biotecnologia Avançada | B18: 25 | C18: 81 | D18: 25 | E18: 89 | F18: 25 | G18: 95 | H18: 25 | I18: 94 | J18: 25 | K18: 101 | L18: 25 | M18: 94
A19: Citogenètica i Biologia de la Reproducció | B19: 25 | C19: 86 | D19: 25 | E19: 86 | F19: 25 | G19: 67 | H19: 25 | I19: 93 | J19: 25 | K19: 63 | L19: 25 | M19: 97
A20: Ecologia Terrestre i Gestió de la Biodiversitat | B20: 30 | C20: 72 | D20: 30 | E20: 78 | F20: 30 | G20: 75 | H20: 30 | I20: 58 | J20: 30 | K20: 61 | L20: 30 | M20: 84
A21: Genètica Avançada | B21: 25 | C21: 103 | D21: 25 | E21: 92 | F21: 25 | G21: 119 | H21: 25 | I21: 110 | J21: 25 | K21: 141 | L21: 25 | M21: 185
A22: Microbiologia Aplicada | B22: 25 | C22: 62 | D22: 25 | E22: 85 | F22: 25 | G22: 103 | H22: 25 | I22: 90 | J22: 25 | K22: 80 | L22: 25 | M22: 63
A23: Neurociències | B23: 40 | C23: 121 | D23: 40 | E23: 99 | F23: 40 | G23: 99 | H23: 40 | I23: 80 | J23: 40 | K23: 88 | L23: 40 | M23: 84

Sheet PC01_Ind04. Valoració mitjana
B1: Torna a l'índex
B3: #VALUE! | E3: Fitxa de seguiment de l'indicador
B5: 1. Codi del l'indicador | D5: =Índex!A25 -> PC01_Ind04. | F5: 2. Nom de l'indicador | H5: =Índex!B25 -> Valoració mitjana a l’afirmació “La formació rebuda m’ha permès millorar les capacitats per a l’activitat professional”
B6: 3. Objectiu | D6: =Índex!E25 -> ≥Mitjana UAB | F6: 4. Freqüència de la medició | H6: Anual
B7: 5. Propietat | D7: =Índex!C25 -> Vicedeganat d'Estudis i Programació | F7: 6. Responsabilitat | H7: =Índex!D25 -> Gestió de qualitat
B8: 7. Processos als que afecta | D8: =Índex!G25 -> PC01. Definició de perfils d'ingrés, graduació i accés als estudis | F8: 8. Font obtenció de dades | H8: Dades extretes de les enquestes del grau de satisfacció de les persones titulades amb data 02/10/2025: https://www.uab.cat/web/estudis/qualitat-docent/persones-graduades-1345665543247.html
A12: Valoració mitjana a l’afirmació “La formació rebuda m’ha permès millorar les capacitats per a l’activitat professional
A13: Grau | B13: 2017/2018 | C13: 2018/2019 | D13: 2019/2020 | E13: 2021/2022 | F13: 2022/2023 | G13: 2023/2024 | H13: 2024/2025
A14: Biologia | B14: 3.27 | C14: 3.8 | D14: 3.75 | E14: 3.7 | F14: 3.59 | G14: 3.82 | H14: SD
A15: Biologia Ambiental | B15: 4.44 | C15: 4.29 | D15: 3.48 | E15: 3.67 | F15: 3.5 | G15: 4.24 | H15: SD
A16: Bioquímica | B16: 3.07 | C16: 3.64 | D16: SD | E16: 3.71 | F16: 3.62 | G16: 4.38 | H16: SD
A17: Biotecnologia | B17: 3.92 | C17: 4 | D17: 3.8 | E17: 4.07 | F17: 3.64 | G17: 3.92 | H17: SD
A18: Ciències Biomèdiques | B18: 3.8 | C18: 3.91 | D18: 4.5 | E18: 3.63 | F18: 3.8 | G18: 4.05 | H18: SD
A19: Genètica | B19: 3.71 | C19: 3.7 | D19: 4.3 | E19: 3.79 | F19: 3.93 | G19: 3.89 | H19: SD
A20: Microbiologia | B20: 4.44 | C20: 3.91 | D20: 4.4 | E20: 4.05 | F20: 3.88 | G20: 4.23 | H20: SD
A21: Graus Biociències | B21: 3.76 | C21: 3.88 | D21: 3.82 | E21: 3.8 | F21: 3.72 | G21: 4.07 | H21: SD
A22: Graus UAB | B22: 3.77 | C22: 3.77 | D22: 3.61 | E22: 3.81 | F22: 3.81 | G22: 3.89 | H22: SD
A26: Valoració mitjana a l’afirmació "La formació rebuda m’ha permès millorar les capacitats per a l’activitat professional”
A27: Màster | C27: 2017/2018 | D27: 2018/2019 | E27: 2019/2020 | F27: 2021/2022 | G27: 2022/2023 | H27: 2023/2024 | I27: 2024/2025
A28: Bioinformàtica | C28: SD | D28: 4.6 | E28: 4.56 | F28: 3.83 | G28: 4.67 | H28: 3.89 | I28: SD
A29: Biologia, Genòmica i Biotecnologia Vegetals | C29: SD | D29: 5 | E29: 4 | F29: 4.22 | G29: 3.6 | H29: 4.17 | I29: SD
A30: Bioquímica, Biologia Molecular i Biomedicina | C30: 3.6 | D30: 3.6 | E30: 3 | F30: 4.07 | G30: 4.47 | H30: 4.2 | I30: SD
A31: Biotecnologia Avançada | C31: SD | D31: 3.5 | F31: 3.7 | G31: 3.86 | H31: 4.43 | I31: SD
A32: Citogenètica i Biologia de la Reproducció | C32: SD | D32: 4 | E32: 3.5 | F32: 3.3 | G32: 4 | H32: 4 | I32: SD
A33: Ecologia Terrestre i Gestió de la Biodiversitat | C33: SD | D33: 4 | E33: 4 | F33: 3.75 | G33: 4.2 | H33: 3.89 | I33: SD
A34: Genètica Avançada | C34: SD | E34: 3 | F34: 3.27 | G34: 2.5 | H34: 4.14 | I34: SD
A35: Microbiologia Aplicada | C35: SD | D35: 3.2 | E35: 3 | F35: 3.82 | G35: 4.25 | H35: 3 | I35: SD
A36: Neurociències | C36: SD | D36: 3.5 | E36: 4 | F36: 3.33 | G36: 3.5 | H36: 4 | I36: SD
A37: Màsters Biociències | C37: SD | D37: 3.94 | E37: 3.83 | F37: 3.73 | G37: 4 | H37: 3.99 | I37: SD
A38: Màsters UAB | C38: SD | D38: 3.77 | E38: 3.61 | F38: 3.81 | G38: 3.75 | H38: 3.96 | I38: SD

Sheet PC01_Ind05. Valoració positiv
B1: Torna a l'índex
B3: #VALUE! | E3: Fitxa de seguiment de l'indicador
B5: 1. Codi del l'indicador | D5: =Índex!A26 -> PC01_Ind05. | F5: 2. Nom de l'indicador | H5: =Índex!B26 -> Valoració mitjana a les afirmacions “Tornaria a triar la mateixa titulació” i “Tornaria a triar la mateixa Universitat”
B6: 3. Objectiu | D6: =Índex!E26 -> ≥Mitjana UAB | F6: 4. Freqüència de la medició | H6: Anual
B7: 5. Propietat | D7: =Índex!C26 -> Vicedeganat d'Estudis i Programació | F7: 6. Responsabilitat | H7: =Índex!D26 -> Gestió de qualitat
B8: 7. Processos als que afecta | D8: =Índex!G26 -> PC01. Definició de perfils d'ingrés, graduació i accés als estudis | F8: 8. Font obtenció de dades | H8: Dades extretes de les enquestes del grau de satisfacció de les persones titulades amb data 02/10/2025: https://www.uab.cat/web/estudis/qualitat-docent/persones-graduades-1345665543247.html
A12: Valoració mitjana a l’afirmació “Tornaria a triar la mateixa titulació”
A13: Graus | B13: 2017/2018 | C13: 2018/2019 | D13: 2019/2020 | E13: 2021/2022 | F13: 2022/2023 | G13: 2023/2024 | H13: 2024/2025
A14: Biologia | B14: 0.7273 | C14: 0.7333 | D14: 0.8333 | E14: 0.65 | F14: 0.8333 | G14: 0.6364 | H14: SD
A15: Biologia Ambiental | B15: 0.8889 | C15: 1 | D15: 0.7273 | E15: 0.9259 | F15: 0.8 | G15: 0.7647 | H15: SD
A16: Bioquímica | B16: 0.5 | C16: 0.8182 | D16: SD | E16: 0.7273 | F16: 0.6923 | G16: 0.6875 | H16: SD
A17: Biotecnologia | B17: 0.6923 | C17: 0.8333 | D17: 0.8 | E17: 0.8929 | F17: 0.6087 | G17: 0.7917 | H17: SD
A18: Ciències Biomèdiques | B18: 0.72 | C18: 0.7273 | D18: 0.6667 | E18: 0.5 | F18: 0.75 | G18: 0.9 | H18: SD
A19: Genètica | B19: 1 | C19: 0.5 | D19: 0.7 | E19: 0.8333 | F19: 0.8 | G19: 0.7222 | H19: SD
A20: Microbiologia | B20: 0.7778 | C20: 0.8182 | D20: 0.6 | E20: 0.6667 | F20: 0.76 | G20: 0.9231 | H20: SD
A21: Graus Biociències | B21: 0.7273 | C21: 0.7711 | D21: 0.7368 | E21: 0.753 | F21: 0.7442 | G21: 0.7815 | H21: SD
A22: Graus UAB | B22: 0.75 | C22: 0.7277 | D22: 0.7017 | E22: 0.73 | F22: 0.7319 | G22: 0.74 | H22: SD
A25: Valoració mitjana a l’afirmació “Tornaria a triar la mateixa Universitat”,
A26: Graus | C26: 2017/2018 | D26: 2018/2019 | E26: 2019/2020 | F26: 2021/2022 | G26: 2022/2023 | H26: 2023/2024 | I26: 2024/2025
A27: Biologia | C27: 0.7273 | D27: 0.9333 | E27: 0.9167 | F27: 0.8 | G27: 0.9444 | H27: 1 | I27: SD
A28: Biologia Ambiental | C28: 0.8889 | D28: 1 | E28: 0.8182 | F28: 0.7778 | G28: 0.8667 | H28: 0.9412 | I28: SD
A29: Bioquímica | C29: 0.4286 | D29: 0.9091 | F29: 0.8182 | G29: 0.7692 | H29: 0.75 | I29: SD
A30: Biotecnologia | C30: 0.8462 | D30: 0.9444 | E30: 0.8 | F30: 0.9286 | G30: 0.913 | H30: 0.9583 | I30: SD
A31: Ciències Biomèdiques | C31: 0.72 | D31: 0.8182 | E31: 1 | F31: 0.8333 | G31: 0.8 | H31: 0.8 | I31: SD
A32: Genètica | C32: 0.8571 | D32: 0.7 | E32: 1 | F32: 0.875 | G32: 0.9333 | H32: 0.7778 | I32: SD
A33: Microbiologia | C33: 0.8889 | D33: 0.9091 | E33: 0.8 | F33: 0.7143 | G33: 0.96 | H33: 1 | I33: SD
A34: Graus Biociències | C34: 73,86& | D34: 0.8916 | E34: 0.8684 | F34: 0.8253 | G34: 0.8915 | H34: 0.8824 | I34: SD
A35: Graus UAB | C35: 0.7852 | D35: 0.8094 | E35: 0.798 | F35: 0.8039 | G35: 0.8006 | H35: 0.7973 | I35: SD
A39: Valoració mitjana a l’afirmació “Tornaria a triar la mateixa titulació”
A40: Màster | B40: 2017/2018 | C40: 2018/2019 | D40: 2019/2020 | E40: 2021/2022 | F40: 2022/2023 | G40: 2023/2024 | H40: 2024/2025
A41: Bioinformàtica | B41: SD | C41: 1 | D41: 0.5556 | E41: 0.8462 | F41: 0.8571 | G41: 0.6667 | H41: SD
A42: Biologia, Genòmica i Biotecnologia Vegetals | B42: SD | C42: 0 | D42: 0.5 | E42: 0.6667 | F42: 0.6 | G42: 0.8333 | H42: SD
A43: Bioquímica, Biologia Molecular i Biomedicina | B43: 0.4 | C43: 0.8 | D43: 0.75 | E43: 0.5333 | F43: 0.8824 | G43: 0.6 | H43: SD
A44: Biotecnologia Avançada | B44: SD | C44: 1 | E44: 0.6 | F44: 0.625 | G44: 0.8571 | H44: SD
A45: Citogenètica i Biologia de la Reproducció | B45: SD | C45: 0 | D45: 1 | E45: 0.7 | F45: 1 | G45: 0.625 | H45: SD
A46: Ecologia Terrestre i Gestió de la Biodiversitat | B46: SD | C46: 0.75 | D46: 0.6667 | E46: 0.875 | F46: 1 | G46: 0.6667 | H46: SD
A47: Genètica Avançada | B47: SD | D47: 0.5 | E47: 0.3333 | F47: 0.25 | G47: 0.8571 | H47: SD
A48: Microbiologia Aplicada | B48: SD | C48: 0.4 | D48: 1 | E48: 0.8182 | F48: 0.5 | G48: 0.2857 | H48: SD
A49: Neurociències | B49: SD | C49: 0.75 | D49: 0.6 | E49: 0.5 | F49: 0.6 | G49: 0.8889 | H49: SD
A50: Màster Biociències | B50: SD | C50: 0.75 | D50: 0.6667 | E50: 0.6489 | F50: 0.7536 | G50: 0.6986 | H50: SD
...

Sheet PC02_Ind01. Nombre d’assignat
B1: Torna a l'índex
B3: #VALUE! | E3: Fitxa de seguiment de l'indicador
B5: 1. Codi del l'indicador | D5: =Índex!A27 -> PC02_Ind01. | F5: 2. Nom de l'indicador | H5: =Índex!B27 -> Nombre d’assignatures que imparteixen docència en anglès
B6: 3. Objectiu | D6: =Índex!E27 -> Observar un increment | F6: 4. Freqüència de la medició | H6: Anual
B7: 5. Propietat | D7: =Índex!C27 -> Vicedeganat d'Estudis i Programació | F7: 6. Responsabilitat | H7: =Índex!D27 -> Gestió de programació docent
B8: 7. Processos als que afecta | D8: =Índex!G27 -> PC02. Planificació i Programació docent de les assignatures. | F8: 8. Font obtenció de dades | H8: Dades extretes de l'aplicatiu TPD amb data 02/10/2025: https://sso.uab.cat/cas/login?service=https%3A%2F%2Ftpd.uab.cat%2Fj_spring_cas_security_check
A11: Nombre d'assignatures que imparteixen docència en anglès
A12: Curs | B12: Núm. assignatures | C12: Núm. total hores | D12: Núm. hores | E12: Núm. professors/es
C13: en assignatures | D13: en anglès
A14: 2019/2020 | B14: 16 | C14: 374 | D14: 325 | E14: 31
A15: 2020/2021 | B15: 16 | C15: 383 | D15: 321 | E15: 33
A16: 2021/2022 | B16: 18 | C16: 514 | D16: 311 | E16: 31
A17: 2022/2023 | B17: 18 | C17: 467 | D17: 376 | E17: 43
A18: 2023/2024 | B18: 20 | C18: 527 | D18: 383 | E18: 45
A19: 2024/2025 | B19: 21 | C19: 848 | D19: 486

Sheet PC02_Ind02. Ràtio programada 
B1: Torna a l'índex
B3: #VALUE! | E3: Fitxa de seguiment de l'indicador
B5: 1. Codi del l'indicador | D5: =Índex!A28 -> PC02_Ind02. | F5: 2. Nom de l'indicador | H5: =Índex!B28 -> Ràtio programada de les titulacions de grau vs. ràtio teòrica
B6: 3. Objectiu | D6: =Índex!E28 -> Ràtio de 13 | F6: 4. Freqüència de la medició | H6: Anual
B7: 5. Propietat | D7: =Índex!C28 -> Vicedeganat d'Estudis i Programació | F7: 6. Responsabilitat | H7: =Índex!D28 -> Gestió de programació docent
B8: 7. Processos als que afecta | D8: =Índex!G28 -> PC02. Planificació i Programació docent de les assignatures. | F8: 8. Font obtenció de dades | H8: Dades extretes de l'aplicatiu TPD amb data 02/10/2025: https://sso.uab.cat/cas/login?service=https%3A%2F%2Ftpd.uab.cat%2Fj_spring_cas_security_check
A12: Ràtio programada de les titulacions de grau vs. ràtio teòrica
A13: Titulació | B13: 2019/2020 | D13: 2020/2021 | F13: 2021/2022 | H13: 2022/2023 | J13: 2023/2024 | L13: 2024/2025
A14: Ràtio | B14: Teòrica | C14: Programada | D14: Teòrica | E14: Programada | F14: Teòrica | G14: Programada | H14: Teòrica | I14: Programada | J14: Teòrica | K14: Programada | L14: Teòrica | M14: Programada
A15: Biologia | B15: 14.72 | C15: 13.57 | D15: 14.09 | E15: 14.2 | F15: 13.95 | G15: 13.76 | H15: 13.09 | I15: 13.47 | J15: 13.74 | K15: 13.77 | L15: 13.89 | M15: 13.95
A16: Biologia Ambiental | B16: 12.45 | C16: 12.11 | D16: 11.87 | E16: 11.5 | F16: 12.04 | G16: 12.24 | H16: 11.62 | I16: 11.63 | J16: 11.86 | K16: 12.3 | L16: 12.34 | M16: 12.72
A17: Bioquímica | B17: 13.89 | C17: 13.54 | D17: 13.03 | E17: 12.54 | F17: 12.76 | G17: 13.18 | H17: 12.37 | I17: 12.98 | J17: 12.44 | K17: 13.01 | L17: 13.06 | M17: 13.27
A18: Biotecnologia | B18: 13.74 | C18: 13.32 | D18: 13.31 | E18: 13.64 | F18: 13.31 | G18: 13.64 | H18: 13.34 | I18: 13.03 | J18: 13.15 | K18: 13.12 | L18: 13.84 | M18: 14.34
A19: Ciències Biomèdiques | B19: 10.77 | C19: 11.01 | D19: 10.14 | E19: 11.1 | F19: 10.86 | G19: 12.2 | H19: 11.19 | I19: 11.99 | J19: 11.5 | K19: 12.37 | L19: 11.89 | M19: 13.48
A20: Genètica | B20: 13.52 | C20: 13.42 | D20: 12.55 | E20: 13.08 | F20: 12.56 | G20: 12.88 | H20: 12.29 | I20: 13.18 | J20: 12.57 | K20: 13.49 | L20: 12.78 | M20: 13.41
A21: Microbiologia | B21: 13.33 | C21: 12.51 | D21: 12.52 | E21: 16.34 | F21: 12.93 | G21: 12.66 | H21: 12.87 | I21: 13.5 | J21: 12.47 | K21: 12.87 | L21: 12.57 | M21: 13.19
A22: Mitjana Facultat | C22: 12.78 | E22: 13.2 | G22: 12.93 | I22: 12.83 | K22: 12.99 | M22: =AVERAGE(M15:M21) -> 13.48

Sheet PC02_Ind03. Valoració mitjana
B1: Torna a l'índex
B3: #VALUE! | E3: Fitxa de seguiment de l'indicador
B5: 1. Codi del l'indicador | D5: =Índex!A29 -> PC02_Ind03. | F5: 2. Nom de l'indicador | H5: =Índex!B29 -> Valoració mitjana a l’afirmació “Fins ara s’ha seguit la programació de l’assignatura que s’explica a la guia docent dels Graus”(Enquesta assignatura/mòdul)
B6: 3. Objectiu | D6: =Índex!E29 -> ≥ Mitjana UAB | F6: 4. Freqüència de la medició | H6: Anual
B7: 5. Propietat | D7: =Índex!C29 -> Vicedeganat d'Estudis i Programació | F7: 6. Responsabilitat | H7: =Índex!D29 -> Gestió de qualitat
B8: 7. Processos als que afecta | D8: =Índex!G29 -> PC02. Planificació i Programació docent de les assignatures. | F8: 8. Font obtenció de dades | H8: Dades extretes de les enquestes d'avaluació de les assignatures de grau i de màster amb data 02/10/2025: https://www.uab.cat/web/estudiar/qualitat-docent/avaluacio-de-les-assignatures/moduls-de-grau-i-master-universitari-1345665543141.html
A12: Valoració mitjana a l’afirmació “Fins ara s’ha seguit la programació de l’assignatura que s’explica a la guia docent dels Graus”
A13: Curs acadèmic | B13: Primer semestre | D13: Segon semestre
B14: Valoració/4 | C14: Índex participació | D14: Valoració/4 | E14: Índex participació
A15: 2019/2020 | B15: 3.55 | C15: 0.3198 | D15: Sense dades | E15: Sense dades
A16: 2020/2021 | B16: 3.58 | C16: 0.3153 | D16: 3.38 | E16: 0.1744
A17: 2021/2022 | B17: 3.61 | C17: 0.1868 | D17: 3.57 | E17: 0.1764
A18: 2022/2023 | B18: 3.63 | C18: 0.3255 | D18: 3.64 | E18: 0.1992
A19: 2023/2024 | B19: 3.66 | C19: 0.302 | D19: 3.65 | E19: 0.2601
A20: 2024/2025 | B20: 3.62 | C20: 0.3342 | D20: 3.74 | E20: 0.2815
A23: Valoració mitjana a l’afirmació “Fins ara s’ha seguit la programació de l’assignatura que s’explica a la guia docent dels Graus”
A24: Semestre | B24: Grau | C24: 2019/2020 | D24: 2020/2021 | E24: 2021/2022 | F24: 2022/2023 | G24: 2023/2024 | H24: 2024/2025
A25: Primer Semestre | B25: Biologia | C25: 3.51 | D25: 3.63 | E25: 3.57 | F25: 3.7 | G25: 3.74 | H25: 3.68
B26: Biologia Ambiental | C26: 3.64 | D26: 3.52 | E26: 3.74 | F26: 3.7 | G26: 3.67 | H26: 3.69
B27: Bioquímica | C27: 3.52 | D27: 3.61 | E27: 3.57 | F27: 3.58 | G27: 3.6 | H27: 3.57
B28: Biotecnologia | C28: 3.52 | D28: 3.53 | E28: 3.63 | F28: 3.39 | G28: 3.49 | H28: 3.54
B29: Ciències Biomèdiques | C29: 3.5 | D29: 3.58 | E29: 3.38 | F29: 3.73 | G29: 3.5 | H29: 3.66
B30: Genètica | C30: 3.65 | D30: 3.6 | E30: 3.71 | F30: 3.73 | G30: 3.85 | H30: 3.67
B31: Microbiologia | C31: 3.48 | D31: 3.61 | E31: 3.64 | F31: 3.61 | G31: 3.72 | H31: 3.62
B32: Graus Biociències | C32: 3.55 | D32: 3.58 | E32: 3.61 | F32: 3.63 | G32: 3.66 | H32: 3.62
B33: Graus UAB | C33: 3.42 | D33: 3.46 | E33: 3.5 | F33: 3.52 | G33: 3.53 | H33: 3.52
A34: Segon Semestre | B34: Biologia | E34: 3.33 | F34: 3.54 | G34: 3.59 | H34: 3.72
B35: Biologia Ambiental | E35: 3.62 | F35: 3.71 | G35: 3.64 | H35: 3.68
B36: Bioquímica | E36: 3.73 | F36: 3.56 | G36: 3.6 | H36: 3.74
B37: Biotecnologia | E37: 3.75 | F37: 3.71 | G37: 3.71 | H37: 3.73
B38: Ciències Biomèdiques | E38: 3.55 | F38: 3.64 | G38: 3.62 | H38: 3.76
B39: Genètica | E39: 3.43 | F39: 3.59 | G39: 3.74 | H39: 3.73
B40: Microbiologia | E40: 3.56 | F40: 3.73 | G40: 3.73 | H40: 3.8
B41: Graus Biociències | E41: 3.57 | F41: 3.64 | G41: 3.65 | H41: 3.74
B42: Graus UAB | E42: 3.51 | F42: 3.52 | G42: 3.53 | H42: 3.52

Sheet PC02_Ind04. Valoració mitjana
B1: Torna a l'índex
B3: #VALUE! | E3: Fitxa de seguiment de l'indicador
B5: 1. Codi del l'indicador | D5: =Índex!A30 -> PC02_Ind04. | F5: 2. Nom de l'indicador | H5: =Índex!B30 -> Valoració mitjana a l’afirmació “Fins ara s’ha seguit la programació de l’assignatura que s’explica a la guia docent dels Màsters” (Enquesta assignatura/mòdul)
B6: 3. Objectiu | D6: =Índex!E30 -> ≥ Mitjana UAB | F6: 4. Freqüència de la medició | H6: Anual
B7: 5. Propietat | D7: =Índex!C30 -> Vicedeganat d'Estudis i Programació | F7: 6. Responsabilitat | H7: =Índex!D30 -> Gestió de qualitat
