Workbook
Name index: Índex!$B$57:$B$77
Name index: #REF!
Name indicadors: Índex!$B$8:$B$77
Name indicadors: #REF!
Name Indivadors2: Índex!$B$8:$B$106
Name Indivadors2: #REF!
Name PE01_Ind01: Índex!$B$8
Name PE01_Ind01: #REF!
Name PS01b_Ind01: #REF!

Sheet Índex
B2: Facultat de Filosofia i Lletres | D2: Catàleg d'Indicadors del SGIQ de la Facultat de Filosofia i Lletres (UAB)
B6: Codi SGIQ | C6: Nom | D6: Responsable del procés | E6: Responsable de la gestió | F6: Fita | G6: Processos vinculats | H6: Indicador Estratègic | I6: Classificació per objecte d'anàlisi | J6: Observacions
B7: PE01_Ind01 (PE 2021-24) | C7: ='PE01_Ind01 PE2021-24'!H4 -> Grau d’assoliment dels objectius de Qualitat docent de la Facultat de Filosofia i Lletres | D7: ='PE01_Ind01 PE2021-24'!D7 -> Degà o Degana | E7: ='PE01_Ind01 PE2021-24'!H7 -> Gestor/a de Qualitat | F7: ='PE01_Ind01 PE2021-24'!D5 -> Assolir o millorar el 80% o més dels indicadors estratègics del quadre de comandament | G7: ='PE01_Ind01 PE2021-24'!D8 -> PE01. Definició de la política. objectius de Qualitat i retiment de comptes | H7: ESTRATÈGIC | I7: Indicador d'Avaluació de Procediments | J7: ='PE01_Ind01 PE2021-24'!B13 -> Pla Estratègic de la Facultat de Filosofia i Lletres 2021-2024
B8: PE01_Ind01 (PE 2024-30) | C8: ='PE01_Ind01 PE2021-24'!H4 -> Grau d’assoliment dels objectius de Qualitat docent de la Facultat de Filosofia i Lletres | D8: ='PE01_Ind01 PE2021-24'!D7 -> Degà o Degana | E8: ='PE01_Ind01 PE2021-24'!H7 -> Gestor/a de Qualitat | F8: ='PE01_Ind01 PE2021-24'!D5 -> Assolir o millorar el 80% o més dels indicadors estratègics del quadre de comandament | G8: ='PE01_Ind01 PE2021-24'!D8 -> PE01. Definició de la política. objectius de Qualitat i retiment de comptes | H8: ESTRATÈGIC | I8: Indicador d'Avaluació de Procediments | J8: ='PE01_Ind01 PE2024-30'!B13 -> Pla Estratègic de la Facultat de Filosofia i Lletres 2024-2030
B9: PE02_Ind01 | C9: =PE02_Ind01!H4 -> Nombre i estat de les millores del Pla de Millores segons origen | D9: =PE02_Ind01!D7 -> Vicedegà/ana de Qualitat i Pla Estratègic i coordinador del SGIQ | E9: =PE02_Ind01!H7 -> Gestor/a de Qualitat | F9: =PE02_Ind01!D5 -> Resoldre el 90% o més de les propostes de millora en un màxim de 3 anys | G9: =PE02_Ind01!D8 -> PE02. Definició. Desplegament i Seguiment del Sistema de Garantia Interna de Qualitat (SGIQ) | H9: ESTRATÈGIC | I9: Indicador d'Avaluació de Procediments
B10: PE03_Ind03 | C10: =PE03_Ind03!H4 -> Nombre de propostes de noves titulacions verificades respecte de les proposades | D10: =PE03_Ind08!D7 -> Degà o Degana | E10: =PE03_Ind03!H7 -> Gestor/a de Qualitat | F10: =PE03_Ind03!D5 -> Assolir el 100% de noves titulacions verificades respecte de les proposades. en 1a o ss. Avaluacions | G10: =PE03_Ind03!D8 -> PE03. Disseny. Creació i Extinció de titulacions. Mapa de titulacions | H10: ESTRATÈGIC | I10: Indicador d'Avaluació de Procediments
B11: PE03_Ind08 | C11: =PE03_Ind08!H4 -> Nombre de titulacions interfacultatives (amb l'any d'implementació) i/o interuniversitàries | D11: =PE03_Ind08!D7 -> Degà o Degana | E11: =PE03_Ind08!H7 -> Gestor/a de Qualitat | F11: =PE03_Ind08!D5 -> Mantenir l'oferta de titulacions interfacultatives i interuniversitàries | G11: =PE03_Ind08!D8 -> PE03. Disseny. Creació i Extinció de titulacions. Mapa de titulacions | I11: Indicador de Seguiment de Resultats
B12: PE04_Ind01 | C12: =PE04_Ind01!H4 -> Hores HIDA impartides als graus per professorat amb titulació de doctor | D12: =PE04_Ind01!D7 -> Degà o Degana | E12: =PE04_Ind01!H7 -> Gestor/a de Qualitat | F12: =PE04_Ind01!D5 -> Mantenir o superar el nivell 80% i sempre per sobre del 50% establert al RD 640/2021 | G12: =PE04_Ind01!D8 -> PE04. Política i Gestió del PDI | I12: Indicador de Seguiment de Resultats
B13: PE04_Ind02 | C13: =PE04_Ind02!H4 -> Hores HIDA impartides als graus per categoria laboral de professorat | D13: =PE04_Ind02!D7 -> Degà o Degana | E13: =PE04_Ind02!H7 -> Gestor/a de Qualitat | F13: =PE04_Ind02!D5 -> Assolir ≥ 60% PDI permanent+lector i progressar fins al 65% | G13: =PE04_Ind02!D8 -> PE04. Política i Gestió del PDI | I13: Indicador de Seguiment de Resultats
B14: PE04_Ind03 | C14: =PE04_Ind03!H4 -> Participació del professorat en cursos de formació per a personal docent de la UAB | D14: =PE04_Ind03!D7 -> Degà o Degana | E14: =PE04_Ind03!H7 -> Gestor/a de Qualitat | F14: =PE04_Ind03!D5 -> Assolir una ratio participacions/professorat superior a 3 | G14: =PE04_Ind03!D8 -> PE04. Política i Gestió del PDI | I14: Indicador d'Avaluació de Procediments
B15: PE04_Ind08 | C15: =PE04_Ind08!H4 -> Percentatge de professorat avaluat favorablement en relació al total d’avaluats | D15: =PE04_Ind08!D7 -> Degà o Degana | E15: =PE04_Ind08!H7 -> Secretaria de Deganat | F15: =PE04_Ind08!D5 -> Incrementar fins al 100% d'avaluats favorablement. mantenint una proporció superior al 90% | G15: =PE04_Ind08!D8 -> PE04. Política i Gestió del PDI | H15: ESTRATÈGIC | I15: Indicador d'Avaluació de Procediments
B16: PE04_Ind09 | C16: =PE04_Ind09!G4 -> Percentatge de professorat amb qualificació A a tots els indicadors avaluats i amb qualificació A en quatre dels cinc ítems | D16: =PE04_Ind09!D7 -> Degà o Degana | E16: =PE04_Ind09!G7 -> Gestor/a de Qualitat | F16: =PE04_Ind09!D5 -> Mantenir valors iguals o superiors UAB | G16: =PE04_Ind09!D8 -> PE04. Política i Gestió del PDI | I16: Indicador d'Avaluació de Procediments
B17: PE04_Ind10 | C17: =PE04_Ind10!H4 -> Nombre i percentatge de professorat dels departaments adscrits a la Facultat amb tram viu de docència | D17: =PE04_Ind10!D7 -> Degà o Degana | E17: =PE04_Ind10!H7 -> Secretaria de Deganat | F17: =PE04_Ind10!D5 -> Mantenir la proporció sobre del 80% del professor permanent + lectors | G17: =PE04_Ind10!D8 -> PE04. Política i Gestió del PDI | I17: Indicador d'Avaluació de Procediments
B18: PE04_Ind12 | C18: =PE04_Ind12!H4 -> Hores HIDA de professorat permanent a primer curs de grau | D18: =PE04_Ind12!D7 -> Degà o Degana | E18: =PE04_Ind12!H7 -> Gestor/a de Qualitat | F18: =PE04_Ind12!D5 -> Objectiu ideal: 70%. Objectiu operatiu a curt i mig termini: Aconseguir que totes les titulacions assoleixin almenys el 50% de PDI permanent a curt termini. i progressar cap al 60% com a fita d’excel·lència. | G18: =PE04_Ind12!D8 -> PE04. Política i Gestió del PDI | I18: Indicador de Seguiment de Resultats
B19: PE04_Ind13 | C19: =PE04_Ind13!H4 -> Distribució relativa i dinàmica temporal del professorat per gènere segons categoria | D19: =PE04_Ind13!D7 -> Degà o Degana | E19: =PE04_Ind13!H7 -> Gestor/a de Qualitat | F19: =PE04_Ind13!D5 -> Mantenir el percentatge de dones en el PDI permanent+lector dins la franja 40–50%. com a mínim | G19: =PE04_Ind13!D8 -> PE04. Política i Gestió del PDI | I19: Indicador d'Avaluació de Procediments
B20: PE05_Ind02 | C20: Percentatge de mesures correctores executades derivades de les avaluacions de riscos laborals | D20: =PE05_Ind02!D7 -> Administrador o administradora de Centre | E20: =PE05_Ind02!H7 -> Administrador o administradora de Centre | F20: =PE05_Ind02!D5 -> Mantenir el nivell 80% | G20: =PE05_Ind02!D8 -> PE05. Política i gestió del PTGAS | H20: ESTRATÈGIC | I20: Indicador d'Avaluació de Procediments
B21: PE05_Ind03 | C21: =PE05_Ind03!H4 -> Nombre d'hores de formació rebudes pel PTGAS de la Facultat | D21: =PE05_Ind03!D7 -> Administador o Administradora de Centre | E21: =PE05_Ind03!H7 -> Administador o Administradora de Centre | F21: =PE05_Ind03!D5 -> Mantenir per sobre de 5000 hores i 500 participacions | G21: =PE05_Ind03!D8 -> PE05. Política i gestió del PTGAS | I21: Indicador d'Avaluació de Procediments
B22: PC01_Ind01 | C22: =PC01_Ind01!H4 -> Via d'Accés de l'Alumnat de grau | D22: =PC01_Ind01!D7 -> Vicedegà/ana de Qualitat i Pla Estratègic i coordinador del SGIQ | E22: =PC01_Ind01!H7 -> Gestor/a de Qualitat | F22: =PC01_Ind01!D5 -> Mantenir l'alumnat que prové de les PAU per sobre del 70 % | G22: =PC01_Ind01!D8 -> PC01. Definició de perfils d'ingrés. graduació i accés als estudis | I22: Indicador d'Avaluació de Procediments
B23: PC01_Ind02a | C23: =PC01_Ind02a!H4 -> Nombre de màsters que superen els 20 estudiants de nou accés | D23: =PC01_Ind02a!D7 -> Vicedegà/ana de Qualitat i Pla Estratègic i coordinador del SGIQ | E23: =PC01_Ind02a!H7 -> Gestor/a de Qualitat | F23: =PC01_Ind02a!D5 -> Incrementar fins al 80 % els màster eficients > 20 alumnes. Superar 20 persones en la mitjana d'entrada per màster | G23: =PC01_Ind02a!D8 -> PC01. Definició de perfils d'ingrés. graduació i accés als estudis | I23: Indicador d'Avaluació de Procediments
B24: PC01_Ind02e | C24: =PC01_Ind02e!H4 -> Percentatge d’admesos als màsters sobre sol·licituds rebudes | D24: =PC01_Ind02e!D7 -> Vicedegà/ana de Qualitat i Pla Estratègic i coordinador del SGIQ | E24: =PC01_Ind02e!H7 -> Gestor/a de Qualitat | F24: =PC01_Ind02e!D5 -> Mantenir valor mínim 65% | G24: =PC01_Ind02e!D8 -> PC01. Definició de perfils d'ingrés. graduació i accés als estudis | I24: Indicador d'Avaluació de Procediments
B25: PC01_Ind03b | C25: =PC01_Ind03b!H4 -> Percentatge d’estudiants matriculats en primera preferència | D25: =PC01_Ind03b!D7 -> Vicedegà/ana de Qualitat i Pla Estratègic i coordinador del SGIQ | E25: =PC01_Ind03b!H7 -> Gestor/a de Qualitat | F25: =PC01_Ind03b!D5 -> Mantenir per sobre del 85 % la matrícula en primera opció de les titulacions de grau | G25: =PC01_Ind03b!D8 -> PC01. Definició de perfils d'ingrés. graduació i accés als estudis | I25: Indicador d'Avaluació de Procediments
B26: PC01_Ind05 | C26: =PC01_Ind05!H4 -> Satisfacció sobre si la formació rebuda m’ha permès millorar les competències personals (Enquesta de satisfacció dels graduats i graduades) | D26: =PC01_Ind05!D7 -> Vicedegà/ana de Qualitat i Pla Estratègic i coordinador del SGIQ | E26: =PC01_Ind05!H7 -> Gestor/a de Qualitat | F26: =PC01_Ind05!D5 -> Valor referència: >3.75. Evolució positiva >3.55. Seguiment: >3.4. Negatiu: <3.4 | G26: =PC01_Ind05!D8 -> PC01. Definició de perfils d'ingrés. graduació i accés als estudis | I26: Indicador d'Avaluació de Procediments | J26: A partir 23/24 agafem dades satisfacció titulació
B27: PC01_Ind06 | C27: =PC01_Ind06!H4 -> Satisfacció sobre si la formació rebuda m’ha permès millorar les capacitats per a l’activitat professional (Enquesta de satisfacció dels graduats i graduades) | D27: =PC01_Ind06!D7 -> Vicedegà/ana de Qualitat i Pla Estratègic i coordinador del SGIQ | E27: =PC01_Ind06!H7 -> Gestor/a de Qualitat | F27: =PC01_Ind06!D5 -> Valor referència: >3.75. Seguiment: 3.4-3.75. Valor negatiu: <3.4 | G27: =PC01_Ind06!D8 -> PC01. Definició de perfils d'ingrés. graduació i accés als estudis | I27: Indicador d'Avaluació de Procediments
B28: PC01_Ind07 | C28: =PC01_Ind07!G4 -> Distribució per gènere dels estudiants totals i de nou ingrés de graus i màsters (pes dones) | D28: =PC01_Ind07!C7 -> Vicedegà/ana de Qualitat i Pla Estratègic i coordinador del SGIQ | E28: =PC01_Ind07!G7 -> Gestor/a de Qualitat | F28: =PC01_Ind07!C5 -> Reduir les titulacions amb desequilibri de gènere (>75%) per sota del 30% del total | G28: =PC01_Ind07!C8 -> PC01. Definició de perfils d'ingrés. graduació i accés als estudis | I28: Indicador d'Avaluació de Procediments
B29: PC01_Ind08 | C29: =PC01_Ind08!H4 -> Taxa de graduació per gènere dels graus | D29: =PC01_Ind08!D7 -> Vicedegà/ana de Qualitat i Pla Estratègic i coordinador del SGIQ | E29: =PC01_Ind08!H7 -> Gestor/a de Qualitat | F29: =PC01_Ind08!D5 -> Reduir la diferència de la taxa de graduació entre dones i homes per sota de 5 punts percentuals | G29: =PC01_Ind08!D8 -> PC01. Definició de perfils d'ingrés. graduació i accés als estudis | I29: Indicador de Seguiment de Resultats
B30: PC01_Ind09 | C30: =PC01_Ind09!H4 -> Perfil d'accés a grau: Nota de tall i nota mitjana | D30: =PC01_Ind09!D7 -> Vicedegà/ana de Qualitat i Pla Estratègic i coordinador del SGIQ | E30: =PC01_Ind09!H7 -> Gestor/a de Qualitat | F30: =PC01_Ind09!D5 -> Superar 8 de nota mitjana dels estudiants que accedeixen i no baixar de 7.25 (mitjana SUC) | G30: =PC01_Ind09!D8 -> PC01. Definició de perfils d'ingrés. graduació i accés als estudis | I30: Indicador de Seguiment de Resultats
B31: PC02a_Ind01 | C31: =PC02a_Ind01!H4 -> Percentatge d’ocupació de l’aulari per franges horàries | D31: =PC02a_Ind01!D7 -> Vicedegà/ana d’Estudis de Grau i d’Innovació Docent | E31: =PC02a_Ind01!H7 -> Gestió Acadèmica (Programació Docent) | F31: =PC02a_Ind01!D5 -> Assolir de manera estable: Ocup.mitj: 70-80%. cap franja >85% | G31: =PC02a_Ind01!D8 -> PC02a Programació docent de les assignatures | I31: Indicador d'Avaluació de Procediments
B32: PC02a_Ind03 | C32: =PC02a_Ind03!H4 -> Ràtio programada de les titulacions de grau vs, Ràtio teòrica | D32: =PC02a_Ind03!D7 -> Vicedegà/ana d’Estudis de Grau i d’Innovació Docent | E32: =PC02a_Ind03!H7 -> Gestió acadèmica (programació docent) | F32: =PC02a_Ind03!D5 -> Mantenir la ràtio programada mitjana de la FFiL en un interval sostenible entre 14-15 | G32: =PC02a_Ind03!D8 -> PC02a Programació docent de les assignatures | I32: Indicador d'Avaluació de Procediments
B33: PC02a_Ind04 | C33: =PC02a_Ind04!H4 -> Nombre d’assignatures que imparteixen docència en anglès, per titulacions | D33: =PC02a_Ind04!D7 -> Vicedegà/ana d’Estudis de Grau i d’Innovació Docent | E33: =PC02a_Ind04!H7 -> Gestor programació docent | F33: =PC02a_Ind04!D5 -> Mantenir una xifra igual o superior a 5 | G33: =PC02a_Ind04!D8 -> PC02a Programació docent de les assignatures | I33: Indicador d'Avaluació de Procediments
B34: PC02b_Ind01 | C34: =PC02b_Ind01!H4 -> Nombre i percentatge (respecte al total d’assignatures programades dels estudis) de guies docents fetes públiques | D34: =PC02b_Ind01!D7 -> Vicedegà/ana d’Estudis de Postgrau i responsable de Política Lingüística | E34: =PC02b_Ind01!H7 -> Gestor/a de Qualitat | F34: =PC02b_Ind01!D5 -> Publicació 100 % guies docents. mantenint sempre l'indicador per sobre 90% | G34: =PC02b_Ind01!D8 -> PC02b. Gestió de les guies docents | I34: Indicador d'Avaluació de Procediments
B35: PC02b_Ind02 | C35: =PC02b_Ind02!H4 -> Nombre d’estudis que inclouen la perspectiva de gènere en els resultats d’aprenentatge | D35: =PC02b_Ind02!D7 -> Vicedegà/ana d’Estudis de Postgrau i responsable de Política Lingüística | E35: =PC02b_Ind02!H7 -> Gestor/a de Qualitat | F35: =PC02b_Ind02!D5 -> Assolir 100% de titulacions amb perspectiva de gènere en els RAs | G35: =PC02b_Ind02!D8 -> PC02b. Gestió de les guies docents | I35: Indicador d'Avaluació de Procediments
B36: PC03a_Ind01 | C36: =PC03a_Ind01!H4 -> Nombre i percentatge de titulacions que ofereixen una assignatura de PE, caràcter (OB o OT) de l’assignatura i nombre de crèdits | D36: =PC03a_Ind01!D7 -> Vicedegà/ana d’Ocupabilitat. Mobilitat Internacional i Cultura | E36: =PC03a_Ind01!H7 -> Gestor/a de Qualitat | F36: =PC03a_Ind01!D5 -> 100% en el cas de graus. Màsters: Incorporar assign. PE sempre que sigui factible | G36: =PC03a_Ind01!D8 -> Procés PC03a. Gestió de les pràctiques | H36: ESTRATÈGIC | I36: Indicador d'Avaluació de Procediments
B37: PC03a_Ind02 | C37: =PC03a_Ind02!H4 -> Nombre d’alumnes de Grau matriculats en pràctiques del total d’estudiants que arriben al final dels estudis | D37: =PC03a_Ind02!D7 -> Vicedegà/ana d’Ocupabilitat. Mobilitat Internacional i Cultura | E37: =PC03a_Ind02!H7 -> Gestor/a de Qualitat | F37: =PC03a_Ind02!D5 -> Incrementar fins el 40 % de l'alumnat candidat a les PE i no baixar del 35% en l'agregat | G37: =PC03a_Ind02!D8 -> Procés PC03a. Gestió de les pràctiques | H37: ESTRATÈGIC | I37: Indicador de Seguiment de Resultats
B38: PC03a_Ind04 | C38: =PC03a_Ind04!G4 -> Nombre i percentatge d’alumnes matriculats en pràctiques OT de màster | D38: =PC03a_Ind04!C7 -> Vicedegà/ana d’Ocupabilitat. Mobilitat Internacional i Cultura | E38: =PC03a_Ind04!G7 -> Gestor/a de Qualitat | F38: =PC03a_Ind04!C5 -> Consolidar un 65% de matriculació a les PEXT optatives i no baixar del 50% | G38: =PC03a_Ind04!C8 -> Procés PC03a. Gestió de les pràctiques | H38: ESTRATÈGIC | I38: Indicador de Seguiment de Resultats
B39: PC03a_Ind05 | C39: =PC03a_Ind05!J4 -> Grau de satisfacció de les persones titulades sobre “si les pràctiques externes m’han permès aplicar els coneixements adquirits durant la titulació” | D39: =PC03a_Ind05!D7 -> Vicedegà/ana d’Ocupabilitat. Mobilitat Internacional i Cultura | E39: =PC03a_Ind05!J7 -> Gestor/a de Qualitat | F39: =PC03a_Ind05!D5 -> Valor referència: >3.75. Evolució positiva >3.55. Seguiment: >3.4. Negatiu: <3.4 | G39: =PC03a_Ind05!D8 -> Procés PC03a. Gestió de les pràctiques | I39: Indicador d'Avaluació de Procediments
B40: PC03b_Ind01 | C40: =PC03b_Ind01!J4 -> Grau de satisfacció de les persones titulades que han realitzat el TFE | D40: =PC03b_Ind01!D7 -> Vicedegà/ana d’Estudis de Grau i d’Innovació Docent | E40: =PC03b_Ind01!J7 -> Gestor/a de Qualitat | F40: =PC03b_Ind01!D5 -> Valor correcte: >3.75. Seguiment: 3.4-3.75. Valor negatiu: <3.4 | G40: =PC03b_Ind01!D8 -> PC03b. Gestió dels treballs de finals d'estudis (TFE) | I40: Indicador d'Avaluació de Procediments
B41: PC03b_Ind02 | C41: =PC03b_Ind02!H4 -> Nombre de titulacions que disposen de rúbriques de TFE | D41: =PC03b_Ind02!D7 -> Vicedegà/ana d’Estudis de Grau i d’Innovació Docent | E41: =PC03b_Ind02!H7 -> Gestor/a de Qualitat | F41: =PC03b_Ind02!D5 -> Objectiu 100% | G41: =PC03b_Ind02!D8 -> PC03b. Gestió dels treballs de finals d'estudis (TFE) | I41: Indicador d'Avaluació de Procediments
B42: PC03b_Ind03 | C42: =PC03b_Ind03!H4 -> Nombre de titulacions que publiquen els TFE al DDD | D42: =PC03b_Ind03!D7 -> Vicedegà/ana d’Estudis de Grau i d’Innovació Docent | E42: =PC03b_Ind03!H7 -> Gestor/a de Qualitat | F42: =PC03b_Ind03!D5 -> Assolir el 100% de titulacions que publiquen TFE al DDD | G42: =PC03b_Ind03!D8 -> PC03b. Gestió dels treballs de finals d'estudis (TFE) | I42: Indicador d'Avaluació de Procediments
B43: PC03b_Ind04 | C43: =PC03b_Ind04!H4 -> Taxes de rendiment i d'èxit dels TFE | D43: =PC03b_Ind04!D7 -> Vicedegà/ana d’Estudis de Grau i d’Innovació Docent | E43: =PC03b_Ind04!H7 -> Gestor/a de Qualitat | F43: =PC03b_Ind04!D5 -> Mantenir una taxa de rendiment ≥85% i una taxa d’èxit ≥90% en els TFE dels graus .I una taxa de rendiment ≥90% i una taxa d’èxit ≥95% en els TFE dels màsters | G43: =PC03b_Ind04!D8 -> PC03b. Gestió dels treballs de finals d'estudis (TFE) | I43: Indicador de Seguiment de Resultats
B44: PC03b_Ind05 | C44: =PC03b_Ind05!H4 -> Nombre de TFE amb sistema ApS | D44: =PC03b_Ind05!D7 -> Vicedegà/ana d’Estudis de Grau i d’Innovació Docent | E44: =PC03b_Ind05!H7 -> Gestor/a de Qualitat | F44: =PC03b_Ind05!D5 -> Incrementar la xifra de TFE amb sistema ApS. mantenint la xifra en 5 o més anualment | G44: =PC03b_Ind05!D8 -> PC03b Gestió dels treballs de finals d'estudis (TFE) | H44: ESTRATÈGIC | I44: Indicador de Seguiment de Resultats
...

Sheet PE01_Ind01 PE2021-24
B2: Facultat de Filosofia i Lletres | E2: Fitxa de seguiment de l'indicador
B4: 1. Codi del l'indicador | D4: PE01_Ind01 | F4: 2. Nom de l'indicador | H4: Grau d’assoliment dels objectius de Qualitat docent de la Facultat de Filosofia i Lletres
B5: 3. Fita | D5: Assolir o millorar el 80% o més dels indicadors estratègics del quadre de comandament | F5: 4. Classificació | H5: Indicador estratègic Indicador d'avaluació de procediments
B6: 5. Càlcul de l'indicador | D6: Pla Estratègic 2021-2024 | F6: 6. Freqüència de la medició | H6: Anual
B7: 7. Responsable del procés | D7: Degà o Degana | F7: 8. Responsable de la gestió | H7: Gestor/a de Qualitat
B8: 9. Processos als que afecta | D8: PE01. Definició de la política. objectius de Qualitat i retiment de comptes | F8: 10. Font obtenció de dades | H8: Gestió de Qualitat
B10: 11. Resultats
B11: SEGUIMENT FITA: Assolir o millora positiva 80% de les fites | H11: Grau de compliment: Assolida (82,8%)
B13: Pla Estratègic de la Facultat de Filosofia i Lletres 2021-2024
B18: QUADRE DE COMANDAMENT
B19: OBJECTIUS ESTRATÈGICS | C19: ACCIONS | D19: INDICADORS ESTRATÈGICS | E19: FITES D'AVALUACIÓ | F19: 2022-2023 | H19: Compliment 2022-23 | I19: 2023-24 | K19: Compliment 2023-24
B21: O1,1 Consolidació de l’oferta de titulacions | C21: A,1,1,1, Reverificar i modificar els graus i els màsters en què es detecti la necessitat d’integrar el avenços acadèmics i facilitar la inserció laboral | D21: Nombre de propostes de noves titulacions verificades respecte de les proposades (PE03-IND03) | E21: Assolir el 100% de noves titulacions verificades respecte de les proposades | F21: 3 de 3 | H21: Assolit | I21: 2 de 4 | K21: En progrés
D22: Nombre de propostes de modificacions de les titulacions existents per origen iniciativa (PC08-IND03) | E22: Assolir el 100% de modificacions que s'originen en el procés de seguiment (PC07 i PC08) | F22: Grau: 5 Màster: 1 | H22: Assolit | I22: Grau: 1 Màster: 1 | K22: Assolit
D23: Percentatge d’estudiants matriculats en primera preferència (PC01-IND03b) | E23: Mantenir per sobre del 85% la matrícula en primera opció de les titulacions de grau | F23: 0.91 | H23: Assolit | I23: 0.89 | K23: Assolit
D24: Nombre de màsters que superen els 20 estudiants de nou accés (PC01-IND02a) | E24: Incrementar fins el 80% el nombre de màsters eficients | F24: 10/15: 67% | H24: No assolit | I24: 9/15: 60% | K24: No assolit
B25: O1,2 Garantir el bon funcionament del sistema de gestió de la qualitat docent | C25: A,1,2,1 Consolidar el seguiment del Quadre de Comandament del SGIQ | D25: Grau d’assoliment dels objectius de Qualitat docent de la Facultat de Filosofia i Lletres (PE01-IND01) | E25: Assolir o millorar el 80% o més dels indicadors estratègics del quadre de comandament | F25: 22/29=75,9% | H25: En progrés | I25: 25/29 = 86,2% | K25: Assolit
C26: A,1,2,4 Millorar l’actualització i el seguiment del Pla de Millores | D26: Nombre i estat de les millores del Pla de Millores segons origen (PE02-IND01) | E26: Assolir l'acompliment de les millores en els calendaris previstos | F26: Inici 2022-23 Desestimada 21% En procés 19% Finalitzada 60% | H26: En progrés | K26: En progrés | L26: ACTUALITZAR AL FINAL
B27: O1,3 Potenciar la qualitat i la innovació docent | C27: A,1,3,2, Intensificar les mesures per reduir la taxa d’abandonament i augmentar la taxa de graduació dels estudis | D27: Taxa de graduació de les titulacions de grau (PC07-IND07) i de màster (PC07-IND8)) | E27: Incrementar progressivament fins el 60% la taxa de graduació dels graus i fins al 95% la dels màsters | F27: Graus: 47% Màster: 82% | H27: En progrés | I27: Graus: 54% Màster: 85% | K27: En progrés
D28: Taxes d’abandonament per titulacions (criteri a 1 any) i mitjana del Centre (PC07-IND09) | E28: Reduir progressivament la mitjana de la taxa d'abandonament dels títols per ajustar-la a l'àmbit de les Humanitats i CCSS del SUC (o mitjana UAB) | F28: Agregat: 39% Mitjana: 41% | H28: En progrés | I28: Agregat: 38% Mitjana: 40% | K28: En progrés
D29: Proporció de professorat permanent i de HIDA a docència de primer curs de grau (PE04-IND12) | E29: Aconseguir que el 70% del professorat de primer curs sigui permanent a totes les titulacions | F29: 0.4058 | H29: No assolit | I29: 0.4722 | K29: No assolit
C30: A,1,3,3, Assegurar l’impacte del resultats de les enquestes en la proposta de millora de les titulacions | D30: Percentatge de participació, desglossat per enquesta i per titulació (PS04-IND01) | E30: Incrementar fins al 30% la participació de l’alumnat en les enquestes sobre l'activitat docent del professorat | F30: 1r sem:30% | H30: Assolit | I30: 1r sem:31% | K30: Assolit
F31: 2n sem: 26% | H31: En progrés | I31: 2n sem: 27% | K31: En progrés
C32: A,1,3,4, Millorar la gestió de les pràctiques externes i la inserció laboral | D32: Nombre de titulacions de grau i màster amb pràctiques externes OB i OT (PC03a-IND01) | E32: Assolir el 100% de noves titulacions verificades amb PEXT (**) | F32: 2 de 3 (66,6%, Màster en Filosofia de les Cures no té pràctiques) | H32: No assolit | I32: 2 de 2 (100%) | K32: Assolit
D33: Nombre i percentatge d’alumnes matriculats en pràctiques del total d’estudiants a 4rt de grau (PC03a- IND02) | E33: Incrementar progressivament fins el 50% de l'alumnat a les PEXT | F33: 279 (36%) | H33: En progrés | I33: 286 (37,3%) | K33: En progrés
D34: Nombre i percentatge d’alumnes matriculats en pràctiques OT de màster (PC03a-IND04) | E34: Incrementar progressivament fins el 75% de matriculats a les PEXT (*) | F34: 61/ 77% | H34: Assolit | I34: 65/ 57% | K34: Assolit
D35: Nombre de convenis totals i actius de col·laboració interuniversitària de mobilitat del Centre signats per països (PC06-IND06) | E35: Incrementar progressivament el nombre de convenis actius i països involucrats (**) | F35: Totals: 413 Utilitzats: 142 | H35: En progrés | I35: Totals; 420 Utilitzats: 130 | K35: En progrés
C36: A,1,3,6, Potenciar la mobilitat | D36: Nombre d’estudiants de grau outgoing (d’ara endavant, OUT) de la FFiL que participen en un programa de mobilitat, desglossat per titulació i programa (PC06-IND01) | E36: Incrementar progressivament fins al 25% l'alumnat que participi en programes de mobilitat-OUT | F36: 122 (15,80%) | H36: En progrés | I36: 110 (14,60%) | K36: En progrés
C37: A,1,3,7, Incentivar la innovació docent | D37: Percentatge de professorat presentat a la convocatòria de trams docents autonòmics en relació amb el professorat informat, per col·lectiu (PE04-IND07) | E37: Incrementar fins al 80% de professorat presentat a trams docents autonòmics en relació al professorat informat | F37: Assolit i suprimit de seguiment
D38: Nombre de professorat participant en cursos de formació per a personal docent de la UAB (PE04-IND03) | E38: Incrementar progressivament el professorat participant i mantenir més del 50% de la plantilla | F38: 424/ 83,79% | H38: Assolit | I38: 279/ 55,69% | K38: Assolit
B39: O1,4 Millorar les infraestructures de docència | C39: A,1,4,1, Millora dels recursos materials docents | D39: Nombre i pressupost de les actuacions en manteniment i millora dels espais i l’equipament docent (PS01a-IND02) | E39: Mantenir o incrementar el pressupost destinat a manteniment i millora dels espais i equipament | F39: 85163.96 | H39: Assolit | I39: 104517.78 | K39: Assolit
B40: O2,1 Orientació i foment de la cohesió dels col·lectius del Centre | C40: A,2,1,1, Millorar el coneixement i l’aprofitament de les accions del Pla d’Acció Tutorial | D40: Nombre de suggeriments, queixes i felicitacions, per tipus d’usuari i temes a través de l’aplicatiu OPINA (en relació amb el nombre rebut a la resta de Centres de la UAB) (PS03-IND02) | E40: Incrementar el nombre de comunicacions gestionades a través d'OPINA | F40: 19 (2,93%) | H40: Assolit | I40: 32 (5,43%) | K40: Assolit
C41: A,2,1,5, Proporcionar formació al professorat i PAS adequada a les seves necessitats docents | D41: Nombre d’hores de formació rebudes per PTGAS de la Facultat (PE05-IND03) | E41: Incrementar les actuacions de formació al PTGAS específiques per les necessitats de gestió de la Facultat | F41: 6079 hores/848 participants | H41: Assolit | I41: 5080 hores/669 participants | K41: Neutre
B42: O2,2 Desplegar i fer el seguiment a la Facultat de les accions del Pla d’Igualtat de la UAB | C42: A,2,2,3, Incorporar la perspectiva de gènere en el Sistema Intern de Garantia de Qualitat, | D42: Distribució per gènere de l’alumnat de nou ingrés de graus i màsters (PC01-IND07) | E42: Reduir els graus amb més d’un 75% de nous ingressos d’un mateix gènere | F42: Graus: 8 Màsters: 7 | H42: En progrés | I42: Graus: 11 Màsters: 4 | K42: En progrés
D43: Taxa de graduació per gènere (PC01-IND08) | E43: Equiparar progressivament per dalt les taxes de graduació per sexes de cada grau | F43: D: 47,7% H: 44% | H43: En progrés | I43: D: 55,9% H: 48,8% | K43: En progrés
D44: Distribució relativa per gènere de les persones que s'incorporen a categories estables de professorat (PE04-IND13) | E44: Assolir com a mínim un 50% de dones, per tal de corregir progressivament el dèficit acumulat | F44: 42% dones | H44: En progrés | I44: 43% dones | K44: En progrés
B45: O2,3 Dinamització cultural i relacions amb la societat | C45: A,2,3,1, Incentivar els projectes de dinamització cultural proposats per estudiants en col·laboració amb docents del Centre | D45: NOU INDICADOR: Nombre d'ajuts aprovats per a l'organització d'activitats culturals, seminaris o congressos amb incorporació d'alumnat o PAS (PS01b-IND06) | E45: Implementar l'indicador i iniciar comparacions entre titulacions, i Facultat amb UAB | F45: Indicador implementat, Primera convocatòria curs 2024-25
B46: O2,4 Potenciar la relació entre docència i recerca | C46: A,2,4,1, Incrementar el coneixement dels resultats dels Treballs de Fi d’Estudis (TFE) i de les Pràctiques Externes (PE) | D46: Nombre de titulacions que publiquen els TFE al DDD (PC03b-IND03) | E46: Assolir el 100% de titulacions que publiquen TFE al DDD | F46: Graus: 12 Màsters: 3 | H46: En progrés | I46: Graus: 12 Màsters: 4 | K46: En progrés
B47: O3,1 Afavorir la participació i cooperació entre els col·lectius de la Facultat | C47: A,3,1,2, Incentivar la participació de tots els col·lectius als òrgans de govern del Centre i a les comissions de docència b) Incrementar la participació de l'alumnat en el seguiment de les titulacions a través de les Comissions de Docència | D47: NOU INDICADOR: Proporció de reunions de Comissions de Docència amb participació d'alumnat (PC07-IND12) | E47: Assolir el 100% de Comissions de Docència de les titulacions amb participació d'alumnat | F47: Graus: 23/28 | H47: No assolit | I47: Graus: 36/36 | K47: Assolit
F48: Màsters: 11/19 | I48: Màsters: 10/14 | K48: En progrés
B49: O3,2 Enfortir els processos de gestió, la transparència i el retiment de comptes | C49: A,3,2,4, Vetllar pel correcte funcionament de les Comissions de Docència de les titulacions | D49: Nombre de reunions de les Comissions de Docència de les titulacions de grau i màster (PC07-IND11) | E49: Assolir una mitjana mínima de 2 reunions anuals | F49: Graus: 9/16 | H49: No assolit | I49: Graus: 11/16 | K49: No assolit
...

Sheet PE01_Ind01 PE2024-30
B2: Facultat de Filosofia i Lletres | E2: Fitxa de seguiment de l'indicador
B4: 1. Codi del l'indicador | D4: PE01_Ind01 | F4: 2. Nom de l'indicador | H4: Grau d’assoliment dels objectius de Qualitat docent de la Facultat de Filosofia i Lletres
B5: 3. Fita | D5: Assolir o millorar el 80% o més dels indicadors estratègics del quadre de comandament | F5: 4. Classificació | H5: Indicador estratègic Indicador d'avaluació de procediments
B6: 5. Càlcul de l'indicador | D6: Pla Estratègic 2024-2030 | F6: 6. Freqüència de la medició | H6: Anual
B7: 7. Responsable del procés | D7: Degà o Degana | F7: 8. Responsable de la gestió | H7: Gestor/a de Qualitat
B8: 9. Processos als que afecta | D8: PE01. Definició de la política. objectius de Qualitat i retiment de comptes | F8: 10. Font obtenció de dades | H8: Gestió de Qualitat
B10: 11. Resultats
B11: SEGUIMENT FITA: Assolir o millora positiva 80% de les fites | F11: Grau de compliment: Evolució positiva
B13: Pla Estratègic de la Facultat de Filosofia i Lletres 2024-2030
B18: QUADRE DE COMANDAMENT
B19: OBJECTIUS ESTRATÈGICS | C19: ACCIONS | D19: INDICADORS ESTRATÈGICS | E19: FITES D'AVALUACIÓ | F19: 2024-2025 | H19: Compliment
H20: 2024-25
B21: O1.1 Consolidació de l’oferta docent | C21: A.1.1.1 Reverificar o dur a terme modificacions substancials en les titulacions de grau que no hagin passat per aquests processos en el període 2018-2023. | D21: Propostes de titulacions aprovades per la Facultat, per la Comissió d'Afers Acadèmics i verificades per AQU/CU (PE03_Ind03) | E21: =PE03_Ind03!D5 -> Assolir el 100% de noves titulacions verificades respecte de les proposades. en 1a o ss. Avaluacions | F21: 2/2 | H21: Assolit
D22: Nombre de propostes de modificacions presentades i aprovades per AQU, desglossades per curs acadèmic per grau, màster universitari (PC08_Ind03) | E22: =PC08_Ind03!D5 -> Aconseguir l'aprovació d'AQU en el 100 % de les modificacions proposades | F22: 1/1 grau 1/1 màster | H22: Assolit
B27: O1.2 Afavorir la innovació docent. les metodologies d’aprenentatge actives i la millora en les adaptacions per a l’alumnat amb necessitats específiques | C27: A.1.2.1 Analitzar les causes del descens de l’assistència a classe. | D27: Taxes d'abandonament de primer curs per titulacions de grau (PC07_Ind10) | E27: =PC07_Ind10!D5 -> Reduir progressivament la mitjana de la taxa d'abandonament dels títols per ajustar-la a l'àmbit de les Humanitats i CCSS del SUC (o mitjana UAB aprx 20% 2019-22) | F27: =PC07_Ind10!H41 -> 0.234 | H27: Cal seguiment
C28: A.1.2.2 Promoure la implantació d'experiències d'aprenentatge basat en reptes (ABR). | D28: Nombre de TFE amb sistema ApS (PC03b_Ind05) | E28: =PC03b_Ind05!D5 -> Incrementar la xifra de TFE amb sistema ApS. mantenint la xifra en 5 o més anualment | F28: =PC03b_Ind05!E16 -> 5 | H28: En progrés
B29: O1.3 Garantir la qualitat docent | C29: A.1.3.4. Potenciar la millora de la qualitat docent a través de l’acció de les Comissions de Docència. | D29: Nombre de reunions de Comissions de Docència de les titulacions de grau i màster (PC07_Ind11) | E29: =PC07_Ind11!D5 -> Assolir un mínim de 2 reunions anuals de totes les titulacions | F29: =_xlfn.CONCAT("Titulacions amb menys de 2 reunions durant el curs: ",PC07_Ind11!D15) -> Titulacions amb menys de 2 reunions durant el curs: 11 | H29: No assolit
B30: O1.4 Millorar el Sistema de Garantia Interna de Qualitat | C30: A.1.4.1. Preparar el Centre per a renovar l’Acreditació Institucional el 2026. | D30: Grau d’assoliment dels objectius de Qualitat docent de la Facultat de Filosofia i Lletres (PE01-IND01) | E30: ='PE01_Ind01 PE2021-24'!D5 -> Assolir o millorar el 80% o més dels indicadors estratègics del quadre de comandament | F30: Compliment "Assolit" o "En progrés", de fites avaluades. 20/24 = 83% | H30: Assolit
C31: A.1.4.4. Consolidar el funcionament de la Comissió de Qualitat de la Facultat. | D31: Nombre de millores i percentatge de propostes de millora finalitzades, en procés, no iniciades i desestimades en cada seguiment o revisió (PE02_Ind01) | E31: =PE02_Ind01!D5 -> Resoldre el 90% o més de les propostes de millora en un màxim de 3 anys | F31: =_xlfn.CONCAT("Any inici <=2022: ",TEXT([1]PE02_Ind01!F21,"0%")) -> Any inici <=2022: 93% | H31: Assolit
C32: A.1.4.3. Millorar els procediments per a una correcta avaluació docent del professorat. | D32: Percentatge de professorat avaluat favorablement en relació al total d’avaluats, per col·lectiu (PE04_Ind08) | E32: =PE04_Ind08!D5 -> Incrementar fins al 100% d'avaluats favorablement. mantenint una proporció superior al 90% | F32: =PE04_Ind08!G14 -> 0.936 | H32: Assolit
B33: O2.1 Millorar el benestar del PDI i del PTGAS en el seu lloc de treball | C33: A.2.1.1. Dur a terme el seguiment del Pla de Millores establert arran de l’avaluació de Riscos Psicosocials de 2023. | D33: Percentatge de mesures correctores executades derivades de les avaluacions de riscos laborals PE05_Ind02 | E33: =PE05_Ind02!D5 -> Mantenir el nivell 80% | F33: 0.81 | H33: Assolit
B34: O2.2 Millorar el benestar de l’alumnat i afavorir el sentiment de pertinença | C34: A.2.2.1. Consolidar la relació institucional i de col·laboració amb la representació de l’alumnat. | D34: Nombre d'ajuts aprovats per a l'organització d'activitats culturals, seminaris o congressos amb incorporació d'alumnat o PTGAS (PS01b-IND06) | E34: =PS01b_Ind06!D5 -> Augment progressiu dels ajuts i de les titulacions implicades | F34: =PS01b_Ind06!C15 -> 4 ajuts | H34: En progrés
C35: A.2.2.3. Millorar els espais físics de la Facultat amb presència activa de l’alumnat. | D35: Nombre i pressupost de les actuacions en manteniment i millora dels espais i l’equipament docent (PS01a-IND02) | E35: =PS01a_Ind02!D5 -> Mantenir o incrementar el pressupost destinat a manteniment i millora dels espais i equipament | F35: 119473.61 | H35: Assolit
B36: O2.3 Prevenir la violència per raó de sexe i de gènere i prevenir la discriminació | C36: A.2.3.2. Establir mecanismes restauratius i de confiança. amb garanties de no repetició i d’empatia amb les víctimes d’assetjament. abús de poder o de discriminació. | D36: NOU INDICADOR PER PROPERA REVISIÓ I DADES RETROSPECTIVES: ACTUACIONS EN RELACIÓ PROTOCOL ASSETJAMENT | E36: EN IMPLANTACIÓ
B37: O2.4 Garantir un funcionament eficaç dels canals de comunicació | C37: A.2.4.1 Millorar els instruments de comunicació de la Facultat. | D37: Nombre de seguidors i anàlisi de, Facebook, Instagram i YouTube (PS06_Ind07) | E37: =PS06_Ind07!D5 -> Incrementar l'impacte de les xarxes socials de la Facultat | F37: Facebook: 1528; Instagram: 3660; Youtube: 466 (42300 visualitacions, 3900 hores de visualització) | H37: Assolit
C38: A.2.4.3. Facilitar la tramitació de queixes. suggeriments i felicitacions i assegurar el retiment de comptes al respecte. | D38: Taxa d’eficàcia: percentatge de suggeriments i queixes resposts dins del termini establert (15 dies hàbils) (PS03_Ind01) | E38: =PS03_Ind01!D5 -> Mantenir més de 95% de respostes en termini | F38: =PS03_Ind01!K16 -> 0.97 | H38: Assolit
B39: O2.5 Assegurar una oferta cultural de Qualitat en relació a la docència i a la recerca i contribuir a la difusió de les activitats d’investigació | C39: A.2.5.1 Col·laborar més estretament amb entitats i persones externes a la UAB en l’organització d’activitats culturals. | D39: PROPOSTA NOU INDICADOR: Nombre d'activitats culturals organitzades des de la Facultat, | E39: EN IMPLANTACIÓ
B40: O2.6 Millorar l ’organització dels actes institucionals | C40: A.2.6.1 Intensificar el sentit de pertinença dels diversos col·lectius a través dels actes institucionals. | D40: PROPOSTA NOU INDICADOR ESTRATÈGIC: Estudiar i implantar, Incorporar dades al quadre de comandament retrospectivament: Inscripció en actes institucionals de la Facultat, | E40: EN IMPLANTACIÓ
B41: O3.1 Incentivar la participació en el govern de la Facultat | C41: A.3.1.1. Estimular la participació de l’alumnat en els òrgans i mecanismes de presa de decisió. | D41: Proporció de reunions de Comissions de Docència amb participació d'alumnat (PC07_Ind12) | E41: =PC07_Ind12!D5 -> Arribar al 100% de Comissions de Docència de les titulacions amb participació d'alumnat. Assoliment en 95% | F41: =PC07_Ind12!G19 -> 0.63333333 | H41: Cal seguiment
B42: O3.2 Participar i cooperar més activament amb el govern de la UAB | C42: A.3.2.1. Participar de forma activa en els òrgans de govern i comissions de la UAB per fer paleses les necessitats i prioritats de la Facultat | D42: Informe preguntes i intervencions en Comissions i altres òrgans centrals per part de membres de l'equip de deganat i altres | E42: EN ESTUDI. Proposta partida: Participació activa (pregunta/comentari/exposició) de mínim un membre de la Facultat a cada comissió | F42: EN IMPLANTACIÓ
B43: O3.3 Millorar el desplegament de reglaments i normatives pròpies i de la UAB | C43: A.3.3.3. Refer el Reglament de la Facultat un cop aprovat el Reglament marc d’estructures de la UAB. | D43: Redacció i aprovació del nou Reglament de la Facultat | E43: Redacció nous Estatus durant el mandat 2024-2030 | F43: Estudis preliminars, grups de treball sobre Pla Estratègic | H43: En progrés
B44: O3.4 Incentivar la transparència | C44: A.3.4.1. Difondre millor l’activitat de la Junta de Facultat. de la Junta Permanent i de les Comissions Delegades. | D44: PS06_Ind01, Nombre de visites a la pàgina web del Centre (Page Views) | E44: =PS06_Ind01!D5 -> Incrementar visites (implantació nova web) | F44: =PS06_Ind01!J14 -> 157.637 visites | H44: Neutre
B45: O4.1 Promoure accions específiques per a la promoció i per incrementar el reconeixement del valor dels estudis de la Facultat | C45: A.4.1.1 Promoure accions formatives en relació als graus i a les activitats de recerca de la Facultat. | D45: Nombre de centres de secundària i de persones participants en l’activitat “Els Matins a Lletres” (PC04_Ind05) | E45: =PC04_Ind05!D5 -> Situar-se al voltant de la xifra de 2022-2023 (10 centres o 100 estudiants) | F45: Centres 1. Estudiants 32 | H45: No assolit
D46: Visites de professors de la UAB a centres de secundària i ens locals o comarcals (PC04_Ind08) | E46: =PC04_Ind08!D5 -> Mantenir o incrementar la participació de professorat | F46: 194 visites als centres | H46: Cal seguiment
C47: A.4.1.2. Incrementar els contactes amb el món professional perquè coneguin els objectius formatius i d’ocupabilitat de les titulacions interdisciplinars i recentment renovades. | D47: Evidències de participació de professionals i persones ocupadores en el seguiment de les titulacions de grau (PC07_Ind13) | E47: =PC07_Ind13!D5 -> Implantar reunions amb regularitat de seguiment | F47: Totes les titulacions verificades han comptat amb reunió amb ocupadors | H47: En progrés
B48: O4.2 Incentivar activitats entorn a l’ocupabilitat i a l’emprenedoria | C48: A.4.2.1 Potenciar les pràctiques curriculars. | D48: Nombre i percentatge de titulacions que ofereixen una assignatura de PE, caràcter (OB o OT) de l’assignatura i nombre de crèdits (PC03a_Ind01) | E48: =PC03a_Ind01!D5 -> 100% en el cas de graus. Màsters: Incorporar assign. PE sempre que sigui factible | F48: Graus: 100% MU: 64,3% | H48: En progrés
D49: Nombre d’alumnes matriculats en pràctiques del total d’estudiants que arriben al final dels estudis (PC03a_Ind02) | E49: =PC03a_Ind02!D5 -> Incrementar fins el 40 % de l'alumnat candidat a les PE i no baixar del 35% en l'agregat | F49: =PC03a_Ind02!H16 -> 0.36351351 | H49: En progrés
D50: Nombre i percentatge d’alumnes matriculats en pràctiques OT de màster (PC03a_Ind04) | E50: =PC03a_Ind04!C6 -> Alumnes en PE / Total matriculats | F50: =PC03a_Ind04!G16 -> 0.61 | H50: En progrés
C51: A.4.2.2 Promoure el desenvolupament dels interessos laborals i professionals de l’alumnat. | D51: Adequació del treball dels graduats i graduades dels àmbits de la FFiL (enquesta AQU d'inserció laboral) (PS05_Ind09) | E51: =PS05_Ind09!D5 -> Mantenir nivells superiors a 65% i tendir a 70% | F51: =PS05_Ind09!F14 -> 0.6719 | H51: Assolit
B52: O4.3 Incentivar la internacionalització i millorar la gestió dels programes de mobilitat | C52: A.4.3.2 Potenciar els programes de mobilitat | D52: Nombre i percentatge d’estudiants de grau de la FFiL que participen en un programa de mobilitat OUT, desglossat per titulació i programa (PC06_Ind01) | E52: =PC06_Ind01!D5 -> Assolir i mantenir una taxa de mobilitat OUT ≥ 20% de manera sostinguda. amb objectiu d'avançar cap al 22–23% | F52: =PC06_Ind01!G16 -> 0.2637037 | H52: Assolit
...

Sheet PE02_Ind01
B2: Facultat de Filosofia i Lletres | E2: Fitxa de seguiment de l'indicador
B4: 1. Codi del l'indicador | D4: PE02_Ind01 | F4: 2. Nom de l'indicador | H4: Nombre i estat de les millores del Pla de Millores segons origen
B5: 3. Fita | D5: Resoldre el 90% o més de les propostes de millora en un màxim de 3 anys | F5: 4. Classificació | H5: Indicador estratègic Indicador d'avaluació de procediments
B6: 5. Càlcul de l'indicador | D6: Millores resoltes <3 anys / Total millores. Per any inici | F6: 6. Freqüència de la medició | H6: Anual
B7: 7. Responsable del procés | D7: Vicedegà/ana de Qualitat i Pla Estratègic i coordinador del SGIQ | F7: 8. Responsable de la gestió | H7: Gestor/a de Qualitat
B8: 9. Processos als que afecta | D8: PE02. Definició. Desplegament i Seguiment del Sistema de Garantia Interna de Qualitat (SGIQ) | F8: 10. Font obtenció de dades | H8: Gestió de Qualitat
B10: 11. Resultats
B11: SEGUIMENT FITA: Total de millores resoltes en 3 anys o menys segon anys d'inici | H11: Grau de compliment: Assolida (+90%)
B12: Nota: Millora resolta = Millora finalitzada + Millora desestimada
B14: Origen | D14: 2020 | E14: 2021 | F14: 2022 | G14: 2023 | H14: 2024 | I14: 2025
B15: Centre | D15: 0.76623377 | F15: 0.90540541 | G15: 0.72727273 | H15: 0.94285714 | I15: 0.35185185
B16: ISC - centre | D16: 0.72727273 | F16: 0.33333333 | G16: 0.83333333 | H16: 0.92307692 | I16: 0.6
B17: Revisió del SGIQ | D17: 0.77272727 | F17: 0.92957746 | G17: 0.6 | H17: 0.95454545 | I17: 0.29545455
B18: Titulacions | D18: 0.92647059 | E18: 1 | F18: 0.96 | G18: 0.69767442 | H18: 0.54901961 | I18: 0.21538462
B19: Procediments VSMA | D19: 0.75 | E19: 1 | F19: 1 | H19: 0.2
B20: ISC - titulacions | D20: 0.95 | E20: 1 | F20: 0.95555556 | G20: 0.69767442 | H20: 0.58695652 | I20: 0.21538462
B21: Total | D21: 0.84137931 | E21: 1 | F21: 0.92741935 | G21: 0.7037037 | H21: 0.70930233 | I21: 0.27731092
B23: Total de millores del pla de millores en data desembre 2025 (Històric)
B25: Origen | D25: Desestimada | E25: En procés | F25: Finalitzada | G25: Total
B26: Centre | D26: 77 | E26: 53 | F26: 273 | G26: 403
B27: AQU acreditació | D27: 5 | F27: 22 | G27: 27
B28: ISC - centre | D28: 14 | E28: 9 | F28: 59 | G28: 82
B29: Revisió del SGIQ | D29: 58 | E29: 44 | F29: 192 | G29: 294
B30: Titulacions | D30: 121 | E30: 89 | F30: 581 | G30: 791
B31: Procediments VSMA | D31: 22 | E31: 4 | F31: 130 | G31: 156
B32: ISC - titulacions | D32: 99 | E32: 85 | F32: 451 | G32: 635
B33: Total | D33: 198 | E33: 142 | F33: 854 | G33: 1194
B34: Distribució relativa CENTRE | C34: Distribució | D34: =D26/$G26 -> 0.191067 | E34: =E26/$G26 -> 0.13151365 | F34: =F26/$G26 -> 0.67741935 | G34: =G26/$G26 -> 1
B35: Distribució relativa TITULACiONS | C35: Distribució | D35: =D30/$G30 -> 0.15297092 | E35: =E30/$G30 -> 0.1125158 | F35: =F30/$G30 -> 0.73451327 | G35: =G30/$G30 -> 1
B36: Distribució relativa TOTAL | C36: Distribució | D36: =D33/$G33 -> 0.16582915 | E36: =E33/$G33 -> 0.11892797 | F36: =F33/$G33 -> 0.71524288 | G36: =G33/$G33 -> 1
B40: 12, Observacions
B41: Amb la revisió del SGIQ 2025 es modifica la fita "Incrementar progressivament fins al 100% el total de millores implementades sobre el total" per "Resoldre les propostes de millora en un màxim de 3 anys". L’indicador PE02_Ind1 mesura el percentatge de millores resoltes en un termini màxim de tres anys a partir de la seva data d’inici. D’acord amb la metodologia establerta, només s’hi consideren les millores iniciades fins al 2022 (ja madurades en el cicle triennal). El resultat obtingut és del 90,0 %, fet que implica el compliment íntegre de la fita establerta (≥ 90 %). Aquest resultat confirma que el SGIQ de la Facultat manté un funcionament robust i un ritme de resolució adequat de les propostes de millora, fins i tot en un context d’increment significatiu de noves actuacions provinents del seguiment de titulacions i de la revisió del propi SGIQ. Es constata, per tant, un nivell òptim d’efectivitat del Pla de Millores, coherent amb la condició de centre acreditat institucionalment i amb els estàndards AQU–AUDIT. Tot i el bon resultat, es recomana monitorar l’elevat volum de noves millores obertes els darrers cursos per assegurar la sostenibilitat dels cicles de tancament futurs.
K46: Semaforització
K48: Fita assolida
K49: Evolució positiva
K50: Cal seguiment
K51: Incompliment

Sheet PE03_Ind03
B2: Facultat de Filosofia i Lletres | E2: Fitxa de seguiment de l'indicador
B4: 1. Codi del l'indicador | D4: PE03_IND03 | F4: 2. Nom de l'indicador | H4: Nombre de propostes de noves titulacions verificades respecte de les proposades
B5: 3. Fita | D5: Assolir el 100% de noves titulacions verificades respecte de les proposades. en 1a o ss. Avaluacions | F5: 4. Classificació | H5: Indicador estratègic Indicador d'avaluació de procediments
B6: 5. Càlcul de l'indicador | D6: Proporció titulacions verificades sobre propostes enviades | F6: 6. Freqüència de la medició | H6: Anual
B7: 7. Responsable del procés | D7: Degà o Degana | F7: 8. Responsable de la gestió | H7: Gestor/a de Qualitat
B8: 9. Processos als que afecta | D8: PE03. Disseny. Creació i Extinció de titulacions. Mapa de titulacions | F8: 10. Font obtenció de dades | H8: Gestió de Qualitat de la Facultat
B10: 11. Resultats
B11: SEGUIMENT FITA: Total de titulacions verificades | E11: Grau de compliment: Assolida (100%)
D13: 2019/2020 | E13: 2020/2021 | F13: 2021/2022 | G13: 2022/2023 | H13: 2023/2024 | I13: 2024/2025
B14: Nombre de propostes de noves titulacions verificades en la 1a avaluació respecte de les proposades | D14: 6/6 (100%) | E14: 6/6 (100%) | F14: 2/3 (66,66%) | G14: 3/3 (100%) | H14: 2/4 (50%) | I14: 2/2 (100%)
B15: Nombre de propostes de noves titulacions verificades finalment | D15: 6/6 (100%) | E15: 6/6 (100%) | F15: 3/3 (100%) | G15: 2/2 (100%) | H15: 4/4 (100%)
B18: Curs acadèmic | C18: Titulacions verificades en 1a avaluació | E18: Titulacions verificades en 2a avaluació
B19: 2019-20 | C19: MU en Estudis Territorials i Planejament; MU en Arqueologia Prehistòrica; Grau en Estudis Anglesos; Grau en Llengua i Literatura Espanyoles; Grau en Ciència, Tecnologia i Humanitats; Grau en Història, Política i Economia Contemporànies (nova creació) | E19: —
B20: 2020-21 | C20: Grau d’Anglès i Clàssiques; Grau d’Anglès i Francès; Grau d’Anglès i Català; Grau d’Anglès i Espanyol; Grau de Català i Espanyol; Grau de Filologia i Cultura Franceses | E20: —
B21: 2021-22 | C21: MU en Estudis Teatrals; Grau en Arqueologia | E21: MU en Desafiaments de la Filosofia Contemporània: Una Perspectiva des de l’Ètica de la Cura (es verifica MU en Filosofies de la Cura, curs següent)
B22: 2022-23 | C22: Grau en Antropologia Social i Cultural; Master’s Degree in English Studies: Linguistic, Literary and Sociocultural Perspectives; MU en Filosofies de la Cura | E22: —
B23: 2023-24 | C23: MU en Humanitats i Patrimoni Digital; MU en Estudis Avançats de Llengua i Literatura Catalanes | E23: Grau d’Història; Grau d’Humanitats i Gestió de la Cultura (es verifiquen curs següent)
B24: 2024-25 | C24: Grau en Història; Grau en Humanitats i Gestió de la Cultura | E24: —
A29: 12, Observacions
A30: 2019-20 es verifiquen les següents titulacions: MU en Estudis Territorials i Planejament, MU en Arqueologia Prehistòrica, Grau en Estudis Anglesos, Grau en Llengua i Literatura Espanyoles, Grau en Ciència, Tecnologia i Humanitats i Grau en Història, Política i Economia Contemporànies, aquestes dues últimes de nova creació, 2020-21 es verifiquen les següents titulacions: Grau d'Anglès i Clàssiques, Grau d'Anglès i Francès, Grau d'Anglès i Català, Grau d'Anglès i Espanyol, Grau de Català i Espanyol i Grau de Filologia i Cultura Franceses 2021-22 es verifiquen les següents titulacions: MU en Estudis Teatrals i el Grau en Arqueologia, AQU desestima el MU en Desafiaments de la Filosofia Contemporània: Una Perspectiva des de l'ètica de la Cura 2022-23 es verifiquen les següents titulacions: Grau en Antropologia Social i Cultural, Master's Degree in English Studies: Linguistic, Literary and Sociocultural Perspectives i el MU en Filosofies de la Cura, quedant, per tant, verificat el Màster de Filosofia desestimat el curs anterior, 2023-24 es verifiquen les titulacions de MU en Humanitats i Patrimoni Digital i MU en Estudis Avançats de Llengua i Literatura Catalanes, no es verifiquen els graus d'Història i d'Humanitats en Gestió de la Cultura, 2024-25 es verifiquen el Grau en Història i el Grau en Humanitats i Gestió de la Cultura que no es verificar el curs anterior,

Sheet PE03_Ind08
B2: Facultat de Filosofia i Lletres | E2: Fitxa de seguiment de l'indicador
B4: 1. Codi del l'indicador | D4: PE03_Ind08 | F4: 2. Nom de l'indicador | H4: Nombre de titulacions interfacultatives (amb l'any d'implementació) i/o interuniversitàries
B5: 3. Fita | D5: Mantenir l'oferta de titulacions interfacultatives i interuniversitàries | F5: 4. Classificació | H5: Indicador de seguiment de resultats
B6: 5. Càlcul de l'indicador | F6: 6. Freqüència de la medició | H6: Anual
B7: 7. Responsable del procés | D7: Degà o Degana | F7: 8. Responsable de la gestió | H7: Gestor/a de Qualitat
B8: 9. Processos als que afecta | D8: PE03. Disseny. Creació i Extinció de titulacions. Mapa de titulacions | F8: 10. Font obtenció de dades | H8: Gestió de Qualitat
B10: 11. Resultats
B11: SEGUIMENT FITA: Manteniment oferta interfacultativa i interuniversitària | F11: Grau de compliment: Assolida (100%)
D13: 2017/2018 | E13: 2018/2019 | F13: 2019/2020 | G13: 2020/2021 | H13: 2021/2022 | I13: 2022/2023 | J13: 2023/2024 | K13: 2024/2025 | L13: 2025/2026
B14: Nombre de titulacions interfacultatives coordinades per la Facultat | F14: 1G | G14: 1G | H14: 2G | I14: 2G | J14: 2G | K14: 2G | L14: 2G
B15: Nombre de titulacions interfacultatives no coordinades per la Facultat | G15: 2G | H15: 2G | I15: 2G | J15: 2G | K15: 2G | L15: 2G
B16: Nombre de titulacions interuniversitàries coordinades per la Facultat | D16: 6 | E16: 6 | F16: 7 | G16: 5 (4M/1G) | H16: 6 (4M/2G) | I16: 6 (4M/2G) | J16: 4 (3M/1G) | K16: 4 (3M/1G) | L16: 3 (2M/1G)
B17: Nombre de titulacions interuniversitàries no coordinades per la UAB | D17: 8 M | E17: 10 M | F17: 10 M | G17: 9 M | H17: 9 M | I17: 9 M | J17: 9 M | K17: 10 M | L17: 10 M
B20: 12, Observacions
B21: G: Graus/ M: Màsters, En el curs 2019/2020 s'inicia el Grau en Estudis Socioculturals de Gènere (interfacultatiu coordinat per la facultat) en el curs 2020/2021 s'inicien els estudis del Grau en Gestió de les Ciutats Intel·ligents i Sostenibles i el Grau en Espanyol i Xinès, ambdos coordinats per altres facultats, En el curs 2021/2022 s'inicien els estudis de Ciència, Tecnologia i Humanitats (grau interuniversitari coordinat per la facultat) i Història, Política i Ecnonomia Contemporànies (grau interfacultatiu coordinat per la facultat), En el curs 2023/2024 deixen de ser interunivesitaris els estudis del Grau en Francès i el Màster d'Estudis Teatrals (tots dos coordinats per la facultat), En el curs 2025/26 deixa de ser interuniversitari el màster d'Humanitats i Patrimoni Digital que coordinavem. La Facultat manté una participació sostinguda en titulacions interfacultatives i interuniversitàries, un tret coherent amb el seu mapa docent ampli i transversal. El volum global és similar al d’altres centres UAB amb forta presència interdisciplinària, i s’alinea amb el model del SUC, on Humanitats i Ciències Socials depenen sovint de programes compartits entre institucions. A escala internacional, les facultats d’Humanitats consolidades mantenen un ecosistema de titulacions híbrides i consorciades com a senyal de dinamisme acadèmic. Tot i les oscil·lacions recents (reducció puntual de màsters interuniversitaris), el conjunt mostra una oferta madura i ben articulada, coherent amb les tendències europees d’interdisciplinarietat (EHEA).

Sheet PE04_Ind01
B2: Facultat de Filosofia i Lletres | E2: Fitxa de seguiment de l'indicador
B4: 1. Codi del l'indicador | D4: PE04_Ind01 | F4: 2. Nom de l'indicador | H4: Hores HIDA impartides als graus per professorat amb titulació de doctor
B5: 3. Fita | D5: Mantenir o superar el nivell 80% i sempre per sobre del 50% establert al RD 640/2021 | F5: 4. Classificació | H5: Indicador d'avaluació dels procediments
B6: 5. Càlcul de l'indicador | D6: HIDA doctors / HIDA total | F6: 6. Freqüència de la medició | H6: Anual
B7: 7. Responsable del procés | D7: Degà o Degana | F7: 8. Responsable de la gestió | H7: Gestor/a de Qualitat
B8: 9. Processos als que afecta | D8: PE04. Política i Gestió del PDI | F8: 10. Font obtenció de dades | H8: Datadash
B10: 11. Resultats
B11: SEGUIMENT FITA: Manteniment o superar nivell 80% | F11: Grau de compliment: Evolució positiva (mitjana graus 78%)
B13: Graus | E13: 2021/22 | F13: 2022/23 | G13: 2023/24 | H13: 2024/25 | J13: Semaforització
B14: Grau en Antropologia Social i Cultural | E14: 0.81851838 | F14: 0.80466981 | G14: 0.79204056 | H14: 0.81118589
B15: Grau en Arqueologia | E15: 0.86966913 | F15: 0.89495197 | G15: 0.86480216 | H15: 0.83903697 | J15: Fita assolida
B16: Grau en Ciència, Tecnologia i Humanitats | E16: 1 | F16: 0.9625 | G16: 0.79043 | H16: 0.87013566
B17: Grau en Ciències de l'Antiguitat | E17: 0.77470535 | F17: 0.81421536 | G17: 0.85748984 | H17: 0.83909321 | J17: Evolució positiva
B18: Grau en Estudis Anglesos | E18: 0.82459444 | F18: 0.75342442 | G18: 0.75463689 | H18: 0.74521512
B19: Grau en Estudis d'Anglès i Català | E19: 0.73991787 | F19: 0.72297868 | G19: 0.63940257 | H19: 0.61135293 | J19: Cal seguiment
B20: Grau en Estudis d'Anglès i de Clàssiques | E20: 0.73034296 | F20: 0.67436078 | G20: 0.59125418 | H20: 0.5991883
B21: Grau en Estudis d'Anglès i Espanyol | E21: 0.73355371 | F21: 0.72676559 | G21: 0.69131609 | H21: 0.64690319 | J21: Incompliment
B22: Grau en Estudis d'Anglès i Francès | E22: 0.78893058 | F22: 0.76223458 | G22: 0.67264678 | H22: 0.71878
B23: Grau en Estudis de català i espanyol | E23: 0.7614093 | F23: 0.74622043 | G23: 0.79481205 | H23: 0.85284001
B24: Grau en Estudis Francesos | E24: 0.84345552 | F24: 0.94721855 | G24: 0.99458902 | H24: 0.99430907
B25: Grau en Estudis Socioculturals de Gènere | E25: 0.66250726 | F25: 0.72408728 | G25: 0.72729289 | H25: 0.67421173
B26: Grau en Filologia Catalana: Estudis de Literatura i Lingüística | E26: 0.90817867 | F26: 0.87069128 | G26: 0.94682973 | H26: 0.93372286
B27: Grau en Filosofia | E27: 0.87076641 | F27: 0.89509786 | G27: 0.85142082 | H27: 0.78917443
B28: Grau en Geografia, Medi Ambient i Planificació Territorial | E28: 0.87257445 | F28: 0.83639269 | G28: 0.74223226 | H28: 0.70910645
B29: Grau en Història | E29: 0.86142594 | F29: 0.84276716 | G29: 0.84949 | H29: 0.83423265
B30: Grau en Història de l'Art | E30: 0.75386489 | F30: 0.72852124 | G30: 0.79306072 | H30: 0.8514007
B31: Grau en Història, Política i Economia Contemporànies / Contemporary History, Politics and Economics | E31: 0.85 | F31: 0.76333 | G31: 0.91708535 | H31: 0.68877054
B32: Grau en Humanitats | E32: 0.78294437 | F32: 0.79787097 | G32: 0.72122246 | H32: 0.73918619
B33: Grau en Llengua i Literatura Espanyoles | E33: 0.84873893 | F33: 0.84561535 | G33: 0.85369992 | H33: 0.8731365
... B39: Mitjana dels Graus UAB | E39: 0.71900822 | F39: 0.70740948 | G39: 0.71058665 | H39: 0.71524991
B41: Font: DataDash > Informes de Seguiment > Dossier Seguiment Graus > Professorat: grau doctor/a per categ > Tots els cursos
B42: Data de les dades: 1/3/26
B43: Darrera revisió, Gestió Qualitat FFiL: 13/3/2026
B45: 12, Observacions
B46: Els resultats del PE04_Ind01 mostren que la Facultat manté un nivell molt alt d’hores HIDA impartides per professorat doctor (78–81%), per sobre de la fita del 80%, del mínim legal del 50% i de les mitjanes UAB i SUC. Aquest comportament s’alinea amb els estàndards europeus d’universitats i evidencia una plantilla consolidada i estable. La lleu davallada de 2024/25 no compromet la solidesa global de l’indicador.

Sheet PE04_Ind02
B2: Facultat de Filosofia i Lletres | E2: Fitxa de seguiment de l'indicador
B4: 1. Codi del l'indicador | D4: PE04_Ind02 | F4: 2. Nom de l'indicador | H4: Hores HIDA impartides als graus per categoria laboral de professorat
B5: 3. Fita | D5: Assolir ≥ 60% PDI permanent+lector i progressar fins al 65% | F5: 4. Classificació | H5: Indicador de seguiment dels resultats
B6: 5. Càlcul de l'indicador | D6: Proporció hores HIDA impartides per professorat permanent o lector | F6: 6. Freqüència de la medició | H6: Anual
B7: 7. Responsable del procés | D7: Degà o Degana | F7: 8. Responsable de la gestió | H7: Gestor/a de Qualitat
B8: 9. Processos als que afecta | D8: PE04. Política i Gestió del PDI | F8: 10. Font obtenció de dades | H8: Datadash
B10: 11. Resultats
B11: SEGUIMENT FITA: Mantenir ≥ 60% PDI permanent+lector | F11: Grau de compliment: Evolució positiva (mitjana graus 64%)
B13: Tipologia | C13: CURS
C14: 2022/23 | D14: % s/total | F14: 2023/24 | G14: % s/total | I14: 2024/25 | J14: % s/total
B15: Permanent | C15: 26268.2 | D15: 0.542 | F15: 26334.7 | G15: 0.524 | I15: 24592.2 | J15: 0.477
B16: Lector | C16: 2039.7 | D16: 0.042 | F16: 4729.6 | G16: 0.094 | I16: 8210.4 | J16: 0.159
B17: Permanent +Lector | C17: =SUM(C15:C16) -> 28307.9 | D17: =SUM(D15:E16) -> 0.584 | F17: =SUM(F15:F16) -> 31064.3 | G17: =SUM(G15:H16) -> 0.618 | I17: =SUM(I15:I16) -> 32802.6 | J17: =SUM(J15:K16) -> 0.636
