Workbook

Sheet I01. Places
B2: GRAU | D2: Places nou ingrés
D3: 2021/2022 | E3: 2022/2023 | F3: 2023/2024 | G3: 2024/2025 | H3: 2025/2026
B4: Ciències Ambientals | D4: 60 | E4: 60 | F4: 60 | G4: 60 | H4: 60
B5: Ciències Ambientals i Geologia | D5: 30 | E5: 30 | F5: 30 | G5: 30 | H5: 30
B6: Estadística Aplicada | D6: 40 | E6: 40 | F6: 40 | G6: 40 | H6: 40
B7: Física | D7: 70 | E7: 70 | F7: 70 | G7: 70 | H7: 70
B8: Física i Matemàtiques | D8: 20 | E8: 20 | F8: 20 | G8: 20 | H8: 20
B9: Física i Química | D9: 20 | E9: 20 | F9: 20 | G9: 20 | H9: 20
B10: Geologia | D10: 40 | E10: 40 | F10: 40 | G10: 40 | H10: 40
B11: Matemàtica Computacional i Analítica de Dades | D11: 40 | E11: 40 | F11: 40 | G11: 40 | H11: 40
B12: Matemàtiques | D12: 60 | E12: 60 | F12: 60 | G12: 60 | H12: 60
B13: Nanociència i Nanotecnologia | D13: 65 | E13: 65 | F13: 65 | G13: 65 | H13: 65
B14: Química | D14: 120 | E14: 120 | F14: 120 | G14: 120 | H14: 120
B18: GRAU | D18: Places totals
D19: 2021/2022 | E19: 2022/2023 | F19: 2023/2024 | G19: 2024/2025 | H19: 2025/2026
B20: Ciències Ambientals | D20: 240 | E20: 240 | F20: 240 | G20: 240 | H20: 240
B21: Ciències Ambientals i Geologia | D21: 150 | E21: 150 | F21: 150 | G21: 150 | H21: 150
B22: Estadística Aplicada | D22: 160 | E22: 160 | F22: 160 | G22: 160 | H22: 160
B23: Física | D23: 280 | E23: 280 | F23: 280 | G23: 280 | H23: 280
B24: Física i Matemàtiques | D24: 100 | E24: 100 | F24: 100 | G24: 100 | H24: 100
B25: Física i Química | D25: 100 | E25: 100 | F25: 100 | G25: 100 | H25: 100
B26: Geologia | D26: 160 | E26: 160 | F26: 160 | G26: 160 | H26: 160
B27: Matemàtica Computacional i Analítica de Dades | D27: 160 | E27: 160 | F27: 160 | G27: 160 | H27: 160
B28: Matemàtiques | D28: 240 | E28: 240 | F28: 240 | G28: 240 | H28: 240
B29: Nanociència i Nanotecnologia | D29: 260 | E29: 260 | F29: 260 | G29: 260 | H29: 260
B30: Química | D30: 480 | E30: 480 | F30: 480 | G30: 480 | H30: 480
B34: MÀSTER | D34: Places
D35: 2021/2022 | E35: 2022/2023 | F35: 2023/2024 | G35: 2024/2025 | H35: 2025/2026
B36: Estudis Interdisciplinaris en Sosteniblitat Ambiental, Econòmica i Social | D36: 50 | E36: 50 | F36: 50 | G36: 50 | H36: 50
B37: Física d'Altes Energíes, Astrofísica i Cosmologia | D37: 25 | E37: 25 | F37: 25 | G37: 25 | H37: 25
B38: Història de la Ciència: Ciència, Història i Societat | D38: 25 | E38: 25 | F38: 25 | G38: 25 | H38: 25
B39: Modelització per a la Ciència i per l'Enginyeria | D39: 30 | E39: 30 | F39: 30 | G39: 30 | H39: 30
B40: Nanociència i Nanotecnologia Avançades | D40: 30 | E40: 30 | F40: 30 | G40: 30 | H40: 30
B41: Paleobologia i Registro Fòssil | D41: - | E41: 25 | F41: 25 | G41: 25 | H41: 25
B42: Química Industrial i Introducció a la Recerca Química | D42: 45 | E42: 45 | F42: 45 | G42: 45 | H42: 45

Sheet I07. Títols acred. ind.
B2: Nombre de títols acreditats individualment
B3: 2020/2021 | C3: 2021/2022 | D3: 2022/2023 | E3: 2023/2024 | F3: 2024/2025
B4: Des de l'Acreditació institucional de 24/05/2021 no procedeix. Des d'aquesta data totes les titulacions del centre són verificades automàticament

Sheet I10. Doctor Acredit
B2: GRAU | D2: Doctors acreditats | I2: GRAU | K2: Doctors acreditats
D3: 2021/2022 | E3: 2022/2023 | F3: 2023/2024 | G3: 2024/2025 | K3: 2021/2022 | L3: 2022/2023 | M3: 2023/2024 | N3: 2024/2025
B4: Ciències Ambientals | D4: 0.39 | E4: 0.36 | F4: 0.38 | G4: 0.45 | I4: Ciències Ambientals | K4: 0.5088 | L4: 0.5443 | M4: 0.596 | N4: 0.7029
B5: Ciències Ambientals i Geologia | D5: 0.42 | E5: 0.38 | F5: 0.41 | G5: 0.47 | I5: Ciències Ambientals i Geologia | K5: 0.604 | L5: 0.5191 | M5: 0.6449 | N5: 0.7007
B6: Estadística Aplicada | D6: 0.64 | E6: 0.5 | F6: 0.5 | G6: 0.48 | I6: Estadística Aplicada | K6: 0.6923 | L6: 0.6327 | M6: 0.6875 | N6: 0.8
B7: Física | D7: 0.48 | E7: 0.45 | F7: 0.45 | G7: 0.43 | I7: Física | K7: 0.619 | L7: 0.5667 | M7: 0.5952 | N7: 0.545
B8: Física i Matemàtiques | D8: 0.58 | E8: 0.52 | F8: 0.51 | G8: 0.55 | I8: Física i Matemàtiques | K8: 0.6942 | L8: 0.6489 | M8: 0.6555 | N8: 0.7295
B9: Física i Química | D9: 0.42 | E9: 0.43 | F9: 0.42 | G9: 0.43 | I9: Física i Química | K9: 0.5824 | L9: 0.6111 | M9: 0.6125 | N9: 0.6061
B10: Geologia | D10: 0.39 | E10: 0.4 | F10: 0.5 | G10: 0.52 | I10: Geologia | K10: 0.5366 | L10: 0.5435 | M10: 0.6552 | N10: 0.7288
B11: Matemàtica Computacional i Analítica de Dades | D11: 0.61 | E11: 0.51 | F11: 0.64 | G11: 0.66 | I11: Matemàtica Computacional i Analítica de Dades | K11: 0.7736 | L11: 0.6441 | M11: 0.8281 | N11: 0.8929
B12: Matemàtiques | D12: 0.66 | E12: 0.55 | F12: 0.59 | G12: 0.67 | I12: Matemàtiques | K12: 0.7808 | L12: 0.7647 | M12: 0.7692 | N12: 0.8406
B13: Nanociència i Nanotecnologia | D13: 0.37 | E13: 0.43 | F13: 0.4 | G13: 0.47 | I13: Nanociència i Nanotecnologia | K13: 0.5306 | L13: 0.6 | M13: 0.6186 | N13: 0.7154
B14: Química | D14: 0.36 | E14: 0.4 | F14: 0.39 | G14: 0.42 | I14: Química | K14: 0.5372 | L14: 0.6036 | M14: 0.6091 | N14: 0.6006
B33: MÀSTER | D33: Doctors acreditats | I33: MÀSTER | K33: Doctors acreditats
D34: 2021/2022 | E34: 2022/2023 | F34: 2023/2024 | G34: 2024/2025 | K34: 2021/2022 | L34: 2022/2023 | M34: 2023/2024 | N34: 2024/2025
B35: Estudis Interdisciplinaris en Sosteniblitat Ambiental, Econòmica i Social | D35: 0.25 | E35: 0.27 | F35: 0.25 | G35: 0.33 | I35: Estudis Interdisciplinaris en Sosteniblitat Ambiental, Econòmica i Social | K35: 0.2826 | L35: 0.3256 | M35: 0.2885 | N35: 0.6061
B36: Física d'Altes Energíes, Astrofísica i Cosmologia | D36: 0.71 | E36: 0.2 | F36: 0.18 | G36: 0.17 | I36: Física d'Altes Energíes, Astrofísica i Cosmologia | K36: 0.8 | L36: 0.2903 | M36: 0.2703 | N36: 0.2581
B37: Història de la Ciència: Ciència, Història i Societat | D37: 0.55 | E37: 0.58 | F37: 0.55 | G37: 0.63 | I37: Història de la Ciència: Ciència, Història i Societat | K37: 0.6 | L37: 0.58 | M37: 0.55 | N37: 0.6471
B38: Modelització per a la Ciència i per l'Enginyeria | D38: 0.76 | E38: 0.69 | F38: 0.66 | G38: 0.76 | I38: Modelització per a la Ciència i per l'Enginyeria | K38: 0.8235 | L38: 0.7576 | M38: 0.8056 | N38: 0.7619
B39: Nanociència i Nanotecnologia Avançades | D39: 0.6 | E39: 0.76 | F39: 0.7 | G39: 0.77 | I39: Nanociència i Nanotecnologia Avançades | K39: 0.6429 | L39: 0.8261 | M39: 0.76 | N39: 0.8
B40: Paleobologia i Registro Fòssil | D40: 0.25 | E40: 0.19 | F40: 0.14 | G40: 0.12 | I40: Paleobologia i Registro Fòssil | K40: 0.25 | L40: 0.25 | M40: 0.1905 | N40: 0.1905
B41: Química Industrial i Introducció a la Recerca Química | D41: 0.85 | E41: 0.83 | F41: 0.73 | G41: 0.78 | I41: Química Industrial i Introducció a la Recerca Química | K41: 0.85 | L41: 0.83 | M41: 0.7308 | N41: 0.7805

Sheet I11. Doctor no Acredit
B2: GRAU | D2: Doctors no acreditats | I2: GRAU | K2: Doctors no acreditats
D3: 2021/2022 | E3: 2022/2023 | F3: 2023/2024 | G3: 2024/2025 | K3: 2021/2022 | L3: 2022/2023 | M3: 2023/2024 | N3: 2024/2025
B4: Ciències Ambientals | D4: 0.61 | E4: 0.64 | F4: 0.62 | G4: 0.55 | I4: Ciències Ambientals | K4: =1-'I10. Doctor Acredit'!K4 -> 0.4912 | L4: =1-'I10. Doctor Acredit'!L4 -> 0.4557 | M4: =1-'I10. Doctor Acredit'!M4 -> 0.404 | N4: =1-'I10. Doctor Acredit'!N4 -> 0.2971
B5: Ciències Ambientals i Geologia | D5: 0.58 | E5: 0.62 | F5: 0.59 | G5: 0.53 | I5: Ciències Ambientals i Geologia | K5: =1-'I10. Doctor Acredit'!K5 -> 0.396 | L5: =1-'I10. Doctor Acredit'!L5 -> 0.4809 | M5: =1-'I10. Doctor Acredit'!M5 -> 0.3551 | N5: =1-'I10. Doctor Acredit'!N5 -> 0.2993
B6: Estadística Aplicada | D6: 0.36 | E6: 0.5 | F6: 0.51 | G6: 0.52 | I6: Estadística Aplicada | K6: =1-'I10. Doctor Acredit'!K6 -> 0.3077 | L6: =1-'I10. Doctor Acredit'!L6 -> 0.3673 | M6: =1-'I10. Doctor Acredit'!M6 -> 0.3125 | N6: =1-'I10. Doctor Acredit'!N6 -> 0.2
B7: Física | D7: 0.52 | E7: 0.55 | F7: 0.55 | G7: 0.57 | I7: Física | K7: =1-'I10. Doctor Acredit'!K7 -> 0.381 | L7: =1-'I10. Doctor Acredit'!L7 -> 0.4333 | M7: =1-'I10. Doctor Acredit'!M7 -> 0.4048 | N7: =1-'I10. Doctor Acredit'!N7 -> 0.455
B8: Física i Matemàtiques | D8: 0.42 | E8: 0.48 | F8: 0.49 | G8: 0.45 | I8: Física i Matemàtiques | K8: =1-'I10. Doctor Acredit'!K8 -> 0.3058 | L8: =1-'I10. Doctor Acredit'!L8 -> 0.3511 | M8: =1-'I10. Doctor Acredit'!M8 -> 0.3445 | N8: =1-'I10. Doctor Acredit'!N8 -> 0.2705
B9: Física i Química | D9: 0.58 | E9: 0.57 | F9: 0.58 | G9: 0.57 | I9: Física i Química | K9: =1-'I10. Doctor Acredit'!K9 -> 0.4176 | L9: =1-'I10. Doctor Acredit'!L9 -> 0.3889 | M9: =1-'I10. Doctor Acredit'!M9 -> 0.3875 | N9: =1-'I10. Doctor Acredit'!N9 -> 0.3939
B10: Geologia | D10: 0.61 | E10: 0.6 | F10: 0.5 | G10: 0.48 | I10: Geologia | K10: =1-'I10. Doctor Acredit'!K10 -> 0.4634 | L10: =1-'I10. Doctor Acredit'!L10 -> 0.4565 | M10: =1-'I10. Doctor Acredit'!M10 -> 0.3448 | N10: =1-'I10. Doctor Acredit'!N10 -> 0.2712
B11: Matemàtica Computacional i Analítica de Dades | D11: 0.39 | E11: 0.49 | F11: 0.36 | G11: 0.34 | I11: Matemàtica Computacional i Analítica de Dades | K11: =1-'I10. Doctor Acredit'!K11 -> 0.2264 | L11: =1-'I10. Doctor Acredit'!L11 -> 0.3559 | M11: =1-'I10. Doctor Acredit'!M11 -> 0.1719 | N11: =1-'I10. Doctor Acredit'!N11 -> 0.1071
B12: Matemàtiques | D12: 0.34 | E12: 0.45 | F12: 0.41 | G12: 0.33 | I12: Matemàtiques | K12: =1-'I10. Doctor Acredit'!K12 -> 0.2192 | L12: =1-'I10. Doctor Acredit'!L12 -> 0.2353 | M12: =1-'I10. Doctor Acredit'!M12 -> 0.2308 | N12: =1-'I10. Doctor Acredit'!N12 -> 0.1594
B13: Nanociència i Nanotecnologia | D13: 0.63 | E13: 0.57 | F13: 0.6 | G13: 0.53 | I13: Nanociència i Nanotecnologia | K13: =1-'I10. Doctor Acredit'!K13 -> 0.4694 | L13: =1-'I10. Doctor Acredit'!L13 -> 0.4 | M13: =1-'I10. Doctor Acredit'!M13 -> 0.3814 | N13: =1-'I10. Doctor Acredit'!N13 -> 0.2846
B14: Química | D14: 0.64 | E14: 0.6 | F14: 0.61 | G14: 0.58 | I14: Química | K14: =1-'I10. Doctor Acredit'!K14 -> 0.4628 | L14: =1-'I10. Doctor Acredit'!L14 -> 0.3964 | M14: =1-'I10. Doctor Acredit'!M14 -> 0.3909 | N14: =1-'I10. Doctor Acredit'!N14 -> 0.3994
B45: MÀSTER | D45: Doctors no acreditats | I45: MÀSTER | K45: Doctors no acreditats
D46: 2021/2022 | E46: 2022/2023 | F46: 2023/2024 | G46: 2024/2025 | K46: 2021/2022 | L46: 2022/2023 | M46: 2023/2024 | N46: 2024/2025
B47: Estudis Interdisciplinaris en Sosteniblitat Ambiental, Econòmica i Social | D47: 0.75 | E47: 0.73 | F47: 0.75 | G47: 0.67 | I47: Estudis Interdisciplinaris en Sosteniblitat Ambiental, Econòmica i Social | K47: =1-'I10. Doctor Acredit'!K35 -> 0.7174 | L47: =1-'I10. Doctor Acredit'!L35 -> 0.6744 | M47: =1-'I10. Doctor Acredit'!M35 -> 0.7115 | N47: =1-'I10. Doctor Acredit'!N35 -> 0.3939
B48: Física d'Altes Energíes, Astrofísica i Cosmologia | D48: 0.29 | E48: 0.8 | F48: 0.82 | G48: 0.83 | I48: Física d'Altes Energíes, Astrofísica i Cosmologia | K48: =1-'I10. Doctor Acredit'!K36 -> 0.2 | L48: =1-'I10. Doctor Acredit'!L36 -> 0.7097 | M48: =1-'I10. Doctor Acredit'!M36 -> 0.7297 | N48: =1-'I10. Doctor Acredit'!N36 -> 0.7419
B49: Història de la Ciència: Ciència, Història i Societat | D49: 0.45 | E49: 0.42 | F49: 0.45 | G49: 0.38 | I49: Història de la Ciència: Ciència, Història i Societat | K49: =1-'I10. Doctor Acredit'!K37 -> 0.4 | L49: =1-'I10. Doctor Acredit'!L37 -> 0.42 | M49: =1-'I10. Doctor Acredit'!M37 -> 0.45 | N49: =1-'I10. Doctor Acredit'!N37 -> 0.3529
B50: Modelització per a la Ciència i per l'Enginyeria | D50: 0.24 | E50: 0.31 | F50: 0.24 | G50: 0.24 | I50: Modelització per a la Ciència i per l'Enginyeria | K50: =1-'I10. Doctor Acredit'!K38 -> 0.1765 | L50: =1-'I10. Doctor Acredit'!L38 -> 0.2424 | M50: =1-'I10. Doctor Acredit'!M38 -> 0.1944 | N50: =1-'I10. Doctor Acredit'!N38 -> 0.2381
B51: Nanociència i Nanotecnologia Avançades | D51: 0.4 | E51: 0.24 | F51: 0.3 | G51: 0.23 | I51: Nanociència i Nanotecnologia Avançades | K51: =1-'I10. Doctor Acredit'!K39 -> 0.3571 | L51: =1-'I10. Doctor Acredit'!L39 -> 0.1739 | M51: =1-'I10. Doctor Acredit'!M39 -> 0.24 | N51: =1-'I10. Doctor Acredit'!N39 -> 0.2
B52: Paleobologia i Registro Fòssil | D52: 0.75 | E52: 0.81 | F52: 0.86 | G52: 0.88 | I52: Paleobologia i Registro Fòssil | K52: =1-'I10. Doctor Acredit'!K40 -> 0.75 | L52: =1-'I10. Doctor Acredit'!L40 -> 0.75 | M52: =1-'I10. Doctor Acredit'!M40 -> 0.8095 | N52: =1-'I10. Doctor Acredit'!N40 -> 0.8095
B53: Química Industrial i Introducció a la Recerca Química | D53: 0.15 | E53: 0.17 | F53: 0.27 | G53: 0.22 | I53: Química Industrial i Introducció a la Recerca Química | K53: =1-'I10. Doctor Acredit'!K41 -> 0.15 | L53: =1-'I10. Doctor Acredit'!L41 -> 0.17 | M53: =1-'I10. Doctor Acredit'!M41 -> 0.2692 | N53: =1-'I10. Doctor Acredit'!N41 -> 0.2195

Sheet I17. PDI visitant estranger
B2: DEPARTAMENT | C2: Nombre de professors/ores visitants estrangers/eres
C3: 2020 | D3: 2021 | E3: 2022 | F3: 2023 | G3: 2024 | H3: 2025
B4: Departament de Física | C4: 0 | D4: 0 | E4: 0 | F4: 0 | G4: 0 | H4: 0
B5: Departament de Geologia | C5: SD | D5: SD | E5: SD | F5: SD | G5: SD | H5: SD
B6: Departament de Matemàtiques | C6: 22 | D6: 26 | E6: 59 | F6: 62 | G6: 63 | H6: 101
B7: Departament de Química | C7: 2 | D7: 2 | E7: 0 | F7: 9 | G7: 0 | H7: 3

Sheet I18. PDI programes mobilitat
B2: Professorat participant en programes de mobilitat
B3: 2020/2021 | C3: 2021/2022 | D3: 2022/2023 | E3: 2023/2024 | F3: 2024/2025
B4: 0 | C4: 0 | D4: 0 | E4: 1 | F4: 0

Sheet I19. ECTS no presencial
B2: GRAU | D2: Percentatge d’ECTS que s’ofereixen en modalitat no presencial
D3: 2020/2021 | E3: 2021/2022 | F3: 2022/2023 | G3: 2023/2024 | H3: 2024/2025 | I3: 2025/2026
B4: Ciències Ambientals | D4: 0 | E4: 0 | F4: 0 | G4: 0 | H4: 0 | I4: 0
B5: Ciències Ambientals i Geologia | D5: 0 | E5: 0 | F5: 0 | G5: 0 | H5: 0 | I5: 0
B6: Estadística Aplicada | D6: 0 | E6: 0 | F6: 0 | G6: 0 | H6: 0 | I6: 0
B7: Física | D7: 0 | E7: 0 | F7: 0 | G7: 0 | H7: 0 | I7: 0
B8: Física i Matemàtiques | D8: 0 | E8: 0 | F8: 0 | G8: 0 | H8: 0 | I8: 0
B9: Física i Química | D9: 0 | E9: 0 | F9: 0 | G9: 0 | H9: 0 | I9: 0
B10: Geologia | D10: 0 | E10: 0 | F10: 0 | G10: 0 | H10: 0 | I10: 0
B11: Matemàtica Computacional i Analítica de Dades | D11: 0 | E11: 0 | F11: 0 | G11: 0 | H11: 0 | I11: 0
B12: Matemàtiques | D12: 0 | E12: 0 | F12: 0 | G12: 0 | H12: 0 | I12: 0
B13: Nanociència i Nanotecnologia | D13: 0 | E13: 0 | F13: 0 | G13: 0 | H13: 0 | I13: 0
B14: Química | D14: 0 | E14: 0 | F14: 0 | G14: 0 | H14: 0 | I14: 0
B17: MÀSTER | D17: Percentatge d’ECTS que s’ofereixen en modalitat no presencial
D18: 2020/2021 | E18: 2021/2022 | F18: 2022/2023 | G18: 2023/2024 | H18: 2024/2025 | I18: 2025/2026
B19: Estudis Interdisciplinaris en Sostenibilitat Ambiental, Econòmica i Social | D19: 0 | E19: 0 | F19: 0 | G19: 0 | H19: 0 | I19: 0
B20: Física d'Altes Energies, Astrofísica i Cosmologia | D20: 0 | E20: 0 | F20: 0 | G20: 0 | H20: 0 | I20: 0
B21: Història de la Ciència: Ciència, Història i Societat | D21: 0 | E21: 0 | F21: 0 | G21: 0 | H21: 0 | I21: 0
B22: Modelització per a la Ciència i l'Enginyeria | D22: 0 | E22: 0 | F22: 0 | G22: 0 | H22: 0 | I22: 0
B23: Nanociència i Nanotecnologia Avançades | D23: 0 | E23: 0 | F23: 0 | G23: 0 | H23: 0 | I23: 0
B24: Paleobiologia i Registre Fòssil | D24: 0 | E24: 0 | F24: 0 | G24: 0.5 | H24: 0.5 | I24: 0.5
B25: Química Industrial i Introducció a la Recerca Química | D25: 0 | E25: 0 | F25: 0 | G25: 0 | H25: 0 | I25: 0

Sheet I20. Titulacions no presencials
B2: Percentatge de titulacions que s’ofereixen en modalitat no presencial
B3: 2020/2021 | C3: 2021/2022 | D3: 2022/2023 | E3: 2023/2024 | F3: 2024/2025
B4: 0 | C4: 0 | D4: 0 | E4: 0 | F4: 0

Sheet I24. Homes i dones graduats
B2: GRAU | D2: %Dones i homes graduats per cohort d'entrada
D3: 2016/2017 | F3: 2017/2018 | H3: 2018/2019 | J3: 2019/2020 | L3: 2020/2021
D4: Dones | E4: Homes | F4: Dones | G4: Homes | H4: Dones | I4: Homes | J4: Dones | K4: Homes | L4: Dones | M4: Homes
B5: Ciències Ambientals | D5: 0.54 | E5: 0.54 | F5: 0.87 | G5: 0.87 | H5: 0.95 | I5: 0.83 | J5: 0.9 | K5: 0.74 | L5: 0.65 | M5: 0.64
B6: Ciències Ambientals i Geologia | D6: 0.71 | E6: 0.67 | F6: SD | G6: SD | H6: SD | I6: SD | J6: 0.82 | K6: 0.71 | L6: SD | M6: SD
B7: Estadística Aplicada | D7: 0 | E7: 0.19 | F7: SD | G7: SD | H7: SD | I7: SD | J7: 0.72 | K7: 0.47 | L7: 0.76 | M7: 0.41
B8: Física | D8: 0.77 | E8: 0.55 | F8: 0.82 | G8: 0.6 | H8: 0.91 | I8: 0.87 | J8: 1 | K8: 0.61 | L8: 0.93 | M8: 0.83
B9: Física i Matemàtiques | D9: 0.1 | E9: 0.88 | F9: 1 | G9: 0.92 | H9: 0.89 | I9: 0.9 | J9: 1 | K9: 0.88 | L9: SD | M9: SD
B10: Física i Química | D10: SD | E10: SD | F10: SD | G10: SD | H10: SD | I10: SD | J10: 0.8 | K10: 0.92 | L10: SD | M10: SD
B11: Geologia | D11: 0.43 | E11: 0.13 | F11: 0.46 | G11: 0.43 | H11: 0.36 | I11: 0.34 | J11: 0.35 | K11: 0.36 | L11: 0.05 | M11: 0.43
B12: Matemàtica Computacional i Analítica de Dades | D12: SD | E12: SD | F12: SD | G12: SD | H12: 0.85 | I12: 0.48 | J12: 0.92 | K12: 0.7 | L12: 0.79 | M12: 0.78
B13: Matemàtiques | D13: 0.39 | E13: 0.37 | F13: 0.36 | G13: 0.4 | H13: 0.67 | I13: 0.78 | J13: 0.65 | K13: 0.5 | L13: 0.43 | M13: 0.75
B14: Nanociència i Nanotecnologia | D14: 0.81 | E14: 0.8 | F14: 0.76 | G14: 0.81 | H14: 0.33 | I14: 0.71 | J14: 0.68 | K14: 0.78 | L14: 0.64 | M14: 0.55
B15: Química | D15: 0.42 | E15: 0.58 | F15: 0.71 | G15: 0.66 | H15: 0.62 | I15: 0.51 | J15: 0.39 | K15: 0.25 | L15: 0.46 | M15: 0.58
B19: MÀSTER | D19: %Dones i homes graduats per cohort d'entrada
D20: 2019/2020 | F20: 2020/2021 | H20: 2021/2022 | J20: 2022/2023 | L20: 2023/2024
D21: Dones | E21: Homes | F21: Dones | G21: Homes | H21: Dones | I21: Homes | J21: Dones | K21: Homes | L21: Dones | M21: Homes
B22: Estudis Interdisciplinaris en Sosteniblitat Ambiental, Econòmica i Social | D22: 0.95 | E22: 0.93 | F22: 0.93 | G22: 0.87 | H22: 1 | I22: 0.92 | J22: 0.96 | K22: 1 | L22: 0.97 | M22: 0.89
B23: Física d'Altes Energíes, Astrofísica i Cosmologia | D23: 1 | E23: 1 | F23: 1 | G23: 1 | H23: 0.83 | I23: 0.76 | J23: 1 | K23: 1 | L23: 1 | M23: 0.83
B24: Història de la Ciència: Ciència, Història i Societat | D24: 1 | E24: 1 | F24: 1 | G24: 1 | H24: 0.88 | I24: 0.92 | J24: 0.88 | K24: 1 | L24: 1 | M24: 1
B25: Modelització per a la Ciència i per l'Enginyeria | D25: 1 | E25: 0.92 | F25: 1 | G25: 0.96 | H25: 0.78 | I25: 0.95 | J25: 1 | K25: 0.97 | L25: 1 | M25: 0.97
B26: Nanociència i Nanotecnologia Avançades | D26: 1 | E26: 0.87 | F26: 0.83 | G26: 0.63 | H26: 1 | I26: 1 | J26: 1 | K26: 1 | L26: 1 | M26: 1
B27: Paleobologia i Registro Fòssil | D27: 1 | E27: 1 | F27: 1 | G27: 1 | H27: SD | I27: SD | J27: 1 | K27: 1 | L27: 1 | M27: 0.93
B28: Química Industrial i Introducció a la Recerca Química | D28: 1 | E28: 0.95 | F28: 1 | G28: 1 | H28: 0.93 | I28: 1 | J28: 0.91 | K28: 1 | L28: 1 | M28: 0.94

Sheet I25. Estudiants pares sense est
B2: GRAU | D2: Percentatge d’estudiants de primera generació (ambdós progenitors sense estudis universitaris)
D3: 2020/2021 | E3: 2021/2022 | F3: 2022/2023 | G3: 2023/2024 | H3: 2024/2025
B4: Ciències Ambientals | D4: 0.3055 | E4: 0.3218 | F4: 0.2988 | G4: 0.2827 | H4: 0.3083
B5: Ciències Ambientals i Geologia | D5: 0.3235 | E5: 0.2746 | F5: 0.2973 | G5: 0.2914 | H5: 0.2517
B6: Estadística Aplicada | D6: 0.35 | E6: 0.3699 | F6: 0.3442 | G6: 0.3681 | H6: 0.3478
B7: Física | D7: 0.2932 | E7: 0.25 | F7: 0.2548 | G7: 0.25 | H7: 0.2523
B8: Física i Matemàtiques | D8: 0.1698 | E8: 0.1942 | F8: 0.1765 | G8: 0.1456 | H8: 0.1569
B9: Física i Química | D9: 0.18 | E9: 0.1779 | F9: 0.2475 | G9: 0.297 | H9: 0.2692
B10: Geologia | D10: 0.4557 | E10: 0.411 | F10: 0.3664 | G10: 0.3583 | H10: 0.3307
B11: Matemàtica Computacional i Analítica de Dades | D11: 0.2033 | E11: 0.1911 | F11: 0.1494 | G11: 0.1529 | H11: 0.1552
B12: Matemàtiques | D12: 0.3039 | E12: 0.2751 | F12: 0.2618 | G12: 0.2362 | H12: 0.2347
B13: Nanociència i Nanotecnologia | D13: 0.25 | E13: 0.2452 | F13: 0.2565 | G13: 0.2713 | H13: 0.2829
B14: Química | D14: 0.447 | E14: 0.4311 | F14: 0.411 | G14: 0.4082 | H14: 0.3859
B17: GRAU | D17: Percentatge d’estudiants de primera generació (algún dels progenitors sense estudis universitaris)
D18: 2020/2021 | E18: 2021/2022 | F18: 2022/2023 | G18: 2023/2024 | H18: 2024/2025
B19: Ciències Ambientals | D19: 0.6073 | E19: 0.6207 | F19: 0.5857 | G19: 0.5738 | H19: 0.5583
B20: Ciències Ambientals i Geologia | D20: 0.5515 | E20: 0.5352 | F20: 0.5608 | G20: 0.5828 | H20: 0.5455
B21: Estadística Aplicada | D21: 0.65 | E21: 0.6507 | F21: 0.6429 | G21: 0.6196 | H21: 0.5839
B22: Física | D22: 0.5733 | E22: 0.5192 | F22: 0.4809 | G22: 0.4781 | H22: 0.5171
B23: Física i Matemàtiques | D23: 0.4151 | E23: 0.3689 | F23: 0.3333 | G23: 0.3203 | H23: 0.3333
B24: Física i Química | D24: 0.53 | E24: 0.5 | F24: 0.5446 | G24: 0.5347 | H24: 0.4904
B25: Geologia | D25: 0.7785 | E25: 0.7198 | F25: 0.6718 | G25: 0.6417 | H25: 0.6772
B26: Matemàtica Computacional i Analítica de Dades | D26: 0.561 | E26: 0.5096 | F26: 0.4655 | G26: 0.4706 | H26: 0.431
B27: Matemàtiques | D27: 0.5654 | E27: 0.534 | F27: 0.4945 | G27: 0.4502 | H27: 0.4404
B28: Nanociència i Nanotecnologia | D28: 0.511 | E28: 0.5287 | F28: 0.5167 | G28: 0.5426 | H28: 0.5581
B29: Química | D29: 0.7373 | E29: 0.7133 | F29: 0.6864 | G29: 0.6907 | H29: 0.6808
B32: MÀSTER | D32: Percentatge d’estudiants de primera generació (ambdós progenitors sense estudis universitaris)
D33: 2020/2021 | E33: 2021/2022 | F33: 2022/2023 | G33: 2023/2024 | H33: 2024/2025
B34: Estudis Interdisciplinaris en Sostenibilitat Ambiental, Econòmica i Social | D34: 0.3548 | E34: 0.3968 | F34: 0.3448 | G34: 0.339 | H34: 0.2727
B35: Física d'Altes Energies, Astrofísica i Cosmologia | D35: 0.4444 | E35: 0.3226 | F35: 0.3438 | G35: 0.2222 | H35: 0.1667
B36: Història de la Ciència: Ciència, Història i Societat | D36: 0.4706 | E36: 0.5652 | F36: 0.55 | G36: 0.4762 | H36: 0.4211
B37: Modelització per a la Ciència i l'Enginyeria | D37: 0.3953 | E37: 0.325 | F37: 0.2449 | G37: 0.2745 | H37: 0.381
B38: Nanociència i Nanotecnologia Avançades | D38: 0.3571 | E38: 0.3888 | F38: 0.2308 | G38: 0.4444 | H38: 0.3043
B39: Paleobiologia i Registre Fòssil | D39: 0.4286 | E39: 0 | F39: 0.5 | G39: 0.4667 | H39: 0.4286
B40: Química Industrial i Introducció a la Recerca Química | D40: 0.5208 | E40: 0.3636 | F40: 0.3556 | G40: 0.4068 | H40: 0.3793
B43: MÀSTER | D43: Percentatge d’estudiants de primera generació (algún dels progenitors sense estudis universitaris)
D44: 2020/2021 | E44: 2021/2022 | F44: 2022/2023 | G44: 2023/2024 | H44: 2024/2025
B45: Estudis Interdisciplinaris en Sostenibilitat Ambiental, Econòmica i Social | D45: 0.6129 | E45: 0.5555 | F45: 0.4655 | G45: 0.4915 | H45: 0.4242
B46: Física d'Altes Energies, Astrofísica i Cosmologia | D46: 0.6296 | E46: 0.7742 | F46: 0.6563 | G46: 0.8636 | H46: 0.6667
B47: Història de la Ciència: Ciència, Història i Societat | D47: 0.7059 | E47: 0.7391 | F47: 0.65 | G47: 0.6666 | H47: 0.5789
...

Sheet I26. Estudiants discap. o NCE
B2: GRAU | D2: Percentatge d’estudiants amb discapacitat o necessitats educatives especials
D3: 2020/2021 | E3: 2021/2022 | F3: 2022/2023 | G3: 2023/2024 | H3: 2024/2025 | I3: 2025/2026
B4: Ciències Ambientals | D4: 0.0073 | E4: 0.0038 | F4: 0.004 | G4: 0 | H4: 0 | I4: 0
B5: Ciències Ambientals i Geologia | D5: 0 | E5: 0 | F5: 0.0068 | G5: 0.0299 | H5: 0.0222 | I5: 0.0557
B6: Estadística Aplicada | D6: 0.0137 | E6: 0 | F6: 0.0065 | G6: 0.0062 | H6: 0 | I6: 0.0139
B7: Física | D7: 0.0065 | E7: 0.0096 | F7: 0.0064 | G7: 0.0094 | H7: 0.0093 | I7: 0.0222
B8: Física i Matemàtiques | D8: 0 | E8: 0 | F8: 0 | G8: 0 | H8: 0 | I8: 0.0435
B9: Física i Química | D9: 0 | E9: 0 | F9: 0 | G9: 0 | H9: 0 | I9: 0
B10: Geologia | D10: 0.0063 | E10: 0 | F10: 0.0076 | G10: 0.0083 | H10: 0.0079 | I10: 0.0081
B11: Matemàtica Computacional i Analítica de Dades | D11: 0.0081 | E11: 0.0127 | F11: 0.0115 | G11: 0.0118 | H11: 0.0057 | I11: 0.0061
B12: Matemàtiques | D12: 0.0065 | E12: 0.0032 | F12: 0.0036 | G12: 0.0074 | H12: 0.0144 | I12: 0.0262
B13: Nanociència i Nanotecnologia | D13: 0.011 | E13: 0.0115 | F13: 0 | G13: 0 | H13: 0 | I13: 0
B14: Química | D14: 0.0085 | E14: 0.0067 | F14: 0.0064 | G14: 0.0062 | H14: 0.0061 | I14: 0.002
B17: MÀSTER | D17: Percentatge d’estudiants amb discapacitat o necessitats educatives especials
D18: 2020/2021 | E18: 2021/2022 | F18: 2022/2023 | G18: 2023/2024 | H18: 2024/2025 | I18: 2025/2026
B19: Estudis Interdisciplinaris en Sostenibilitat Ambiental, Econòmica i Social | D19: 0 | E19: 0 | F19: 0 | G19: 0 | H19: 0 | I19: 0.0175
B20: Física d'Altes Energies, Astrofísica i Cosmologia | D20: 0 | E20: 0 | F20: 0 | G20: 0 | H20: 0 | I20: 0
B21: Història de la Ciència: Ciència, Història i Societat | D21: 0.0588 | E21: 0.0435 | F21: 0.05 | G21: 0.0952 | H21: 0 | I21: 0.0556
B22: Modelització per a la Ciència i l'Enginyeria | D22: 0 | E22: 0 | F22: 0 | G22: 0 | H22: 0 | I22: 0
B23: Nanociència i Nanotecnologia Avançades | D23: 0 | E23: 0 | F23: 0 | G23: 0.0556 | H23: 0 | I23: 0
B24: Paleobiologia i Registre Fòssil | D24: 0 | E24: 0 | F24: 0 | G24: 0.0667 | H24: 0 | I24: 0.0588
B25: Química Industrial i Introducció a la Recerca Química | D25: 0 | E25: 0 | F25: 0 | G25: 0 | H25: 0 | I25: 0.0164

Sheet I27. Queixes ODS, diversitat 
B2: Percentatge de queixes rebudes per qüestions relacionades amb els ODS, diversitat, igualtat de gènere
B3: 2020/2021 | C3: 2021/2022 | D3: 2022/2023 | E3: 2023/2024 | F3: 2024/2025
B4: No disposem d'aquesta dada

Sheet I28. Estudiants atenció orienta
B2: Nombre d’estudiants del centre atesos als serveis d’atenció i orientació de la Facultat de Ciències (s'inclou tant els serveis d'atenció de la Facultat de Ciències, com el Programa PIUNE i la Unitat d'Assessorament Psicopedagògic
B3: 2020/2021 | C3: 2021/2022 | D3: 2022/2023 | E3: 2023/2024 | F3: 2024/2025
B4: 50 | C4: 72 | D4: 75 | E4: 100 | F4: 113

Sheet I34. Implantats no acredit
B2: Percentatge de títols implantats no acreditats (extingits sense acreditar)
B3: 2020/2021 | C3: 2021/2022 | D3: 2022/2023 | E3: 2023/2024 | F3: 2024/2025
B4: Des de l'Acreditació institucional de 24/05/2021 no procedeix. Des d'aquesta data totes les titulacions del centre són verificades automàticament

Sheet I35. Acreditats excel
B2: Percentatge de títols acreditats en progrés vers l’excel·lència
B3: 2020/2021 | C3: 2021/2022 | D3: 2022/2023 | E3: 2023/2024 | F3: 2024/2025
B4: Des de l'Acreditació institucional de 24/05/2021 no procedeix. Des d'aquesta data totes les titulacions del centre són verificades automàticament

Sheet I36. Acreditats en condicions
B2: Percentatge de títols acreditats amb condicions
B3: 2020/2021 | C3: 2021/2022 | D3: 2022/2023 | E3: 2023/2024 | F3: 2024/2025
B4: Des de l'Acreditació institucional de 24/05/2021 no procedeix. Des d'aquesta data totes les titulacions del centre són verificades automàticament

Sheet I37. Requisits pendents
B2: Percentatge de requisits pendents de superar (verificació i acreditació)
B3: 2020/2021 | C3: 2021/2022 | D3: 2022/2023 | E3: 2023/2024 | F3: 2024/2025
B4: Des de l'Acreditació institucional de 24/05/2021 no procedeix. Des d'aquesta data totes les titulacions del centre són verificades automàticament

Sheet I38. Informes previs verificac 
B2: Mitjana d’informes previs per sol·licitud de verificació
B3: 2020/2021 | C3: 2021/2022 | D3: 2022/2023 | E3: 2023/2024 | F3: 2024/2025
B4: Des de l'Acreditació institucional de 24/05/2021 no procedeix. Des d'aquesta data totes les titulacions del centre són verificades automàticament

Sheet I39. Informes previs modificaci
B2: Mitjana d'informes previs per sol·licitud de modificació
B3: 2020/2021 | C3: 2021/2022 | D3: 2022/2023 | E3: 2023/2024 | F3: 2024/2025
B4: 1 | C4: 1 | D4: 1 | E4: 1 | F4: 1

Sheet I42. Perfil alumnat nou ingrés
B2: GRAU | D2: Notes de tall nou accés
D3: 2021/2022 | E3: 2022/2023 | F3: 2023/2024 | G3: 2024/2025 | H3: 2025/2026
B4: Ciències Ambientals | D4: 9.97 | E4: 9.76 | F4: 9.55 | G4: 8.69 | H4: 8.96
B5: Ciències Ambientals i Geologia | D5: 9.25 | E5: 9.53 | F5: 9.06 | G5: 7.12 | H5: 8.1
B6: Estadística Aplicada | D6: 9.84 | E6: 10.33 | F6: 9.55 | G6: 9.95 | H6: 9.5
B7: Física | D7: 12.48 | E7: 12.45 | F7: 12.11 | G7: 11.77 | H7: 12.07
B8: Física i Matemàtiques | D8: 13.57 | E8: 13.54 | F8: 13.44 | G8: 13.44 | H8: 13.37
B9: Física i Química | D9: 12.88 | E9: 12.43 | F9: 11.98 | G9: 11.62 | H9: 12.35
B10: Geologia | D10: 5 | E10: 5.18 | F10: 6.17 | G10: 6.55 | H10: 5.5
B11: Matemàtica Computacional i Analítica de Dades | D11: 11.94 | E11: 11.95 | F11: 11.85 | G11: 11.67 | H11: 11.44
B12: Matemàtiques | D12: 12.49 | E12: 12.39 | F12: 12.27 | G12: 12.1 | H12: 12
B13: Nanociència i Nanotecnologia | D13: 11.27 | E13: 11.31 | F13: 10.77 | G13: 10.65
B14: Química | D14: 9.82 | E14: 10.07 | F14: 9.58 | G14: 9.4 | H14: 9.8
B18: GRAU | D18: Via d'accés
D19: 2021/2022 | J19: 2022/2023 | P19: 2023/2024 | V19: 2024/2025 | AB19: 2025/2026
D20: PAAU | E20: CFGS | F20: Canvi d'estudis | G20: Titulats universitaris | H20: >25 anys | I20: Altres | J20: PAAU | K20: CFGS | L20: Canvi d'estudis | M20: Titulats universitaris | N20: >25 anys | O20: Altres | P20: PAAU | Q20: CFGS | R20: Canvi d'estudis | S20: Titulats universitaris | T20: >25 anys | U20: Altres | V20: PAAU | W20: CFGS | X20: Canvi d'estudis | Y20: Titulats universitaris | Z20: >25 anys | AA20: Altres | AB20: PAAU | AC20: CFGS | AD20: Canvi d'estudis | AE20: Titulats universitaris | AF20: >25 anys | AG20: Altres
B21: Ciències Ambientals | D21: 52 | E21: 4 | F21: 2 | G21: 0 | H21: 1 | I21: 4 | J21: 46 | K21: 8 | L21: 3 | M21: 1 | N21: 1 | O21: 1 | P21: 46 | Q21: 6 | R21: 6 | S21: 0 | T21: 0 | U21: 2 | V21: 38 | W21: 8 | X21: 13 | Y21: 1 | Z21: 0 | AA21: 4 | AB21: 46 | AC21: 10 | AD21: 4 | AE21: 0 | AF21: 0 | AG21: 0
B22: Ciències Ambientals i Geologia | D22: 24 | E22: 6 | F22: 0 | G22: 0 | H22: 0 | I22: 1 | J22: 28 | K22: 1 | L22: 1 | M22: 0 | N22: 0 | O22: 0 | P22: 27 | Q22: 2 | R22: 2 | S22: 0 | T22: 0 | U22: 1 | V22: 25 | W22: 2 | X22: 1 | Y22: 0 | Z22: 0 | AA22: 0 | AB22: 22 | AC22: 4 | AD22: 3 | AE22: 0 | AF22: 0 | AG22: 0
B23: Estadística Aplicada | D23: 38 | E23: 0 | F23: 3 | G23: 0 | H23: 0 | I23: 0 | J23: 36 | K23: 2 | L23: 5 | M23: 0 | N23: 0 | O23: 0 | P23: 28 | Q23: 1 | R23: 13 | S23: 1 | T23: 0 | U23: 0 | V23: 31 | W23: 2 | X23: 8 | Y23: 1 | Z23: 1 | AA23: 1 | AB23: 31 | AC23: 1 | AD23: 7 | AE23: 1 | AF23: 0 | AG23: 0
B24: Física | D24: 65 | E24: 0 | F24: 2 | G24: 0 | H24: 0 | I24: 5 | J24: 62 | K24: 0 | L24: 7 | M24: 0 | N24: 0 | O24: 7 | P24: 60 | Q24: 1 | R24: 8 | S24: 1 | T24: 0 | U24: 8 | V24: 66 | W24: 0 | X24: 8 | Y24: 4 | Z24: 1 | AA24: 4 | AB24: 63 | AC24: 1 | AD24: 5 | AE24: 1 | AF24: 0 | AG24: 1
B25: Física i Matemàtiques | D25: 16 | E25: 0 | F25: 2 | G25: 1 | H25: 0 | I25: 0 | J25: 19 | K25: 0 | L25: 0 | M25: 0 | N25: 1 | O25: 2 | P25: 17 | Q25: 0 | R25: 3 | S25: 0 | T25: 1 | U25: 1 | V25: 17 | W25: 0 | X25: 3 | Y25: 0 | Z25: 1 | AA25: 2 | AB25: 18 | AC25: 0 | AD25: 0 | AE25: 1 | AF25: 0 | AG25: 4
B26: Física i Química | D26: 20 | E26: 0 | F26: 1 | G26: 0 | H26: 0 | I26: 1 | J26: 18 | K26: 0 | L26: 1 | M26: 0 | N26: 0 | O26: 2 | P26: 20 | Q26: 0 | R26: 1 | S26: 0 | T26: 0 | U26: 2 | V26: 19 | W26: 0 | X26: 1 | Y26: 0 | Z26: 0 | AA26: 2 | AB26: 20 | AC26: 0 | AD26: 0 | AE26: 1 | AF26: 0 | AG26: 2
B27: Geologia | D27: 23 | E27: 3 | F27: 1 | G27: 0 | H27: 0 | I27: 0 | J27: 30 | K27: 3 | L27: 7 | M27: 0 | N27: 0 | O27: 0 | P27: 26 | Q27: 6 | R27: 6 | S27: 0 | T27: 0 | U27: 0 | V27: 30 | W27: 6 | X27: 4 | Y27: 0 | Z27: 0 | AA27: 0 | AB27: 30 | AC27: 3 | AD27: 7 | AE27: 0 | AF27: 0 | AG27: 0
B28: Matemàtica Computacional i Analítica de Dades | D28: 40 | E28: 0 | F28: 1 | G28: 1 | H28: 0 | I28: 1 | J28: 40 | K28: 0 | L28: 1 | M28: 0 | N28: 1 | O28: 0 | P28: 39 | Q28: 0 | R28: 1 | S28: 0 | T28: 0 | U28: 3 | V28: 36 | W28: 1 | X28: 6 | Y28: 0 | Z28: 0 | AA28: 0 | AB28: 34 | AC28: 1 | AD28: 4 | AE28: 1 | AF28: 0 | AG28: 0
B29: Matemàtiques | D29: 57 | E29: 0 | F29: 5 | G29: 2 | H29: 0 | I29: 4 | J29: 53 | K29: 0 | L29: 6 | M29: 1 | N29: 0 | O29: 3 | P29: 48 | Q29: 0 | R29: 12 | S29: 0 | T29: 0 | U29: 7 | V29: 44 | W29: 0 | X29: 16 | Y29: 0 | Z29: 1 | AA29: 1 | AB29: 54 | AC29: 1 | AD29: 3 | AE29: 1 | AF29: 1 | AG29: 5
B30: Nanociència i Nanotecnologia | D30: 62 | E30: 2 | F30: 0 | G30: 0 | H30: 1 | I30: 0 | J30: 57 | K30: 3 | L30: 4 | M30: 0 | N30: 1 | O30: 0 | P30: 58 | Q30: 3 | R30: 3 | S30: 1 | T30: 0 | U30: 1 | V30: 54 | W30: 8 | X30: 3 | Y30: 0 | Z30: 0 | AA30: 0 | AB30: 57 | AC30: 4 | AD30: 4 | AE30: 0 | AF30: 0 | AG30: 2
B31: Química | D31: 105 | E31: 9 | F31: 2 | G31: 0 | H31: 0 | I31: 1 | J31: 105 | K31: 8 | L31: 4 | M31: 1 | N31: 0 | O31: 1 | P31: 102 | Q31: 9 | R31: 8 | S31: 0 | T31: 1 | U31: 1 | V31: 95 | W31: 12 | X31: 11 | Y31: 1 | Z31: 0 | AA31: 0 | AB31: 96 | AC31: 14 | AD31: 10 | AE31: 0 | AF31: 0 | AG31: 2
B34: MÀSTER | D34: Procedència alumnat Màster
D35: 2021/2022 | H35: 2022/2023 | L35: 2023/2024 | P35: 2024/2025 | T35: 2025/2026
D36: UAB | E36: SUC | F36: RESTA ESPANYA | G36: ESTRANGER | H36: UAB | I36: SUC | J36: RESTA ESPANYA | K36: ESTRANGER | L36: UAB | M36: SUC | N36: RESTA ESPANYA | O36: ESTRANGER | P36: UAB | Q36: SUC | R36: RESTA ESPANYA | S36: ESTRANGER | T36: UAB | U36: SUC | V36: RESTA ESPANYA | W36: ESTRANGER
B37: Estudis Interdisciplinaris en Sostenibilitat Ambiental, Econòmica i Social | D37: 5 | E37: 10 | F37: 6 | G37: 38 | H37: 5 | I37: 1 | J37: 7 | K37: 39 | L37: 8 | M37: 6 | N37: 2 | O37: 38 | P37: 8 | Q37: 8 | R37: 2 | S37: 33 | T37: 10 | U37: 0 | V37: 3 | W37: 36
B38: Física d'Altes Energies, Astrofísica i Cosmologia | D38: 3 | E38: 2 | F38: 15 | G38: 5 | H38: 11 | I38: 6 | J38: 6 | K38: 3 | L38: 12 | M38: 1 | N38: 4 | O38: 3 | P38: 8 | Q38: 4 | R38: 4 | S38: 5 | T38: 8 | U38: 2 | V38: 5 | W38: 8
B39: Història de la Ciència: Ciència, Història i Societat | D39: 12 | E39: 6 | F39: 1 | G39: 2 | H39: 6 | I39: 4 | J39: 4 | K39: 4 | L39: 7 | M39: 4 | N39: 1 | O39: 3 | P39: 6 | Q39: 5 | R39: 2 | S39: 5 | T39: 6 | U39: 5 | V39: 0 | W39: 4
B40: Modelització per a la Ciència i l'Enginyeria | D40: 10 | E40: 7 | F40: 11 | G40: 5 | H40: 22 | I40: 11 | J40: 3 | K40: 6 | L40: 18 | M40: 8 | N40: 9 | O40: 9 | P40: 12 | Q40: 7 | R40: 4 | S40: 11 | T40: 24 | U40: 8 | V40: 2 | W40: 4
B41: Nanociència i Nanotecnologia Avançades | D41: 6 | E41: 6 | F41: 4 | G41: 2 | H41: 7 | I41: 3 | J41: 1 | K41: 1 | L41: 7 | M41: 4 | N41: 3 | O41: 4 | P41: 10 | Q41: 2 | R41: 3 | S41: 5 | T41: 6 | U41: 6 | V41: 1 | W41: 5
B42: Paleobiologia i Registre Fòssil | D42: SD | E42: SD | F42: SD | G42: SD | H42: 4 | I42: 4 | J42: 1 | K42: 3 | L42: 6 | M42: 7 | N42: 1 | O42: 1 | P42: 8 | Q42: 6 | R42: 1 | S42: 5 | T42: 6 | U42: 7 | V42: 3 | W42: 1
B43: Química Industrial i Introducció a la Recerca Química | D43: 17 | E43: 5 | F43: 6 | G43: 8 | H43: 24 | I43: 9 | J43: 2 | K43: 4 | L43: 22 | M43: 2 | N43: 3 | O43: 16 | P43: 33 | Q43: 5 | R43: 1 | S43: 7 | T43: 26 | U43: 4 | V43: 2 | W43: 8

Sheet I43. Alumnat complements format
D2: 2020/2021 | E2: 2021/2022 | F2: 2022/2023 | G2: 2023/2024 | H2: 2024/2025
B3: Estudis Interdisciplinaris en Sostenibilitat Ambiental, Econòmica i Social | D3: 0 | E3: 0 | F3: 0 | G3: 0 | H3: 0
B4: Física d'Altes Energies, Astrofísica i Cosmologia | D4: 0 | E4: 3 | F4: 4 | G4: 0 | H4: 0
B5: Història de la Ciència: Ciència, Història i Societat | D5: 0 | E5: 0 | F5: 0 | G5: 0 | H5: 0
B6: Modelització per a la Ciència i l'Enginyeria | D6: 0 | E6: 0 | F6: 0 | G6: 0 | H6: 0
B7: Nanociència i Nanotecnologia Avançades | D7: 0 | E7: 1 | F7: 4 | G7: 0 | H7: 0
B8: Paleobiologia i Registre Fòssil | D8: 0 | E8: 0 | F8: 0 | G8: 0 | H8: 0
B9: Química Industrial i Introducció a la Recerca Química | D9: 0 | E9: 0 | F9: 0 | G9: 0 | H9: 0

Sheet I44. Estudia i treballa
D2: Percentatge d’alumnat que estudia i treballa
D3: 2021/2022 | E3: 2022/2023 | F3: 2023/2024 | G3: 2024/2025 | H3: 2025/2026
B4: Ciències Ambientals | D4: 0.1686 | E4: 0.1434 | F4: 0.1098 | G4: 0.0792 | H4: 0.0465
B5: Ciències Ambientals i Geologia | D5: 0.176 | E5: 0.1014 | F5: 0.106 | G5: 0.1119 | H5: 0.0483
B6: Estadística Aplicada | D6: 0.226 | E6: 0.2013 | F6: 0.1656 | G6: 0.1304 | H6: 0.0909
B7: Física | D7: 0.2949 | E7: 0.3025 | F7: 0.2531 | G7: 0.2056 | H7: 0.141
B8: Física i Matemàtiques | D8: 0.068 | E8: 0.0588 | F8: 0.0553 | G8: 0.049 | H8: 0.0495
B9: Física i Química | D9: 0.1146 | E9: 0.099 | F9: 0.0891 | G9: 0.0769 | H9: 0.0583
B10: Geologia | D10: 0.3014 | E10: 0.2748 | F10: 0.25 | G10: 0.1732 | H10: 0.121
B11: Matemàtica Computacional i Analítica de Dades | D11: 0.1465 | E11: 0.1724 | F11: 0.1588 | G11: 0.1264 | H11: 0.0848
B12: Matemàtiques | D12: 0.3172 | E12: 0.2982 | F12: 0.262 | G12: 0.2419 | H12: 0.1686
B13: Nanociència i Nanotecnologia | D13: 0.1877 | E13: 0.1673 | F13: 0.1357 | G13: 0.1163 | H13: 0.0725
B14: Química | D14: 0.2688 | E14: 0.2415 | F14: 0.2021 | G14: 0.1515 | H14: 0.108
B15: Estudis Interdisciplinaris en Sostenibilitat Ambiental, Econòmica i Social | D15: 0.0317 | E15: 0.0345 | F15: 0.0508 | G15: 0.0606 | H15: 0.0351
... B21: Química Industrial i Introducció a la Recerca Química | D21: 0.2727 | E21: 0.4444 | F21: 0.4068 | G21: 0.5345 | H21: 0.541

Sheet I46. Taxa abandonament
D2: Taxa d'abandonament per cohort d'entrada
D3: 2018/2019 | E3: 2019/2020 | F3: 2020/2021 | G3: 2021/2022
B4: Ciències Ambientals | D4: 0.08 | E4: 0.1 | F4: 0.33 | G4: 0.17
B5: Ciències Ambientals i Geologia | D5: SD | E5: 0.13 | F5: 0.38 | G5: SD
B6: Estadística Aplicada | D6: SD | E6: 0.32 | F6: 0.39 | G6: 0.32
B7: Física | D7: 0.07 | E7: 0.22 | F7: 0.11 | G7: 0.19
B8: Física i Matemàtiques | D8: 0.1 | E8: 0.09 | F8: 0.05 | G8: SD
B9: Física i Química | D9: SD | E9: 0.14 | F9: 0.15 | G9: SD
B10: Geologia | D10: 0.57 | E10: 0.53 | F10: 0.58 | G10: 0.44
B11: Matemàtica Computacional i Analítica de Dades | D11: 0.33 | E11: 0.23 | F11: 0.1 | G11: 0.14
B12: Matemàtiques | D12: 0.16 | E12: 0.29 | F12: 0.25 | G12: 0.21
B13: Nanociència i Nanotecnologia | D13: 0.28 | E13: 0.2 | F13: 0.27 | G13: 0.15
B14: Química | D14: 0.12 | E14: 0.44 | F14: 0.3 | G14: 0.21
D17: Taxa d'abandonament per cohort d'entrada
D18: 2021/2022 | E18: 2022/2023 | F18: 2023/2024 | G18: 2024/2025
B19: Estudis Interdisciplinaris en Sostenibilitat Ambiental, Econòmica i Social | D19: 0.02 | E19: 0.02 | F19: 0.04 | G19: 0
B20: Física d'Altes Energies, Astrofísica i Cosmologia | D20: 0.04 | E20: 0.04 | F20: 0.15 | G20: 0.1
B21: Història de la Ciència. Ciència, Història i Societat | D21: 0 | E21: 0.06 | F21: 0 | G21: 0.17
B22: Modelització per a la Ciència i l'Enginyeria | D22: 0.03 | E22: 0 | F22: 0.02 | G22: 0.09
B23: Nanociència i Nanotecnologia Avançades | D23: 0 | E23: 0.08 | F23: 0 | G23: 0
B24: Paleobiologia i Registre Fòssil | D24: 0 | E24: 0 | F24: 0.07 | G24: 0.15
B25: Química Industrial i Introducció a la Recerca Química | D25: 0.03 | E25: 0.03 | F25: 0.02 | G25: 0

Sheet I49. Durada mitjana estudis
D3: Durada mitjana dels estudis
B4: GRAU | D4: 2020/2021 | E4: 2021/2022 | F4: 2022/2023 | G4: 2023/2024 | H4: 2024/2025
B5: Ciències Ambientals | D5: 4.45 | E5: 4.48 | F5: 4.39 | G5: 4.59 | H5: 4.45
B6: Ciències Ambientals i Geologia | D6: 5.56 | E6: 5.09 | F6: 5.44 | G6: 5.29 | H6: 5.86
B7: Estadística Aplicada | D7: 4.88 | E7: 4.76 | F7: 4.56 | G7: 4.61 | H7: 4.11
B8: Física | D8: 4.93 | E8: 4.64 | F8: 4.74 | G8: 4.64 | H8: 4.68
B9: Física i Matemàtiques | D9: 5.11 | E9: 5.09 | F9: 5.13 | G9: 5.19 | H9: 5.3
B10: Física i Química | D10: 5.48 | E10: 5.08 | F10: 5.39 | G10: 5.06 | H10: 5.06
B11: Geologia | D11: 5.25 | E11: 5.68 | F11: 4.83 | G11: 5.25 | H11: 4.56
B12: Matemàtica Computacional i Analítica de Dades | D12: SD | E12: 4 | F12: 4.18 | G12: 4.28 | H12: 4.29
B13: Matemàtiques | D13: 5.41 | E13: 5.1 | F13: 4.88 | G13: 5.02 | H13: 4.96
B14: Nanociència i Nanotecnologia | D14: 4.55 | E14: 4.62 | F14: 4.39 | G14: 4.65 | H14: 4.44
B15: Química | D15: 5.04 | E15: 4.85 | F15: 4.98 | G15: 4.95 | H15: 5.04
B16: Durada mitjana Centre | D16: =AVERAGE(D5:D15) -> 5.066 | E16: =AVERAGE(E5:E15) -> 4.8536364 | F16: =AVERAGE(F5:F15) -> 4.81 | G16: =AVERAGE(G5:G15) -> 4.8663636 | H16: =AVERAGE(H5:H15) -> 4.7954545
D19: Durada mitjana dels estudis
B20: MÀSTER | D20: 2020/2021 | E20: 2021/2022 | F20: 2022/2023 | G20: 2023/2024 | H20: 2024/2025
B21: Estudis Interdisciplinaris en Sostenibilitat Ambiental, Econòmica i Social | D21: 1.06 | E21: 1.05 | F21: 1.08 | G21: 1.12 | H21: 1.22
B22: Física d'Altes Energies, Astrofísica i Cosmologia | D22: 1.06 | E22: 1.29 | F22: 1.12 | G22: 1.21 | H22: 1.2
B23: Història de la Ciència: Ciència, Història i Societat | D23: 1.4 | E23: 1.1 | F23: 1.08 | G23: 1.18 | H23: 1.08
B24: Modelització per a la Ciència i l'Enginyeria | D24: 1.13 | E24: 1.2 | F24: 1.15 | G24: 1.62 | H24: 1.17
B25: Nanociència i Nanotecnologia Avançades | D25: 1.07 | E25: 1 | F25: 1.08 | G25: 1 | H25: 1.1
B26: Paleobiologia i Registre Fòssil | D26: 1.17 | E26: 2 | F26: 1 | G26: 1 | H26: 1.06
B27: Química Industrial i Introducció a la Recerca Química | D27: 1.29 | E27: 1.19 | F27: 1.19 | G27: 1.33 | H27: 1.35
B28: Valoració mitjana Centre | D28: =AVERAGE(D21:D27) -> 1.1685714 | E28: =AVERAGE(E21:E27) -> 1.2614286 | F28: =AVERAGE(F21:F27) -> 1.1 | G28: =AVERAGE(G21:G27) -> 1.2085714 | H28: =AVERAGE(H21:H27) -> 1.1685714

Sheet I50. Satisfacció alumnes PAT
B3: GRAU | D3: 2020/2021 | E3: 2021/2022 | F3: 2022/2023 | G3: 2023/2024
B4: Ciències Ambientals | D4: SD | E4: 3.49 | F4: 3.66 | G4: 3.77
B5: Ciències Ambientals i Geologia | D5: SD | E5: 3.64 | F5: 3.18 | G5: SD
B6: Estadística Aplicada | D6: SD | E6: 3.81 | F6: 3.58 | G6: 3.87
B7: Física | D7: 3 | E7: 3.54 | F7: 3.53 | G7: 3.6
B8: Física i Matemàtiques | D8: SD | E8: 3.77 | F8: 3.7 | G8: 3.68
B9: Física i Química | D9: SD | E9: 3.71 | F9: 3.51 | G9: SD
B10: Geologia | D10: SD | E10: 3.67 | F10: SD | G10: SD
B11: Matemàtica Computacional i Analítica de Dades | D11: SD | E11: 4.3 | F11: 3.7 | G11: 3.93
B12: Matemàtiques | D12: SD | E12: 3.84 | F12: 3.77 | G12: 3.43
B13: Nanociència i Nanotecnologia | D13: SD | E13: 3.65 | F13: 3.47 | G13: 3.66
B14: Química | D14: SD | E14: 3.53 | F14: 3.72 | G14: SD
B15: Valoració mitjana Centre | D15: 3.26 | E15: 3.69 | F15: 3.62 | G15: 3.74
B16: Valoració mitjana UAB | D16: 3.4 | E16: 3.61 | F16: 3.65 | G16: 3.67
B20: MÀSTER | D20: 2020/2021 | E20: 2021/2022 | F20: 2022/2023 | G20: 2023/2024
B21: Estudis Interdisciplinaris en Sostenibilitat Ambiental, Econòmica i Social | D21: SD | E21: 3.7 | F21: 3.46 | G21: 3.84
B22: Física d'Altes Energies, Astrofísica i Cosmologia | D22: SD | E22: 3.55 | F22: SD | G22: 3.94
B23: Història de la Ciència: Ciència, Història i Societat | D23: SD | E23: 4.04 | F23: 4.26 | G23: 4.28
B24: Modelització per a la Ciència i l'Enginyeria | D24: SD | E24: 3.56 | F24: 4.06 | G24: 3.88
B25: Nanociència i Nanotecnologia Avançades | D25: SD | E25: 4.15 | F25: SD | G25: SD
B26: Paleobiologia i Registre Fòssil | D26: SD | E26: SD | F26: SD | G26: SD
B27: Química Industrial i Introducció a la Recerca Química | D27: SD | E27: 3.68 | F27: SD | G27: 4.11
B28: Valoració mitjana Centre | D28: 2.75 | E28: 3.78 | F28: 3.84 | G28: 3.98
B29: Valoració mitjana UAB | D29: 3.69 | E29: 3.79 | F29: 3.77 | G29: 3.86

Sheet I51. Alumnes necessitats espec
B5: Nombre d’estudiants amb necessitats específiques d’atenció- Facultat de Ciències
B6: 2021/2021 | C6: 2021/2022 | D6: 2022/2023 | E6: 2023/2024 | F6: 2024/2025
B7: 41 | C7: 59 | D7: 64 | E7: 78 | F7: 86
B27: Nombre d’estudiants amb discapacitat- Facultat de Ciències
B28: 2021/2021 | C28: 2021/2022 | D28: 2022/2023 | E28: 2023/2024 | F28: 2024/2025
B29: 9 | C29: 13 | D29: 11 | E29: 22 | F29: 27

Sheet I52. Crèdits reconeguts totals
B2: GRAU | D2: Percentatge de crèdits reconeguts respecte del total de matriculats al conjunt de titulacions
D3: 2021/2022 | E3: 2022/2023 | F3: 2023/2024 | G3: 2024/2025
B4: Ciències Ambientals | D4: 0.0297 | E4: 0.0503 | F4: 0.0931 | G4: 0.0325
B5: Ciències Ambientals i Geologia | D5: 0.0367 | E5: 0.0094 | F5: 0.0171 | G5: 0.0006
B6: Estadística Aplicada | D6: 0.0203 | E6: 0.0308 | F6: 0.0794 | G6: 0.0418
B7: Física | D7: 0.0764 | E7: 0.0647 | F7: 0.0763 | G7: 0.0595
B8: Física i Matemàtiques | D8: 0.0535 | E8: 0.0783 | F8: 0.0742 | G8: 0.0807
B9: Física i Química | D9: 0.0566 | E9: 0.0252 | F9: 0.0772 | G9: 0.0488
B10: Geologia | D10: 0.0092 | E10: 0.046 | F10: 0.03 | G10: 0.0868
B11: Matemàtica Computacional i Analítica de Dades | D11: 0.015 | E11: 0.0635 | F11: 0.043 | G11: 0.0329
B12: Matemàtiques | D12: 0.0378 | E12: 0.0182 | F12: 0.0589 | G12: 0.0672
B13: Nanociència i Nanotecnologia | D13: 0.013 | E13: 0.0189 | F13: 0.0303 | G13: 0.0372
B14: Química | D14: 0.0428 | E14: 0.0485 | F14: 0.0543 | G14: 0.039

Sheet I53. Sexenni
B2: GRAU | D2: % Crèdits impartits per professorat amb sexenni d'investigació viu
D3: 2020 | E3: 2021 | F3: 2022 | G3: 2023 | H3: 2024
B4: Ciències Ambientals | D4: 0.678 | E4: 0.578 | F4: 0.612 | G4: 0.614 | H4: 0.775
B5: Ciències Ambientals i Geologia | D5: 0.756 | E5: 0.527 | F5: 0.878 | G5: 0.695 | H5: 0.709
B6: Estadística Aplicada | D6: 0.728 | E6: 0.426 | F6: 0.823 | G6: 0.592 | H6: 0.44
B7: Física | D7: 0.812 | E7: 0.695 | F7: 0.84 | G7: 0.776 | H7: 0.741
B8: Física i Matemàtiques | D8: 0.828 | E8: 0.728 | F8: 0.754 | G8: 0.691 | H8: 0.697
B9: Física i Química | D9: 0.833 | E9: 0.761 | F9: 0.77 | G9: 0.78 | H9: 0.773
B10: Geologia | D10: 0.666 | E10: 0.622 | F10: 0.718 | G10: 0.721 | H10: 0.603
B11: Matemàtica Computacional i Analítica de Dades | D11: 0.791 | E11: 0.834 | F11: 0.853 | G11: 0.67 | H11: 0.55
B12: Matemàtiques | D12: 0.77 | E12: 0.657 | F12: 0.617 | G12: 0.64 | H12: 0.673
B13: Nanociència i Nanotecnologia | D13: 0.799 | E13: 0.689 | F13: 0.878 | G13: 0.824 | H13: 0.77
B14: Química | D14: 0.864 | E14: 0.807 | F14: 0.735 | G14: 0.78 | H14: 0.796
B18: MÀSTER | D18: % Crèdits impartits per professorat amb sexenni d'investigació viu
D19: 2020 | E19: 2021 | F19: 2022 | G19: 2023 | H19: 2024
B20: Estudis Interdisciplinaris en Sosteniblitat Ambiental, Econòmica i Social | D20: 0.774 | E20: 0.868 | F20: 0.866 | G20: 0.785 | H20: 0.812
B21: Física d'Altes Energíes, Astrofísica i Cosmologia | D21: 0.676 | E21: 0.168 | F21: 0.981 | G21: 1 | H21: 0.996
B22: Història de la Ciència: Ciència, Història i Societat | D22: 0.913 | E22: 0.866 | F22: 0.942 | G22: 0.817 | H22: 0.889
B23: Modelització per a la Ciència i per l'Enginyeria | D23: 0.767 | E23: 0.913 | F23: 0.86 | G23: 0.763 | H23: 0.687
B24: Nanociència i Nanotecnologia Avançades | D24: 1 | E24: 0.828 | F24: 0.922 | G24: 0.949 | H24: 0.962
B25: Paleobologia i Registro Fòssil | D25: 0.342 | E25: 5.35 | F25: 0.874 | G25: 1 | H25: 1
B26: Química Industrial i Introducció a la Recerca Química | D26: 0.909 | E26: 0.869 | F26: 0.797 | G26: 0.901 | H26: 0.985

Sheet I54. Quinquenni
B2: GRAU | D2: % Crèdits impartits per professorat amb quinquenni de docència viu
D3: 2020 | E3: 2021 | F3: 2022 | G3: 2023 | H3: 2024
B4: Ciències Ambientals | D4: 0.744 | E4: 0.766 | F4: 0.623 | G4: 0.645 | H4: 0.802
B5: Ciències Ambientals i Geologia | D5: 0.83 | E5: 0.732 | F5: 0.757 | G5: 0.591 | H5: 0.731
B6: Estadística Aplicada | D6: 0.825 | E6: 0.942 | F6: 0.897 | G6: 0.632 | H6: 0.624
B7: Física | D7: 0.88 | E7: 0.829 | F7: 0.897 | G7: 0.881 | H7: 0.842
B8: Física i Matemàtiques | D8: 0.899 | E8: 0.83 | F8: 0.827 | G8: 0.829 | H8: 0.848
B9: Física i Química | D9: 0.931 | E9: 0.883 | F9: 0.822 | G9: 0.804 | H9: 0.817
B10: Geologia | D10: 0.837 | E10: 0.687 | F10: 0.613 | G10: 0.61 | H10: 0.68
B11: Matemàtica Computacional i Analítica de Dades | D11: 0.95 | E11: 0.905 | F11: 0.905 | G11: 0.763 | H11: 0.746
B12: Matemàtiques | D12: 0.904 | E12: 0.85 | F12: 0.779 | G12: 0.806 | H12: 0.846
B13: Nanociència i Nanotecnologia | D13: 0.885 | E13: 0.777 | F13: 0.823 | G13: 0.888 | H13: 0.799
B14: Química | D14: 0.98 | E14: 0.933 | F14: 0.786 | G14: 0.771 | H14: 0.819
B18: MÀSTER | D18: % Crèdits impartits per professorat amb quinquenni de docència viu
D19: 2020 | E19: 2021 | F19: 2022 | G19: 2023 | H19: 2024
B20: Estudis Interdisciplinaris en Sosteniblitat Ambiental, Econòmica i Social | D20: 0.915 | E20: 0.946 | F20: 1 | G20: 0.772 | H20: 0.743
B21: Física d'Altes Energíes, Astrofísica i Cosmologia | D21: 0.676 | E21: 0.17 | F21: 0.992 | G21: 0.986 | H21: 0.987
B22: Història de la Ciència: Ciència, Història i Societat | D22: 0.913 | E22: 1 | F22: 0.942 | G22: 0.817 | H22: 0.586
B23: Modelització per a la Ciència i per l'Enginyeria | D23: 0.984 | E23: 0.961 | F23: 0.855 | G23: 0.714 | H23: 0.759
B24: Nanociència i Nanotecnologia Avançades | D24: 0.899 | E24: 0.898 | F24: 0.922 | G24: 0.977 | H24: 0.94
B25: Paleobologia i Registro Fòssil | D25: 0.342 | E25: 0 | F25: 0.453 | G25: 0.353 | H25: 1
B26: Química Industrial i Introducció a la Recerca Química | D26: 1 | E26: 0.982 | F26: 0.868 | G26: 0.942 | H26: 0.927

Sheet I55. Ratio est_prof
B2: GRAU | D2: Ràtio a assolir/PDS | E2: Ràtio assolida/Hores HIDA
E3: 2021/2022 | F3: 2022/2023 | G3: 2023/2024 | H3: 2024/2025
B4: Ciències Ambientals | D4: 13 | E4: 8.4 | F4: 13 | G4: 14.53 | H4: 11.9
B5: Ciències Ambientals i Geologia | D5: 13 | E5: 7.25 | F5: 14.7 | G5: 11.15 | H5: 10.15
B6: Estadística Aplicada | D6: 15 | E6: 10.2 | F6: 9.7 | G6: 8.35 | H6: 13.8
B7: Física | D7: 13 | E7: 12.9 | F7: 13 | G7: 12.9 | H7: 13.3
B8: Física i Matemàtiques | D8: 13 | E8: 12.2 | F8: 10.7 | G8: 12.4 | H8: 11.1
B9: Física i Química | D9: 13 | E9: 8.9 | F9: 9.4 | G9: 9.1 | H9: 9.5
B10: Geologia | D10: 13 | E10: 11 | F10: 10.7 | G10: 11.4 | H10: 11.4
B11: Matemàtica Computacional i Analítica de Dades | D11: 13 | E11: 21.2 | F11: 16.9 | G11: 13.4 | H11: 13.2
B12: Matemàtiques | D12: 15 | E12: 17.1 | F12: 12.8 | G12: 14.8 | H12: 14.2
B13: Nanociència i Nanotecnologia | D13: 13 | E13: 11.8 | F13: 13 | G13: 15.2 | H13: 14.65
B14: Química | D14: 13 | E14: 10.8 | F14: 11.6 | G14: 11.1 | H14: 11.2
B37: MÀSTER | D37: Ràtio a assolir/PDS | E37: Ràtio assolida/Hores HIDA
E38: 2021/2022 | F38: 2022/2023 | G38: 2023/2024 | H38: 2024/2025
B39: Estudis Interdisciplinaris en Sosteniblitat Ambiental, Econòmica i Social | D39: 8 | E39: 7 | F39: 6 | G39: 6 | H39: 6
B40: Física d'Altes Energíes, Astrofísica i Cosmologia | D40: 8 | E40: 6 | F40: 4 | G40: 4 | H40: 6
B41: Història de la Ciència: Ciència, Història i Societat | D41: 8 | E41: 11 | F41: 9 | G41: 8 | H41: 11
B42: Modelització per a la Ciència i per l'Enginyeria | D42: 8 | E42: 5 | F42: 9 | G42: 7 | H42: 5
B43: Nanociència i Nanotecnologia Avançades | D43: 8 | E43: 11 | F43: 10 | G43: 9 | H43: 12
B44: Paleobologia i Registro Fòssil | D44: 8 | E44: 1 | F44: 11 | G44: 7 | H44: 10
B45: Química Industrial i Introducció a la Recerca Química | D45: 8 | E45: 5 | F45: 5 | G45: 6 | H45: 6

Sheet I56. Professorat formació
B2: Percentatge de professorat que ha fet alguna activitat de formació acadèmica
B3: 2020/2021 | C3: 2021/2022 | D3: 2022/2023 | E3: 2023/2024 | F3: 2024/2025
B4: 0.68 | C4: 0.62 | D4: 0.59 | E4: 0.45 | F4: 0.49

Sheet I57. Satisfacció professorat GR
B2: GRAU DE SATISFACCIÓ | D2: Nivell d’assistència de l’alumnat a classe (aplica a dimensió 5.1)
D3: 2020/2021 | E3: 2021/2022 | F3: 2022/2023 | G3: 2023/2024 | H3: 2024/2025
B4: Totalment insatisfet/a | D4: 0.0309 | E4: 0.0515 | F4: 0.0747 | G4: 0.1213 | H4: 0.1204
B5: Bastant insatisfet/a | D5: 0.1614 | E5: 0.2957 | F5: 0.2938 | G5: 0.2995 | H5: 0.3247
B6: Neutre/indiferent | D6: 0.25 | E6: 0.1433 | F6: 0.1481 | G6: 0.1399 | H6: 0.1204
B7: Bastant satisfet/a | D7: 0.3665 | E7: 0.3774 | F7: 0.3684 | G7: 0.3366 | H7: 0.3353
B8: Totalment satisfet/a | D8: 0.1912 | E8: 0.1322 | F8: 0.1151 | G8: 0.1027 | H8: 0.0992
B19: GRAU DE SATISFACCIÓ | D19: Realització de les activitats per part de l’alumnat (aplica a dimensió 5.1)
D20: 2020/2021 | E20: 2021/2022 | F20: 2022/2023 | G20: 2023/2024 | H20: 2024/2025
B21: Totalment insatisfet/a | D21: 0.0119 | E21: 0.0212 | F21: 0.0184 | G21: 0.0309 | H21: 0.0284
B22: Bastant insatisfet/a | D22: 0.0971 | E22: 0.1342 | F22: 0.1738 | G22: 0.1669 | H22: 0.1657
B23: Neutre/indiferent | D23: 0.2042 | E23: 0.1594 | F23: 0.1677 | G23: 0.1842 | H23: 0.1988
B24: Bastant satisfet/a | D24: 0.4529 | E24: 0.5459 | F24: 0.5263 | G24: 0.5031 | H24: 0.5053
B25: Totalment satisfet/a | D25: 0.2339 | E25: 0.1393 | F25: 0.1138 | G25: 0.115 | H25: 0.1018
B30: GRAU DE SATISFACCIÓ | D30: Participació activa de l’alumnat a classe (aplica a dimensió 5.1)
D31: 2020/2021 | E31: 2021/2022 | F31: 2022/2023 | G31: 2023/2024 | H31: 2024/2025
B32: Totalment insatisfet/a | D32: 0.0617 | E32: 0.0404 | F32: 0.049 | G32: 0.0607 | H32: 0.0533
B33: Bastant insatisfet/a | D33: 0.2478 | E33: 0.2263 | F33: 0.2252 | G33: 0.2292 | H33: 0.2565
B34: Neutre/indiferent | D34: 0.2915 | E34: 0.2354 | F34: 0.2081 | G34: 0.228 | H34: 0.2292
B35: Bastant satisfet/a | D35: 0.2965 | E35: 0.4051 | F35: 0.4247 | G35: 0.4077 | H35: 0.3693
B36: Totalment satisfet/a | D36: 0.1025 | E36: 0.0929 | F36: 0.093 | G36: 0.0743 | H36: 0.0917
B45: GRAU DE SATISFACCIÓ | D45: Nivell de satisfacció general amb la titulació (5.1)
D46: 2020/2021 | E46: 2021/2022 | F46: 2022/2023 | G46: 2023/2024 | H46: 2024/2025
B47: Totalment insatisfet/a | D47: 0.014 | E47: 0.0162 | F47: 0.0122 | G47: 0.0161 | H47: 0.02
B48: Bastant insatisfet/a | D48: 0.0449 | E48: 0.0579 | F48: 0.0845 | G48: 0.0942 | H48: 0.0895
B49: Neutre/indiferent | D49: 0.1466 | E49: 0.1827 | F49: 0.1812 | G49: 0.1945 | H49: 0.1873
B50: Bastant satisfet/a | D50: 0.5952 | E50: 0.6213 | F50: 0.5802 | G50: 0.5527 | H50: 0.5724
B51: Totalment satisfet/a | D51: 0.1994 | E51: 0.1218 | F51: 0.142 | G51: 0.1425 | H51: 0.1307
B62: GRAU DE SATISFACCIÓ | D62: Coordinació docent de la titulació (aplica a dimensió 5.2)
D63: 2020/2021 | E63: 2021/2022 | F63: 2022/2023 | G63: 2023/2024 | H63: 2024/2025
B64: Totalment insatisfet/a | D64: 0.023 | E64: 0.0262 | F64: 0.0332 | G64: 0.0286 | H64: 0.0366
B65: Bastant insatisfet/a | D65: 0.0389 | E65: 0.0565 | F65: 0.0664 | G65: 0.0609 | H65: 0.0567
B66: Neutre/indiferent | D66: 0.1198 | E66: 0.1483 | F66: 0.155 | G66: 0.1702 | H66: 0.156
B67: Bastant satisfet/a | D67: 0.3862 | E67: 0.3693 | F67: 0.3739 | G67: 0.3876 | H67: 0.3771
B68: Totalment satisfet/a | D68: 0.4321 | E68: 0.3996 | F68: 0.3715 | G68: 0.3528 | H68: 0.3735
B86: GRAU DE SATISFACCIÓ | D86: Organització temporal del pla d’estudis de la titulació (aplica a dimensió 5.2)
D87: 2020/2021 | E87: 2021/2022 | F87: 2022/2023 | G87: 2023/2024 | H87: 2024/2025
B88: Totalment insatisfet/a | D88: 0.0251 | E88: 0.0305 | F88: 0.0356 | G88: 0.0337 | H88: 0.0415
B89: Bastant insatisfet/a | D89: 0.0792 | E89: 0.1078 | F89: 0.1302 | G89: 0.1286 | H89: 0.109
B90: Neutre/indiferent | D90: 0.1685 | E90: 0.2228 | F90: 0.2174 | G90: 0.216 | H90: 0.2263
...

Sheet I57. Satisfacció professorat MT
B2: GRAU DE SATISFACCIÓ | D2: Nivell d’assistència de l’alumnat a classe (aplica a dimensió 5.1)
D3: 2020/2021 | E3: 2021/2022 | F3: 2022/2023 | G3: 2023/2024 | H3: 2024/2025
B4: Totalment insatisfet/a | D4: 0.005 | E4: 0.0074 | F4: 0.0184 | G4: 0 | H4: 0.0115
B5: Bastant insatisfet/a | D5: 0.0125 | E5: 0.0446 | F5: 0.0415 | G5: 0.0383 | H5: 0.0345
B6: Neutre/indiferent | D6: 0.0723 | E6: 0.0781 | F6: 0.0369 | G6: 0.071 | H6: 0.092
B7: Bastant satisfet/a | D7: 0.3117 | E7: 0.3978 | F7: 0.4101 | G7: 0.3825 | H7: 0.4195
B8: Totalment satisfet/a | D8: 0.5985 | E8: 0.4721 | F8: 0.4931 | G8: 0.5082 | H8: 0.4425
B11: GRAU DE SATISFACCIÓ | D11: Realització de les activitats per part de l’alumnat (aplica a dimensió 5.1)
D12: 2020/2021 | E12: 2021/2022 | F12: 2022/2023 | G12: 2023/2024 | H12: 2024/2025
B13: Totalment insatisfet/a | D13: 0.0025 | E13: 0.0112 | F13: 0.0138 | G13: 0.0165 | H13: 0.0114
B14: Bastant insatisfet/a | D14: 0.0225 | E14: 0.0335 | F14: 0.0507 | G14: 0.0165 | H14: 0.0343
B15: Neutre/indiferent | D15: 0.085 | E15: 0.0669 | F15: 0.0553 | G15: 0.0824 | H15: 0.0914
B16: Bastant satisfet/a | D16: 0.4025 | E16: 0.4907 | F16: 0.5115 | G16: 0.511 | H16: 0.4629
B17: Totalment satisfet/a | D17: 0.4875 | E17: 0.3978 | F17: 0.3687 | G17: 0.3736 | H17: 0.4
B20: GRAU DE SATISFACCIÓ | D20: Participació activa de l’alumnat a classe (aplica a dimensió 5.1)
D21: 2020/2021 | E21: 2021/2022 | F21: 2022/2023 | G21: 2023/2024 | H21: 2024/2025
B22: Totalment insatisfet/a | D22: 0.0299 | E22: 0.0186 | F22: 0.0229 | G22: 0.0221 | H22: 0.0057
B23: Bastant insatisfet/a | D23: 0.0449 | E23: 0.0669 | F23: 0.0642 | G23: 0.0663 | H23: 0.0977
B24: Neutre/indiferent | D24: 0.207 | E24: 0.1524 | F24: 0.1606 | G24: 0.1326 | H24: 0.1437
B25: Bastant satisfet/a | D25: 0.4264 | E25: 0.4126 | F25: 0.4404 | G25: 0.4586 | H25: 0.4138
B26: Totalment satisfet/a | D26: 0.2918 | E26: 0.3494 | F26: 0.3119 | G26: 0.3204 | H26: 0.3391
B29: GRAU DE SATISFACCIÓ | D29: Nivell de satisfacció general amb la titulació (5.1)
D30: 2020/2021 | E30: 2021/2022 | F30: 2022/2023 | G30: 2023/2024 | H30: 2024/2025
B31: Totalment insatisfet/a | D31: 0.005 | E31: 0.0149 | F31: 0.023 | G31: 0.0055 | H31: 0.0114
B32: Bastant insatisfet/a | D32: 0.0273 | E32: 0.041 | F32: 0.0461 | G32: 0.0604 | H32: 0.0457
B33: Neutre/indiferent | D33: 0.1141 | E33: 0.0784 | F33: 0.1014 | G33: 0.1044 | H33: 0.1429
B34: Bastant satisfet/a | D34: 0.4814 | E34: 0.5187 | F34: 0.4147 | G34: 0.467 | H34: 0.4571
B35: Totalment satisfet/a | D35: 0.3722 | E35: 0.347 | F35: 0.4147 | G35: 0.3626 | H35: 0.3429
B38: GRAU DE SATISFACCIÓ | D38: Coordinació docent de la titulació (aplica a dimensió 5.2)
D39: 2020/2021 | E39: 2021/2022 | F39: 2022/2023 | G39: 2023/2024 | H39: 2024/2025
B40: Totalment insatisfet/a | D40: 0.01 | E40: 0.026 | F40: 0.0372 | G40: 0.0337 | H40: 0.0171
B41: Bastant insatisfet/a | D41: 0.0572 | E41: 0.0335 | F41: 0.0419 | G41: 0.0281 | H41: 0.0343
B42: Neutre/indiferent | D42: 0.0746 | E42: 0.0892 | F42: 0.1023 | G42: 0.0843 | H42: 0.0857
B43: Bastant satisfet/a | D43: 0.3408 | E43: 0.2677 | F43: 0.2977 | G43: 0.2809 | H43: 0.3143
B44: Totalment satisfet/a | D44: 0.5174 | E44: 0.5836 | F44: 0.5209 | G44: 0.573 | H44: 0.5486
B47: GRAU DE SATISFACCIÓ | D47: Organització temporal del pla d’estudis de la titulació (aplica a dimensió 5.2)
D48: 2020/2021 | E48: 2021/2022 | F48: 2022/2023 | G48: 2023/2024 | H48: 2024/2025
B49: Totalment insatisfet/a | D49: 0.0075 | E49: 0.0187 | F49: 0.0185 | G49: 0.0165 | H49: 0.0114
B50: Bastant insatisfet/a | D50: 0.0476 | E50: 0.0672 | F50: 0.0648 | G50: 0.0549 | H50: 0.0343
B51: Neutre/indiferent | D51: 0.1378 | E51: 0.1418 | F51: 0.125 | G51: 0.1099 | H51: 0.2171
...

Sheet I58. Incidències infraestruct
B2: Nombre d’incidències de seguretat en la infraestructura educativa
B3: 2020/2021 | C3: 2021/2022 | D3: 2022/2023 | E3: 2023/2024 | F3: 2024/2025
B4: No disposem d'aquesta dada

Sheet I65. Adequació feina estud
B2: GRAU | D2: Taxa d’adequació de la feina als estudis (enquesta AQU Catalunya)
D3: 2014 | E3: 2017 | F3: 2020 | G3: 2023
B4: Ciències Ambientals | D4: SD | E4: 46 | F4: 57.8 | G4: 69.8
B5: Estadística Aplicada | D5: SD | E5: 64.5 | F5: SD | G5: 69.9
B6: Física | D6: SD | E6: SD | F6: 59.7 | G6: 72.1
B7: Geologia | D7: SD | E7: 42.4 | F7: 66.9 | G7: 64.4
B8: Matemàtica Computacional i Analítica de Dades | D8: SD | E8: SD | F8: SD | G8: SD
B9: Matemàtiques | D9: SD | E9: SD | F9: SD | G9: 74.4
B10: Nanociència i Nanotecnologia | D10: SD | E10: SD | F10: 60.5 | G10: 64
B11: Química | D11: SD | E11: 59.2 | F11: 65.6 | G11: 70.1
B15: MÀSTER | D15: Taxa d’adequació de la feina als estudis (enquesta AQU Catalunya)
D16: 2014 | E16: 2017 | F16: 2020 | G16: 2023
B17: Estudis Interdisciplinaris en Sosteniblitat Ambiental, Econòmica i Social | D17: 47.8 | E17: 51 | F17: 53.3 | G17: 65.2
B18: Física d'Altes Energíes, Astrofísica i Cosmologia | D18: SD | E18: 64.6 | F18: SD | G18: 69
B19: Història de la Ciència: Ciència, Història i Societat | D19: 51.9 | E19: 51 | F19: 50.7 | G19: 52.3
B20: Modelització per a la Ciència i per l'Enginyeria | D20: SD | E20: 66 | F20: SD | G20: 78.3
B21: Nanociència i Nanotecnologia Avançades | D21: SD | E21: SD | F21: SD | G21: 70.7
B22: Paleobologia i Registro Fòssil | D22: 47.7 | E22: 50.8 | F22: 53.1 | G22: 64.4
B23: Química Industrial i Introducció a la Recerca Química | D23: 50.9 | E23: 58.4 | F23: 63 | G23: 71.5
